BEGIN:VCALENDAR
VERSION:2.0
PRODID:-//PawSafeAnimal Rescue - ECPv6.15.20//NONSGML v1.0//EN
CALSCALE:GREGORIAN
METHOD:PUBLISH
X-WR-CALNAME:PawSafeAnimal Rescue
X-ORIGINAL-URL:https://pawsafe.org
X-WR-CALDESC:Events for PawSafeAnimal Rescue
REFRESH-INTERVAL;VALUE=DURATION:PT1H
X-Robots-Tag:noindex
X-PUBLISHED-TTL:PT1H
BEGIN:VTIMEZONE
TZID:America/New_York
BEGIN:DAYLIGHT
TZOFFSETFROM:-0500
TZOFFSETTO:-0400
TZNAME:EDT
DTSTART:20240310T070000
END:DAYLIGHT
BEGIN:STANDARD
TZOFFSETFROM:-0400
TZOFFSETTO:-0500
TZNAME:EST
DTSTART:20241103T060000
END:STANDARD
BEGIN:DAYLIGHT
TZOFFSETFROM:-0500
TZOFFSETTO:-0400
TZNAME:EDT
DTSTART:20250309T070000
END:DAYLIGHT
BEGIN:STANDARD
TZOFFSETFROM:-0400
TZOFFSETTO:-0500
TZNAME:EST
DTSTART:20251102T060000
END:STANDARD
BEGIN:DAYLIGHT
TZOFFSETFROM:-0500
TZOFFSETTO:-0400
TZNAME:EDT
DTSTART:20260308T070000
END:DAYLIGHT
BEGIN:STANDARD
TZOFFSETFROM:-0400
TZOFFSETTO:-0500
TZNAME:EST
DTSTART:20261101T060000
END:STANDARD
END:VTIMEZONE
BEGIN:VEVENT
DTSTART;TZID=America/New_York:20250628T100000
DTEND;TZID=America/New_York:20250628T140000
DTSTAMP:20260424T034930
CREATED:20250617T153128Z
LAST-MODIFIED:20250617T153128Z
UID:10001164-1751104800-1751119200@pawsafe.org
SUMMARY:NY Adoptions @ Choice Pet Carmel - Grand Opening
DESCRIPTION:All welcome!! \nApplications preferred but not required. \nChoice Pet Carmel – Grand Opening. 1874 Route 6 Carmel\, NY 10512 (next to Starbucks)
URL:https://pawsafe.org/event/ny-adoptions-choice-pet-carmel-grand-opening/
LOCATION:Choice Pet Carmel NY\, 1874 Route 6\, Carmel\, NY\, 10512\, United States
CATEGORIES:NY Off-Site event
END:VEVENT
BEGIN:VEVENT
DTSTART;TZID=America/New_York:20250628T100000
DTEND;TZID=America/New_York:20250628T140000
DTSTAMP:20260424T034930
CREATED:20250622T132745Z
LAST-MODIFIED:20250622T132745Z
UID:10001172-1751104800-1751119200@pawsafe.org
SUMMARY:NY Adoptions @ Choice Pet Carmel Grand Opening
DESCRIPTION:
URL:https://pawsafe.org/event/ny-adoptions-choice-pet-carmel-grand-opening-2/
LOCATION:Choice Pet Carmel New Location\, 1874 US 6\, Carmel\, Putnam County\, 10512\, United States
ATTACH;FMTTYPE=image/jpeg:https://pawsafe.org/wp-content/uploads/2025/06/Choice-Pet-Grand-Opening.jpg
ORGANIZER;CN="Sharon":MAILTO:sharon@pawsafe.org
END:VEVENT
BEGIN:VEVENT
DTSTART;TZID=America/New_York:20250628T110000
DTEND;TZID=America/New_York:20250628T130000
DTSTAMP:20260424T034930
CREATED:20250326T231849Z
LAST-MODIFIED:20250418T175953Z
UID:10001068-1751108400-1751115600@pawsafe.org
SUMMARY:Adoptions - Eastford
DESCRIPTION:Applications suggested but not required
URL:https://pawsafe.org/event/adoptions-eastford-147-2-2/2025-06-28/
LOCATION:Eastford CT Shelter\, 348 Old Colony Rd\, Eastford\, CT\, 06242\, United States
CATEGORIES:CT Eastford Shelter
ATTACH;FMTTYPE=image/png:https://pawsafe.org/wp-content/uploads/2025/03/Visit-our-shelter-348-Old-Colony-Rd-Eastford-CT-Wed-4-630pm-Thurs-Sat-Sun-1130am-123opm-Stormville-NY-location-is-foster-based4.png
END:VEVENT
END:VCALENDAR