BEGIN:VCALENDAR
VERSION:2.0
PRODID:-//PawSafeAnimal Rescue - ECPv6.15.20//NONSGML v1.0//EN
CALSCALE:GREGORIAN
METHOD:PUBLISH
X-ORIGINAL-URL:https://pawsafe.org
X-WR-CALDESC:Events for PawSafeAnimal Rescue
REFRESH-INTERVAL;VALUE=DURATION:PT1H
X-Robots-Tag:noindex
X-PUBLISHED-TTL:PT1H
BEGIN:VTIMEZONE
TZID:America/New_York
BEGIN:DAYLIGHT
TZOFFSETFROM:-0500
TZOFFSETTO:-0400
TZNAME:EDT
DTSTART:20240310T070000
END:DAYLIGHT
BEGIN:STANDARD
TZOFFSETFROM:-0400
TZOFFSETTO:-0500
TZNAME:EST
DTSTART:20241103T060000
END:STANDARD
BEGIN:DAYLIGHT
TZOFFSETFROM:-0500
TZOFFSETTO:-0400
TZNAME:EDT
DTSTART:20250309T070000
END:DAYLIGHT
BEGIN:STANDARD
TZOFFSETFROM:-0400
TZOFFSETTO:-0500
TZNAME:EST
DTSTART:20251102T060000
END:STANDARD
BEGIN:DAYLIGHT
TZOFFSETFROM:-0500
TZOFFSETTO:-0400
TZNAME:EDT
DTSTART:20260308T070000
END:DAYLIGHT
BEGIN:STANDARD
TZOFFSETFROM:-0400
TZOFFSETTO:-0500
TZNAME:EST
DTSTART:20261101T060000
END:STANDARD
END:VTIMEZONE
BEGIN:VEVENT
DTSTART;TZID=America/New_York:20250928T103000
DTEND;TZID=America/New_York:20250928T123000
DTSTAMP:20260423T235543
CREATED:20250924T003844Z
LAST-MODIFIED:20250924T003844Z
UID:10001273-1759055400-1759062600@pawsafe.org
SUMMARY:Batter's Box Adoption Event
DESCRIPTION:BIG NEWS for all of our dog lovers!!!!!\nPawSafe Animal Rescue ADOPTION DAY at the Batter’s Box of Columbia on Sunday September 28th\, 10:30am – 12:30pm!\n\nPlease SHARE and mark your calendars! Batter’s Box will be announcing prizes and gifts for anyone who adopts a new friend that day\, and will have food and drinks!  PLEASE SHARE so we can make this a huge day for these animals in need!
URL:https://pawsafe.org/event/batters-box-adoption-event/
LOCATION:Batter’s Box of Columbia\, 223 Route 6\, Columbia\, CT\, United States
CATEGORIES:CT Off-site event
ATTACH;FMTTYPE=image/gif:https://pawsafe.org/wp-content/uploads/2025/09/logo.gif
END:VEVENT
BEGIN:VEVENT
DTSTART;TZID=America/New_York:20250928T110000
DTEND;TZID=America/New_York:20250928T130000
DTSTAMP:20260423T235543
CREATED:20250326T231949Z
LAST-MODIFIED:20250418T175708Z
UID:10001129-1759057200-1759064400@pawsafe.org
SUMMARY:Adoptions - Eastford
DESCRIPTION:Applications suggested but not required.
URL:https://pawsafe.org/event/adoptions-eastford-148-2/2025-09-28/
LOCATION:Eastford CT Shelter\, 348 Old Colony Rd\, Eastford\, CT\, 06242\, United States
CATEGORIES:CT Eastford Shelter
ATTACH;FMTTYPE=image/png:https://pawsafe.org/wp-content/uploads/2025/03/Visit-our-shelter-348-Old-Colony-Rd-Eastford-CT-Wed-4-630pm-Thurs-Sat-Sun-1130am-123opm-Stormville-NY-location-is-foster-based4.png
END:VEVENT
BEGIN:VEVENT
DTSTART;TZID=America/New_York:20250928T130000
DTEND;TZID=America/New_York:20250928T160000
DTSTAMP:20260423T235543
CREATED:20250813T141930Z
LAST-MODIFIED:20250813T141930Z
UID:10001185-1759064400-1759075200@pawsafe.org
SUMMARY:NY Adoptions @ Woofstock Poundridge
DESCRIPTION:
URL:https://pawsafe.org/event/ny-adoptions-woofstock-poundridge-2/
LOCATION:Pound Ridge Community Church\, 3 Pound Ridge Road\, Pound Ridge\, 10576\, United States
CATEGORIES:NY Off-Site event
ATTACH;FMTTYPE=image/png:https://pawsafe.org/wp-content/uploads/2024/09/Woofstock-2024.png
END:VEVENT
END:VCALENDAR