BEGIN:VCALENDAR
VERSION:2.0
PRODID:-//PawSafeAnimal Rescue - ECPv6.15.20//NONSGML v1.0//EN
CALSCALE:GREGORIAN
METHOD:PUBLISH
X-ORIGINAL-URL:https://pawsafe.org
X-WR-CALDESC:Events for PawSafeAnimal Rescue
REFRESH-INTERVAL;VALUE=DURATION:PT1H
X-Robots-Tag:noindex
X-PUBLISHED-TTL:PT1H
BEGIN:VTIMEZONE
TZID:America/New_York
BEGIN:DAYLIGHT
TZOFFSETFROM:-0500
TZOFFSETTO:-0400
TZNAME:EDT
DTSTART:20240310T070000
END:DAYLIGHT
BEGIN:STANDARD
TZOFFSETFROM:-0400
TZOFFSETTO:-0500
TZNAME:EST
DTSTART:20241103T060000
END:STANDARD
BEGIN:DAYLIGHT
TZOFFSETFROM:-0500
TZOFFSETTO:-0400
TZNAME:EDT
DTSTART:20250309T070000
END:DAYLIGHT
BEGIN:STANDARD
TZOFFSETFROM:-0400
TZOFFSETTO:-0500
TZNAME:EST
DTSTART:20251102T060000
END:STANDARD
BEGIN:DAYLIGHT
TZOFFSETFROM:-0500
TZOFFSETTO:-0400
TZNAME:EDT
DTSTART:20260308T070000
END:DAYLIGHT
BEGIN:STANDARD
TZOFFSETFROM:-0400
TZOFFSETTO:-0500
TZNAME:EST
DTSTART:20261101T060000
END:STANDARD
END:VTIMEZONE
BEGIN:VEVENT
DTSTART;TZID=America/New_York:20251224T120000
DTEND;TZID=America/New_York:20251224T150000
DTSTAMP:20260423T202044
CREATED:20251113T031248Z
LAST-MODIFIED:20251113T031248Z
UID:10001281-1766577600-1766588400@pawsafe.org
SUMMARY:Adoptions Eastford - Holiday Hours
DESCRIPTION:Applications preferred but not required
URL:https://pawsafe.org/event/adoptions-eastford-holiday-hours-2/
LOCATION:CT
CATEGORIES:CT Eastford Shelter
ATTACH;FMTTYPE=image/png:https://pawsafe.org/wp-content/uploads/2025/11/Oct-21.png
END:VEVENT
END:VCALENDAR