BEGIN:VCALENDAR
VERSION:2.0
PRODID:-//PawSafeAnimal Rescue - ECPv6.15.20//NONSGML v1.0//EN
CALSCALE:GREGORIAN
METHOD:PUBLISH
X-WR-CALNAME:PawSafeAnimal Rescue
X-ORIGINAL-URL:https://pawsafe.org
X-WR-CALDESC:Events for PawSafeAnimal Rescue
REFRESH-INTERVAL;VALUE=DURATION:PT1H
X-Robots-Tag:noindex
X-PUBLISHED-TTL:PT1H
BEGIN:VTIMEZONE
TZID:America/New_York
BEGIN:DAYLIGHT
TZOFFSETFROM:-0500
TZOFFSETTO:-0400
TZNAME:EDT
DTSTART:20240310T070000
END:DAYLIGHT
BEGIN:STANDARD
TZOFFSETFROM:-0400
TZOFFSETTO:-0500
TZNAME:EST
DTSTART:20241103T060000
END:STANDARD
BEGIN:DAYLIGHT
TZOFFSETFROM:-0500
TZOFFSETTO:-0400
TZNAME:EDT
DTSTART:20250309T070000
END:DAYLIGHT
BEGIN:STANDARD
TZOFFSETFROM:-0400
TZOFFSETTO:-0500
TZNAME:EST
DTSTART:20251102T060000
END:STANDARD
BEGIN:DAYLIGHT
TZOFFSETFROM:-0500
TZOFFSETTO:-0400
TZNAME:EDT
DTSTART:20260308T070000
END:DAYLIGHT
BEGIN:STANDARD
TZOFFSETFROM:-0400
TZOFFSETTO:-0500
TZNAME:EST
DTSTART:20261101T060000
END:STANDARD
END:VTIMEZONE
BEGIN:VEVENT
DTSTART;TZID=America/New_York:20251227T110000
DTEND;TZID=America/New_York:20251227T130000
DTSTAMP:20260423T201747
CREATED:20250326T231849Z
LAST-MODIFIED:20250418T175953Z
UID:10001094-1766833200-1766840400@pawsafe.org
SUMMARY:Adoptions - Eastford
DESCRIPTION:Applications suggested but not required
URL:https://pawsafe.org/event/adoptions-eastford-147-2-2/2025-12-27/
LOCATION:Eastford CT Shelter\, 348 Old Colony Rd\, Eastford\, CT\, 06242\, United States
CATEGORIES:CT Eastford Shelter
ATTACH;FMTTYPE=image/png:https://pawsafe.org/wp-content/uploads/2025/03/Visit-our-shelter-348-Old-Colony-Rd-Eastford-CT-Wed-4-630pm-Thurs-Sat-Sun-1130am-123opm-Stormville-NY-location-is-foster-based4.png
END:VEVENT
BEGIN:VEVENT
DTSTART;TZID=America/New_York:20251227T110000
DTEND;TZID=America/New_York:20251227T140000
DTSTAMP:20260423T201747
CREATED:20251217T162745Z
LAST-MODIFIED:20251227T133814Z
UID:10001287-1766833200-1766844000@pawsafe.org
SUMMARY:NY Adoptions @ Tractor Supply Patterson **** Start time change to 11am!
DESCRIPTION:The event is still on for today 12/27/25 with a start time of 11am. Take your time\, travel safely! 
URL:https://pawsafe.org/event/ny-adoptions-tractor-supply-patterson-9/
LOCATION:Tractor Supply Patterson NY\, 1253 Route 311\, Patterson\, NY\, 12563\, United States
CATEGORIES:NY Off-Site event
ATTACH;FMTTYPE=image/jpeg:https://pawsafe.org/wp-content/uploads/2025/02/Tractor-Supply-Patterson.jpg
END:VEVENT
END:VCALENDAR