BEGIN:VCALENDAR
VERSION:2.0
PRODID:-//PawSafeAnimal Rescue - ECPv6.15.20//NONSGML v1.0//EN
CALSCALE:GREGORIAN
METHOD:PUBLISH
X-WR-CALNAME:PawSafeAnimal Rescue
X-ORIGINAL-URL:https://pawsafe.org
X-WR-CALDESC:Events for PawSafeAnimal Rescue
REFRESH-INTERVAL;VALUE=DURATION:PT1H
X-Robots-Tag:noindex
X-PUBLISHED-TTL:PT1H
BEGIN:VTIMEZONE
TZID:America/New_York
BEGIN:DAYLIGHT
TZOFFSETFROM:-0500
TZOFFSETTO:-0400
TZNAME:EDT
DTSTART:20250309T070000
END:DAYLIGHT
BEGIN:STANDARD
TZOFFSETFROM:-0400
TZOFFSETTO:-0500
TZNAME:EST
DTSTART:20251102T060000
END:STANDARD
BEGIN:DAYLIGHT
TZOFFSETFROM:-0500
TZOFFSETTO:-0400
TZNAME:EDT
DTSTART:20260308T070000
END:DAYLIGHT
BEGIN:STANDARD
TZOFFSETFROM:-0400
TZOFFSETTO:-0500
TZNAME:EST
DTSTART:20261101T060000
END:STANDARD
BEGIN:DAYLIGHT
TZOFFSETFROM:-0500
TZOFFSETTO:-0400
TZNAME:EDT
DTSTART:20270314T070000
END:DAYLIGHT
BEGIN:STANDARD
TZOFFSETFROM:-0400
TZOFFSETTO:-0500
TZNAME:EST
DTSTART:20271107T060000
END:STANDARD
END:VTIMEZONE
BEGIN:VEVENT
DTSTART;TZID=America/New_York:20260221T100000
DTEND;TZID=America/New_York:20260221T120000
DTSTAMP:20260423T163949
CREATED:20260215T170306Z
LAST-MODIFIED:20260215T170306Z
UID:10001337-1771668000-1771675200@pawsafe.org
SUMMARY:NY Adoptions @ Tractor Supply Patterson
DESCRIPTION:Pups that are listed for the adoption event on this day cannot be met or adopted until this event. \n  \nPups that are listed in foster homes\, for example: NY Max (Foster in Pawling) – these dogs can be met outsdie of event days by emailing info@pawsafe.org to set up an appoinment at the foster home on weekdays/evenings and non event days.
URL:https://pawsafe.org/event/ny-adoptions-tractor-supply-patterson-15/
LOCATION:Tractor Supply Patterson NY\, 1253 Route 311\, Patterson\, NY\, 12563\, United States
CATEGORIES:NY Off-Site event
ATTACH;FMTTYPE=image/jpeg:https://pawsafe.org/wp-content/uploads/2025/02/Tractor-Supply-Patterson.jpg
END:VEVENT
BEGIN:VEVENT
DTSTART;TZID=America/New_York:20260221T100000
DTEND;TZID=America/New_York:20260221T130000
DTSTAMP:20260423T163949
CREATED:20260214T130609Z
LAST-MODIFIED:20260214T130609Z
UID:10001336-1771668000-1771678800@pawsafe.org
SUMMARY:Tractor Supply Adoption Event - Putnam CT
DESCRIPTION:
URL:https://pawsafe.org/event/tractor-supply-adoption-event-putnam-ct/
LOCATION:Tractor Supply Putnam CT\, 97 Providence Pike\, Putnam\, CT\, 06260\, United States
CATEGORIES:CT Off-site event
ATTACH;FMTTYPE=image/png:https://pawsafe.org/wp-content/uploads/2026/02/scrnli_enaN0PBWnBXftp.png
END:VEVENT
BEGIN:VEVENT
DTSTART;TZID=America/New_York:20260221T110000
DTEND;TZID=America/New_York:20260221T130000
DTSTAMP:20260423T163949
CREATED:20260102T204002Z
LAST-MODIFIED:20260102T204002Z
UID:10001102-1771671600-1771678800@pawsafe.org
SUMMARY:Adoptions - Eastford
DESCRIPTION:Applications suggested but not required
URL:https://pawsafe.org/event/adoptions-eastford-147-2-2-2/2026-02-21/
LOCATION:Eastford CT Shelter\, 348 Old Colony Rd\, Eastford\, CT\, 06242\, United States
CATEGORIES:CT Eastford Shelter
ATTACH;FMTTYPE=image/png:https://pawsafe.org/wp-content/uploads/2026/01/hours26.png
END:VEVENT
END:VCALENDAR