BEGIN:VCALENDAR
VERSION:2.0
PRODID:-//PawSafeAnimal Rescue - ECPv6.15.20//NONSGML v1.0//EN
CALSCALE:GREGORIAN
METHOD:PUBLISH
X-WR-CALNAME:PawSafeAnimal Rescue
X-ORIGINAL-URL:https://pawsafe.org
X-WR-CALDESC:Events for PawSafeAnimal Rescue
REFRESH-INTERVAL;VALUE=DURATION:PT1H
X-Robots-Tag:noindex
X-PUBLISHED-TTL:PT1H
BEGIN:VTIMEZONE
TZID:America/New_York
BEGIN:DAYLIGHT
TZOFFSETFROM:-0500
TZOFFSETTO:-0400
TZNAME:EDT
DTSTART:20250309T070000
END:DAYLIGHT
BEGIN:STANDARD
TZOFFSETFROM:-0400
TZOFFSETTO:-0500
TZNAME:EST
DTSTART:20251102T060000
END:STANDARD
BEGIN:DAYLIGHT
TZOFFSETFROM:-0500
TZOFFSETTO:-0400
TZNAME:EDT
DTSTART:20260308T070000
END:DAYLIGHT
BEGIN:STANDARD
TZOFFSETFROM:-0400
TZOFFSETTO:-0500
TZNAME:EST
DTSTART:20261101T060000
END:STANDARD
BEGIN:DAYLIGHT
TZOFFSETFROM:-0500
TZOFFSETTO:-0400
TZNAME:EDT
DTSTART:20270314T070000
END:DAYLIGHT
BEGIN:STANDARD
TZOFFSETFROM:-0400
TZOFFSETTO:-0500
TZNAME:EST
DTSTART:20271107T060000
END:STANDARD
END:VTIMEZONE
BEGIN:VEVENT
DTSTART;TZID=America/New_York:20260424T180000
DTEND;TZID=America/New_York:20260424T210000
DTSTAMP:20260423T135157
CREATED:20260419T232839Z
LAST-MODIFIED:20260419T232839Z
UID:10001452-1777053600-1777064400@pawsafe.org
SUMMARY:Pints & Paws: Puppy Snuggle Fundraiser
DESCRIPTION:[vc_row][vc_column][vc_column_text css_animation=”zoomIn” css=””]Join us at Powder Hollow Brewery for a fun evening of pints and puppy snuggles. \nhttps://www.facebook.com/share/186squPK1C/[/vc_column_text][/vc_column][/vc_row]
URL:https://pawsafe.org/event/pints-paws-puppy-snuggle-fundraiser/
LOCATION:Powder Hollow Brewery\, 504 Hazard Ave\, Enfield\, CT\, 06082\, United States
CATEGORIES:CT Off-site event
ATTACH;FMTTYPE=image/jpeg:https://pawsafe.org/wp-content/uploads/2026/04/645495562_950359177648245_3927273886417706947_n.jpg
END:VEVENT
END:VCALENDAR