BEGIN:VCALENDAR
VERSION:2.0
PRODID:-//PawSafeAnimal Rescue - ECPv6.15.20//NONSGML v1.0//EN
CALSCALE:GREGORIAN
METHOD:PUBLISH
X-ORIGINAL-URL:https://pawsafe.org
X-WR-CALDESC:Events for PawSafeAnimal Rescue
REFRESH-INTERVAL;VALUE=DURATION:PT1H
X-Robots-Tag:noindex
X-PUBLISHED-TTL:PT1H
BEGIN:VTIMEZONE
TZID:America/New_York
BEGIN:DAYLIGHT
TZOFFSETFROM:-0500
TZOFFSETTO:-0400
TZNAME:EDT
DTSTART:20230312T070000
END:DAYLIGHT
BEGIN:STANDARD
TZOFFSETFROM:-0400
TZOFFSETTO:-0500
TZNAME:EST
DTSTART:20231105T060000
END:STANDARD
BEGIN:DAYLIGHT
TZOFFSETFROM:-0500
TZOFFSETTO:-0400
TZNAME:EDT
DTSTART:20240310T070000
END:DAYLIGHT
BEGIN:STANDARD
TZOFFSETFROM:-0400
TZOFFSETTO:-0500
TZNAME:EST
DTSTART:20241103T060000
END:STANDARD
BEGIN:DAYLIGHT
TZOFFSETFROM:-0500
TZOFFSETTO:-0400
TZNAME:EDT
DTSTART:20250309T070000
END:DAYLIGHT
BEGIN:STANDARD
TZOFFSETFROM:-0400
TZOFFSETTO:-0500
TZNAME:EST
DTSTART:20251102T060000
END:STANDARD
BEGIN:DAYLIGHT
TZOFFSETFROM:-0500
TZOFFSETTO:-0400
TZNAME:EDT
DTSTART:20260308T070000
END:DAYLIGHT
BEGIN:STANDARD
TZOFFSETFROM:-0400
TZOFFSETTO:-0500
TZNAME:EST
DTSTART:20261101T060000
END:STANDARD
END:VTIMEZONE
BEGIN:VTIMEZONE
TZID:UTC
BEGIN:STANDARD
TZOFFSETFROM:+0000
TZOFFSETTO:+0000
TZNAME:UTC
DTSTART:20220101T000000
END:STANDARD
END:VTIMEZONE
BEGIN:VEVENT
DTSTART;TZID=America/New_York:20250316T110000
DTEND;TZID=America/New_York:20250316T130000
DTSTAMP:20260423T222118
CREATED:20250305T003512Z
LAST-MODIFIED:20250305T003512Z
UID:10001015-1742122800-1742130000@pawsafe.org
SUMMARY:Adoptions - Ellington
DESCRIPTION:Appointments and applications appreciated!
URL:https://pawsafe.org/event/adoptions-ellington-23/
LOCATION:Ellington CT Shelter\, 110 Sandy Beach Rd\, Ellington\, CT\, 06029\, United States
CATEGORIES:CT Ellington Shelter
ATTACH;FMTTYPE=image/png:https://pawsafe.org/wp-content/uploads/2024/09/ellington-adoptions.png
END:VEVENT
BEGIN:VEVENT
DTSTART;TZID=America/New_York:20250315T110000
DTEND;TZID=America/New_York:20250315T130000
DTSTAMP:20260423T222118
CREATED:20250305T003356Z
LAST-MODIFIED:20250305T003356Z
UID:10001014-1742036400-1742043600@pawsafe.org
SUMMARY:Adoptions - Ellington
DESCRIPTION:Appointments and applications appreciated!
URL:https://pawsafe.org/event/adoptions-ellington-22/
LOCATION:Ellington CT Shelter\, 110 Sandy Beach Rd\, Ellington\, CT\, 06029\, United States
CATEGORIES:CT Ellington Shelter
ATTACH;FMTTYPE=image/png:https://pawsafe.org/wp-content/uploads/2024/09/ellington-adoptions.png
END:VEVENT
BEGIN:VEVENT
DTSTART;TZID=America/New_York:20250313T110000
DTEND;TZID=America/New_York:20250313T130000
DTSTAMP:20260423T222118
CREATED:20250305T003014Z
LAST-MODIFIED:20250305T003014Z
UID:10001013-1741863600-1741870800@pawsafe.org
SUMMARY:Adoptions - Ellington
DESCRIPTION:Appointments and applications appreciated!
URL:https://pawsafe.org/event/adoptions-ellington-21/
LOCATION:Ellington CT Shelter\, 110 Sandy Beach Rd\, Ellington\, CT\, 06029\, United States
CATEGORIES:CT Ellington Shelter
ATTACH;FMTTYPE=image/png:https://pawsafe.org/wp-content/uploads/2024/09/ellington-adoptions.png
END:VEVENT
BEGIN:VEVENT
DTSTART;TZID=America/New_York:20250312T153000
DTEND;TZID=America/New_York:20250312T183000
DTSTAMP:20260423T222118
CREATED:20250305T002851Z
LAST-MODIFIED:20250305T002851Z
UID:10001012-1741793400-1741804200@pawsafe.org
SUMMARY:Adoptions - Ellington
DESCRIPTION:Appointments and applications appreciated!
URL:https://pawsafe.org/event/adoptions-ellington-20/
LOCATION:Ellington CT Shelter\, 110 Sandy Beach Rd\, Ellington\, CT\, 06029\, United States
CATEGORIES:CT Ellington Shelter
ATTACH;FMTTYPE=image/png:https://pawsafe.org/wp-content/uploads/2024/09/ellington-adoptions.png
END:VEVENT
BEGIN:VEVENT
DTSTART;TZID=America/New_York:20241027T110000
DTEND;TZID=America/New_York:20241027T130000
DTSTAMP:20260423T222118
CREATED:20240921T004510Z
LAST-MODIFIED:20241020T002419Z
UID:10000481-1730026800-1730034000@pawsafe.org
SUMMARY:Adoptions – Ellington CT
DESCRIPTION:Application and Appointments requested but not required!
URL:https://pawsafe.org/event/adoptions-ellington-ct-2/
LOCATION:Ellington CT Shelter\, 110 Sandy Beach Rd\, Ellington\, CT\, 06029\, United States
CATEGORIES:CT Ellington Shelter
ATTACH;FMTTYPE=image/png:https://pawsafe.org/wp-content/uploads/2024/09/ellington-adoptions.png
END:VEVENT
BEGIN:VEVENT
DTSTART;TZID=America/New_York:20241026T110000
DTEND;TZID=America/New_York:20241026T130000
DTSTAMP:20260423T222118
CREATED:20240921T001635Z
LAST-MODIFIED:20241020T002346Z
UID:10000419-1729940400-1729947600@pawsafe.org
SUMMARY:Adoptions – Ellington CT
DESCRIPTION:Application and Appointments requested but not required!
URL:https://pawsafe.org/event/adoptions-eastford-135/
LOCATION:Ellington CT Shelter\, 110 Sandy Beach Rd\, Ellington\, CT\, 06029\, United States
CATEGORIES:CT Ellington Shelter
ATTACH;FMTTYPE=image/png:https://pawsafe.org/wp-content/uploads/2024/09/ellington-adoptions.png
END:VEVENT
BEGIN:VEVENT
DTSTART;TZID=America/New_York:20241024T110000
DTEND;TZID=America/New_York:20241024T130000
DTSTAMP:20260423T222118
CREATED:20240921T005235Z
LAST-MODIFIED:20241020T002316Z
UID:10000484-1729767600-1729774800@pawsafe.org
SUMMARY:Adoptions – Ellington CT
DESCRIPTION:Application and Appointments requested but not required!
URL:https://pawsafe.org/event/adoptions-ellington-ct/
LOCATION:Ellington CT Shelter\, 110 Sandy Beach Rd\, Ellington\, CT\, 06029\, United States
CATEGORIES:CT Ellington Shelter
ATTACH;FMTTYPE=image/png:https://pawsafe.org/wp-content/uploads/2024/09/ellington-adoptions.png
END:VEVENT
BEGIN:VEVENT
DTSTART;TZID=America/New_York:20241023T153000
DTEND;TZID=America/New_York:20241023T190000
DTSTAMP:20260423T222118
CREATED:20240921T004048Z
LAST-MODIFIED:20240921T012235Z
UID:10000424-1729697400-1729710000@pawsafe.org
SUMMARY:Adoptions – Ellington
DESCRIPTION:Application and Appointments requested but not required!
URL:https://pawsafe.org/event/adoptions-ellington-19/
LOCATION:Ellington CT Shelter\, 110 Sandy Beach Rd\, Ellington\, CT\, 06029\, United States
CATEGORIES:CT Ellington Shelter
ATTACH;FMTTYPE=image/png:https://pawsafe.org/wp-content/uploads/2024/09/ellington-adoptions.png
END:VEVENT
BEGIN:VEVENT
DTSTART;TZID=America/New_York:20241020T110000
DTEND;TZID=America/New_York:20241020T130000
DTSTAMP:20260423T222118
CREATED:20240921T004737Z
LAST-MODIFIED:20241020T002222Z
UID:10000483-1729422000-1729429200@pawsafe.org
SUMMARY:Adoptions – Ellington CT
DESCRIPTION:Application and Appointments requested but not required!
URL:https://pawsafe.org/event/adoptions-ellington-ct-4/
LOCATION:Ellington CT Shelter\, 110 Sandy Beach Rd\, Ellington\, CT\, 06029\, United States
CATEGORIES:CT Ellington Shelter
ATTACH;FMTTYPE=image/png:https://pawsafe.org/wp-content/uploads/2024/09/ellington-adoptions.png
END:VEVENT
BEGIN:VEVENT
DTSTART;TZID=UTC:20240302T103000
DTEND;TZID=UTC:20240302T130000
DTSTAMP:20260423T222118
CREATED:20240212T214939Z
LAST-MODIFIED:20240301T042946Z
UID:10000166-1709375400-1709384400@pawsafe.org
SUMMARY:Adoptions - Ellington
DESCRIPTION:Application and Appointments requested but not required!
URL:https://pawsafe.org/event/adoptions-eastford-67/
LOCATION:Ellington CT Shelter\, 110 Sandy Beach Rd\, Ellington\, CT\, 06029\, United States
CATEGORIES:CT Ellington Shelter
END:VEVENT
BEGIN:VEVENT
DTSTART;TZID=UTC:20231209T103000
DTEND;TZID=UTC:20231209T123000
DTSTAMP:20260423T222118
CREATED:20231126T014006Z
LAST-MODIFIED:20231126T014006Z
UID:10000134-1702117800-1702125000@pawsafe.org
SUMMARY:Adoption Event (Ellington CT)
DESCRIPTION:
URL:https://pawsafe.org/event/adoption-event-ellington-ct/
LOCATION:Ellington CT Shelter\, 110 Sandy Beach Rd\, Ellington\, CT\, 06029\, United States
CATEGORIES:CT Ellington Shelter
END:VEVENT
BEGIN:VEVENT
DTSTART;TZID=UTC:20231007T103000
DTEND;TZID=UTC:20231007T123000
DTSTAMP:20260423T222118
CREATED:20231003T185319Z
LAST-MODIFIED:20231004T213458Z
UID:10000118-1696674600-1696681800@pawsafe.org
SUMMARY:Adoption Event (Ellington CT)
DESCRIPTION:
URL:https://pawsafe.org/event/johnny-appleseeds-adoption-event-ct/
LOCATION:Ellington CT Shelter\, 110 Sandy Beach Rd\, Ellington\, CT\, 06029\, United States
CATEGORIES:CT Ellington Shelter
END:VEVENT
BEGIN:VEVENT
DTSTART;TZID=UTC:20230930T103000
DTEND;TZID=UTC:20230930T123000
DTSTAMP:20260423T222118
CREATED:20230928T231036Z
LAST-MODIFIED:20230928T231036Z
UID:10000115-1696069800-1696077000@pawsafe.org
SUMMARY:Adoptions - Ellington
DESCRIPTION:Application and Appointments requested but not required!
URL:https://pawsafe.org/event/adoptions-ellington-18/
LOCATION:Ellington CT Shelter\, 110 Sandy Beach Rd\, Ellington\, CT\, 06029\, United States
CATEGORIES:CT Ellington Shelter
END:VEVENT
BEGIN:VEVENT
DTSTART;TZID=UTC:20230909T103000
DTEND;TZID=UTC:20230909T123000
DTSTAMP:20260423T222118
CREATED:20230901T193616Z
LAST-MODIFIED:20230901T193616Z
UID:10000102-1694255400-1694262600@pawsafe.org
SUMMARY:Adoptions - Ellington
DESCRIPTION:Application and Appointments requested but not required!
URL:https://pawsafe.org/event/adoptions-ellington-16/
LOCATION:Ellington CT Shelter\, 110 Sandy Beach Rd\, Ellington\, CT\, 06029\, United States
CATEGORIES:CT Ellington Shelter
END:VEVENT
BEGIN:VEVENT
DTSTART;TZID=UTC:20230907T170000
DTEND;TZID=UTC:20230907T190000
DTSTAMP:20260423T222118
CREATED:20230901T193701Z
LAST-MODIFIED:20230901T193701Z
UID:10000103-1694106000-1694113200@pawsafe.org
SUMMARY:Adoptions - Ellington
DESCRIPTION:Application and Appointments requested but not required!
URL:https://pawsafe.org/event/adoptions-ellington-17/
LOCATION:Ellington CT Shelter\, 110 Sandy Beach Rd\, Ellington\, CT\, 06029\, United States
CATEGORIES:CT Ellington Shelter
END:VEVENT
BEGIN:VEVENT
DTSTART;TZID=UTC:20230520T103000
DTEND;TZID=UTC:20230520T123000
DTSTAMP:20260423T222118
CREATED:20230514T235830Z
LAST-MODIFIED:20230514T235830Z
UID:10000053-1684578600-1684585800@pawsafe.org
SUMMARY:Adoptions - Ellington
DESCRIPTION:Application and Appointments requested but not required!
URL:https://pawsafe.org/event/adoptions-ellington-15/
LOCATION:Ellington CT Shelter\, 110 Sandy Beach Rd\, Ellington\, CT\, 06029\, United States
CATEGORIES:CT Ellington Shelter
END:VEVENT
BEGIN:VEVENT
DTSTART;TZID=UTC:20230517T163000
DTEND;TZID=UTC:20230517T183000
DTSTAMP:20260423T222118
CREATED:20230514T165121Z
LAST-MODIFIED:20230514T165121Z
UID:10000051-1684341000-1684348200@pawsafe.org
SUMMARY:Adoptions - Ellington
DESCRIPTION:Application and Appointments requested but not required!
URL:https://pawsafe.org/event/adoptions-ellington-13/
LOCATION:Ellington CT Shelter\, 110 Sandy Beach Rd\, Ellington\, CT\, 06029\, United States
CATEGORIES:CT Ellington Shelter
END:VEVENT
BEGIN:VEVENT
DTSTART;TZID=UTC:20230429T110000
DTEND;TZID=UTC:20230429T130000
DTSTAMP:20260423T222118
CREATED:20230409T162904Z
LAST-MODIFIED:20230409T162904Z
UID:10000041-1682766000-1682773200@pawsafe.org
SUMMARY:Adoptions - Ellington
DESCRIPTION:Application and Appointments requested but not required!
URL:https://pawsafe.org/event/adoptions-ellington-12/
LOCATION:Ellington CT Shelter\, 110 Sandy Beach Rd\, Ellington\, CT\, 06029\, United States
CATEGORIES:CT Ellington Shelter
END:VEVENT
BEGIN:VEVENT
DTSTART;TZID=UTC:20230401T103000
DTEND;TZID=UTC:20230401T123000
DTSTAMP:20260423T222118
CREATED:20230328T233003Z
LAST-MODIFIED:20230328T233003Z
UID:10000034-1680345000-1680352200@pawsafe.org
SUMMARY:Adoptions - Ellington
DESCRIPTION:Application and Appointments requested but not required!
URL:https://pawsafe.org/event/adoptions-ellington-11/
LOCATION:Ellington CT Shelter\, 110 Sandy Beach Rd\, Ellington\, CT\, 06029\, United States
CATEGORIES:CT Ellington Shelter
END:VEVENT
BEGIN:VEVENT
DTSTART;TZID=UTC:20230329T170000
DTEND;TZID=UTC:20230329T190000
DTSTAMP:20260423T222118
CREATED:20230328T232913Z
LAST-MODIFIED:20230328T232913Z
UID:10000033-1680109200-1680116400@pawsafe.org
SUMMARY:Adoptions - Ellington
DESCRIPTION:Application and Appointments requested but not required!
URL:https://pawsafe.org/event/adoptions-ellington-10/
LOCATION:Ellington CT Shelter\, 110 Sandy Beach Rd\, Ellington\, CT\, 06029\, United States
CATEGORIES:CT Ellington Shelter
END:VEVENT
BEGIN:VEVENT
DTSTART;TZID=UTC:20230325T110000
DTEND;TZID=UTC:20230325T130000
DTSTAMP:20260423T222118
CREATED:20230312T180843Z
LAST-MODIFIED:20230312T180843Z
UID:10000027-1679742000-1679749200@pawsafe.org
SUMMARY:Adoptions - Ellington
DESCRIPTION:Application and Appointments requested but not required!
URL:https://pawsafe.org/event/adoptions-ellington-9/
LOCATION:Ellington CT Shelter\, 110 Sandy Beach Rd\, Ellington\, CT\, 06029\, United States
CATEGORIES:CT Ellington Shelter
END:VEVENT
BEGIN:VEVENT
DTSTART;TZID=UTC:20230322T170000
DTEND;TZID=UTC:20230322T190000
DTSTAMP:20260423T222118
CREATED:20230312T180808Z
LAST-MODIFIED:20230312T180808Z
UID:10000026-1679504400-1679511600@pawsafe.org
SUMMARY:Adoptions - Ellington
DESCRIPTION:Application and Appointments requested but not required!
URL:https://pawsafe.org/event/adoptions-ellington-8/
LOCATION:Ellington CT Shelter\, 110 Sandy Beach Rd\, Ellington\, CT\, 06029\, United States
CATEGORIES:CT Ellington Shelter
END:VEVENT
BEGIN:VEVENT
DTSTART;TZID=UTC:20230305T113000
DTEND;TZID=UTC:20230305T130000
DTSTAMP:20260423T222118
CREATED:20230227T233012Z
LAST-MODIFIED:20230227T233527Z
UID:10000018-1678015800-1678021200@pawsafe.org
SUMMARY:Adoptions - Ellington
DESCRIPTION:Application and Appointments requested but not required!
URL:https://pawsafe.org/event/adoptions-ellington-6/
LOCATION:Ellington CT Shelter\, 110 Sandy Beach Rd\, Ellington\, CT\, 06029\, United States
CATEGORIES:CT Ellington Shelter
END:VEVENT
BEGIN:VEVENT
DTSTART;TZID=UTC:20230304T103000
DTEND;TZID=UTC:20230304T123000
DTSTAMP:20260423T222118
CREATED:20230221T194101Z
LAST-MODIFIED:20230221T194101Z
UID:10000017-1677925800-1677933000@pawsafe.org
SUMMARY:Adoptions - Ellington
DESCRIPTION:Application and Appointments requested but not required!
URL:https://pawsafe.org/event/adoptions-ellington-5/
LOCATION:Ellington CT Shelter\, 110 Sandy Beach Rd\, Ellington\, CT\, 06029\, United States
CATEGORIES:CT Ellington Shelter
END:VEVENT
BEGIN:VEVENT
DTSTART;TZID=UTC:20230301T163000
DTEND;TZID=UTC:20230301T183000
DTSTAMP:20260423T222118
CREATED:20230221T193900Z
LAST-MODIFIED:20230221T193900Z
UID:10000015-1677688200-1677695400@pawsafe.org
SUMMARY:Adoptions – Ellington
DESCRIPTION:Application and Appointments requested but not required!
URL:https://pawsafe.org/event/adoptions-ellington-4/
LOCATION:Ellington CT Shelter\, 110 Sandy Beach Rd\, Ellington\, CT\, 06029\, United States
CATEGORIES:CT Ellington Shelter
END:VEVENT
BEGIN:VEVENT
DTSTART;TZID=UTC:20230227T110000
DTEND;TZID=UTC:20230227T140000
DTSTAMP:20260423T222118
CREATED:20230227T233355Z
LAST-MODIFIED:20230228T000234Z
UID:10000021-1677495600-1677506400@pawsafe.org
SUMMARY:Adoptions - Ellington
DESCRIPTION:Application and Appointments requested but not required!
URL:https://pawsafe.org/event/adoptions-ellington-7/
LOCATION:Ellington CT Shelter\, 110 Sandy Beach Rd\, Ellington\, CT\, 06029\, United States
CATEGORIES:CT Ellington Shelter
END:VEVENT
BEGIN:VEVENT
DTSTART;TZID=UTC:20230225T103000
DTEND;TZID=UTC:20230225T123000
DTSTAMP:20260423T222118
CREATED:20230221T011757Z
LAST-MODIFIED:20230221T011757Z
UID:10000013-1677321000-1677328200@pawsafe.org
SUMMARY:Adoptions - Ellington
DESCRIPTION:Application and Appointments requested but not required!
URL:https://pawsafe.org/event/adoptions-ellington-3/
LOCATION:Ellington CT Shelter\, 110 Sandy Beach Rd\, Ellington\, CT\, 06029\, United States
CATEGORIES:CT Ellington Shelter
END:VEVENT
BEGIN:VEVENT
DTSTART;TZID=UTC:20230222T163000
DTEND;TZID=UTC:20230222T183000
DTSTAMP:20260423T222118
CREATED:20230214T012241Z
LAST-MODIFIED:20230214T012241Z
UID:10000004-1677083400-1677090600@pawsafe.org
SUMMARY:Adoptions - Ellington
DESCRIPTION:Application and Appointments requested but not required!
URL:https://pawsafe.org/event/adoptions-ellington-2/
LOCATION:Ellington CT Shelter\, 110 Sandy Beach Rd\, Ellington\, CT\, 06029\, United States
CATEGORIES:CT Ellington Shelter
END:VEVENT
BEGIN:VEVENT
DTSTART;TZID=UTC:20230215T163000
DTEND;TZID=UTC:20230215T183000
DTSTAMP:20260423T222118
CREATED:20230214T002331Z
LAST-MODIFIED:20230214T013600Z
UID:10000001-1676478600-1676485800@pawsafe.org
SUMMARY:Adoptions - Ellington
DESCRIPTION:Application and Appointments requested but not required!
URL:https://pawsafe.org/event/adoptions-ellington/
LOCATION:Ellington CT Shelter\, 110 Sandy Beach Rd\, Ellington\, CT\, 06029\, United States
CATEGORIES:CT Ellington Shelter
END:VEVENT
END:VCALENDAR