BEGIN:VCALENDAR
VERSION:2.0
PRODID:-//PawSafeAnimal Rescue - ECPv6.15.20//NONSGML v1.0//EN
CALSCALE:GREGORIAN
METHOD:PUBLISH
X-ORIGINAL-URL:https://pawsafe.org
X-WR-CALDESC:Events for PawSafeAnimal Rescue
REFRESH-INTERVAL;VALUE=DURATION:PT1H
X-Robots-Tag:noindex
X-PUBLISHED-TTL:PT1H
BEGIN:VTIMEZONE
TZID:UTC
BEGIN:STANDARD
TZOFFSETFROM:+0000
TZOFFSETTO:+0000
TZNAME:UTC
DTSTART:20240101T000000
END:STANDARD
END:VTIMEZONE
BEGIN:VTIMEZONE
TZID:America/New_York
BEGIN:DAYLIGHT
TZOFFSETFROM:-0500
TZOFFSETTO:-0400
TZNAME:EDT
DTSTART:20240310T070000
END:DAYLIGHT
BEGIN:STANDARD
TZOFFSETFROM:-0400
TZOFFSETTO:-0500
TZNAME:EST
DTSTART:20241103T060000
END:STANDARD
BEGIN:DAYLIGHT
TZOFFSETFROM:-0500
TZOFFSETTO:-0400
TZNAME:EDT
DTSTART:20250309T070000
END:DAYLIGHT
BEGIN:STANDARD
TZOFFSETFROM:-0400
TZOFFSETTO:-0500
TZNAME:EST
DTSTART:20251102T060000
END:STANDARD
BEGIN:DAYLIGHT
TZOFFSETFROM:-0500
TZOFFSETTO:-0400
TZNAME:EDT
DTSTART:20260308T070000
END:DAYLIGHT
BEGIN:STANDARD
TZOFFSETFROM:-0400
TZOFFSETTO:-0500
TZNAME:EST
DTSTART:20261101T060000
END:STANDARD
END:VTIMEZONE
BEGIN:VEVENT
DTSTART;TZID=UTC:20250907T100000
DTEND;TZID=UTC:20250907T130000
DTSTAMP:20260424T022902
CREATED:20250810T001218Z
LAST-MODIFIED:20250810T001218Z
UID:10001181-1757239200-1757250000@pawsafe.org
SUMMARY:Coventry CT Farmers Market
DESCRIPTION:Applications preferred\, first come/first serve adoptions.
URL:https://pawsafe.org/event/coventry-ct-farmers-market-2/
LOCATION:Coventry Farmers’ Market\, 2299 South St\, Coventry\, CT\, 06238\, United States
CATEGORIES:CT Off-site event
ATTACH;FMTTYPE=image/png:https://pawsafe.org/wp-content/uploads/2024/08/coventry-farmers-market-logo-2x.png
END:VEVENT
BEGIN:VEVENT
DTSTART;TZID=America/New_York:20250914T100000
DTEND;TZID=America/New_York:20250914T120000
DTSTAMP:20260424T022902
CREATED:20250810T001314Z
LAST-MODIFIED:20250810T001314Z
UID:10001182-1757844000-1757851200@pawsafe.org
SUMMARY:Adoptions at Ashford Farmers Market (CT)
DESCRIPTION:All welcome!
URL:https://pawsafe.org/event/adoptions-at-ashford-farmers-market-ct-3/
LOCATION:Ashford Farmers Market (CT)\, 25 Tremko Lane\, Pompey Hollow Park\, Ashford\, CT\, 06278\, United States
CATEGORIES:CT Off-site event
END:VEVENT
BEGIN:VEVENT
DTSTART;TZID=America/New_York:20250928T103000
DTEND;TZID=America/New_York:20250928T123000
DTSTAMP:20260424T022902
CREATED:20250924T003844Z
LAST-MODIFIED:20250924T003844Z
UID:10001273-1759055400-1759062600@pawsafe.org
SUMMARY:Batter's Box Adoption Event
DESCRIPTION:BIG NEWS for all of our dog lovers!!!!!\nPawSafe Animal Rescue ADOPTION DAY at the Batter’s Box of Columbia on Sunday September 28th\, 10:30am – 12:30pm!\n\nPlease SHARE and mark your calendars! Batter’s Box will be announcing prizes and gifts for anyone who adopts a new friend that day\, and will have food and drinks!  PLEASE SHARE so we can make this a huge day for these animals in need!
URL:https://pawsafe.org/event/batters-box-adoption-event/
LOCATION:Batter’s Box of Columbia\, 223 Route 6\, Columbia\, CT\, United States
CATEGORIES:CT Off-site event
ATTACH;FMTTYPE=image/gif:https://pawsafe.org/wp-content/uploads/2025/09/logo.gif
END:VEVENT
END:VCALENDAR