BEGIN:VCALENDAR
VERSION:2.0
PRODID:-//PawSafeAnimal Rescue - ECPv6.15.20//NONSGML v1.0//EN
CALSCALE:GREGORIAN
METHOD:PUBLISH
X-ORIGINAL-URL:https://pawsafe.org
X-WR-CALDESC:Events for PawSafeAnimal Rescue
REFRESH-INTERVAL;VALUE=DURATION:PT1H
X-Robots-Tag:noindex
X-PUBLISHED-TTL:PT1H
BEGIN:VTIMEZONE
TZID:UTC
BEGIN:STANDARD
TZOFFSETFROM:+0000
TZOFFSETTO:+0000
TZNAME:UTC
DTSTART:20220101T000000
END:STANDARD
END:VTIMEZONE
BEGIN:VEVENT
DTSTART;TZID=UTC:20231111T100000
DTEND;TZID=UTC:20231111T130000
DTSTAMP:20260424T121255
CREATED:20230816T062631Z
LAST-MODIFIED:20231029T041127Z
UID:10000095-1699696800-1699707600@pawsafe.org
SUMMARY:CT Photos with Santa
DESCRIPTION:Applications preferred but no appointment needed.  First come/first serve \n 
URL:https://pawsafe.org/event/ct-photos-with-santa/
LOCATION:Babcock Library\, 25 Pompey Hollow Rd\, Ashford\, CT\, 06278\, United States
CATEGORIES:CT Off-site event
ATTACH;FMTTYPE=image/jpeg:https://pawsafe.org/wp-content/uploads/2023/08/photos-with-santa.jpg
END:VEVENT
BEGIN:VEVENT
DTSTART;TZID=UTC:20231029T130000
DTEND;TZID=UTC:20231029T150000
DTSTAMP:20260424T121255
CREATED:20230928T232238Z
LAST-MODIFIED:20231005T005922Z
UID:10000116-1698584400-1698591600@pawsafe.org
SUMMARY:Sonny's Place - Adoption event (CT)
DESCRIPTION:Applications requested but not required.
URL:https://pawsafe.org/event/sonnys-place-adoption-event-ct-2/
LOCATION:Sonny’s Place – Somers CT\, 349 Main Street\, Somers\, 06071\, United States
CATEGORIES:CT Off-site event
END:VEVENT
BEGIN:VEVENT
DTSTART;TZID=UTC:20231021T100000
DTEND;TZID=UTC:20231021T140000
DTSTAMP:20260424T121255
CREATED:20230214T024853Z
LAST-MODIFIED:20230214T024853Z
UID:10000010-1697882400-1697896800@pawsafe.org
SUMMARY:Four Town Fairground (CT) Adoption event
DESCRIPTION:Come visit us at the Four Town Fair Grounds adoption event.  Applications preferred but no appointment needed.  First come/first serve
URL:https://pawsafe.org/event/four-town-fairground-ct-adoption-event/
LOCATION:Four Town Fair in Somers CT\, 56 Egypt Rd\, Somers\, CT\, 06071\, United States
CATEGORIES:CT Off-site event
END:VEVENT
BEGIN:VEVENT
DTSTART;TZID=UTC:20231015T100000
DTEND;TZID=UTC:20231015T130000
DTSTAMP:20260424T121255
CREATED:20231012T220109Z
LAST-MODIFIED:20231012T220212Z
UID:10000119-1697364000-1697374800@pawsafe.org
SUMMARY:Tolland Farmers Market Adoption Event (CT)
DESCRIPTION:No appointments needed!
URL:https://pawsafe.org/event/tolland-farmers-market-adoption-event-ct/
LOCATION:Tolland Farmers Market (CT)\, 21 Tolland Green\, Tolland\, CT\, 06084\, United States
CATEGORIES:CT Off-site event
END:VEVENT
BEGIN:VEVENT
DTSTART;TZID=UTC:20231014T120000
DTEND;TZID=UTC:20231014T140000
DTSTAMP:20260424T121255
CREATED:20230928T230031Z
LAST-MODIFIED:20230928T230031Z
UID:10000112-1697284800-1697292000@pawsafe.org
SUMMARY:Tractor Supply Adoption Event (Stafford CT)
DESCRIPTION:Application and Appointments requested but not required!
URL:https://pawsafe.org/event/tractor-supply-adoption-event-stafford-ct-2/
LOCATION:Tractor Supply Stafford CT\, 54 W Stafford Rd\, Stafford\, CT\, 06076\, United States
CATEGORIES:CT Off-site event
END:VEVENT
BEGIN:VEVENT
DTSTART;TZID=UTC:20231014T100000
DTEND;TZID=UTC:20231014T150000
DTSTAMP:20260424T121255
CREATED:20230928T230437Z
LAST-MODIFIED:20230928T230437Z
UID:10000113-1697277600-1697295600@pawsafe.org
SUMMARY:Enfield Fall Festival Adoption Event (CT)
DESCRIPTION:
URL:https://pawsafe.org/event/enfield-fall-festival-adoption-event-ct/
LOCATION:Enfield Town Green\, 81-199 N Main Street\, Enfield\, CT\, 06082\, United States
CATEGORIES:CT Off-site event
END:VEVENT
BEGIN:VEVENT
DTSTART;TZID=UTC:20230930T090000
DTEND;TZID=UTC:20230930T120000
DTSTAMP:20260424T121255
CREATED:20230901T195042Z
LAST-MODIFIED:20230929T201043Z
UID:10000107-1696064400-1696075200@pawsafe.org
SUMMARY:Ellington CT Farmers Market - CANCELLED DUE TO RAIN
DESCRIPTION:Please visit our shelter in Ellington instead – 110 Sandy Beach Rd\, Ellington CT
URL:https://pawsafe.org/event/ellington-ct-farmers-market-5/
LOCATION:Ellington CT Farmers Market\, 72 Maple Street\, Ellington\, CT\, 06076\, United States
CATEGORIES:CT Off-site event
END:VEVENT
BEGIN:VEVENT
DTSTART;TZID=UTC:20230916T103000
DTEND;TZID=UTC:20230916T123000
DTSTAMP:20260424T121255
CREATED:20230901T194721Z
LAST-MODIFIED:20230901T194721Z
UID:10000105-1694860200-1694867400@pawsafe.org
SUMMARY:CT - Adoptions at The Proper Pet
DESCRIPTION:Application and Appointments requested but not required!
URL:https://pawsafe.org/event/ct-adoptions-at-the-proper-pet/
LOCATION:Proper Pet\, 33 Fieldstone Cmns\, Tolland\, CT\, 06084\, United States
CATEGORIES:CT Off-site event
END:VEVENT
BEGIN:VEVENT
DTSTART;TZID=UTC:20230915T160000
DTEND;TZID=UTC:20230915T200000
DTSTAMP:20260424T121255
CREATED:20230901T194950Z
LAST-MODIFIED:20230901T194950Z
UID:10000106-1694793600-1694808000@pawsafe.org
SUMMARY:Adoptions - Worthington Winery (Somers CT)
DESCRIPTION:Application and Appointments requested but not required!
URL:https://pawsafe.org/event/adoptions-worthington-winery-somers-ct-2/
LOCATION:Worthington Vineyard and Winery (CT)\, 359 Mountain Rd\, Somers\, CT\, 06071\, United States
CATEGORIES:CT Off-site event
END:VEVENT
BEGIN:VEVENT
DTSTART;TZID=UTC:20230910T093000
DTEND;TZID=UTC:20230910T163000
DTSTAMP:20260424T121255
CREATED:20230901T194231Z
LAST-MODIFIED:20230901T194231Z
UID:10000104-1694338200-1694363400@pawsafe.org
SUMMARY:CT adoptions at Stafford Farm Day
DESCRIPTION:Pass by and meet some amazing puppies/dogs for adoption and enjoy a great day with over 100 vendors\, live music\, and food trucks!
URL:https://pawsafe.org/event/ct-adoptions-at-stafford-farm-day/
LOCATION:Farm Day @ Heritage Park CT\, 21 Stafford Street\, Stafford\, CT\, 06076\, United States
CATEGORIES:CT Off-site event
END:VEVENT
BEGIN:VEVENT
DTSTART;TZID=UTC:20230908T180000
DTEND;TZID=UTC:20230908T200000
DTSTAMP:20260424T121255
CREATED:20230820T221913Z
LAST-MODIFIED:20230820T221913Z
UID:10000097-1694196000-1694203200@pawsafe.org
SUMMARY:Arts on Main (CT)
DESCRIPTION:Enjoy Arts on Main in Stafford CT and meet some adoptable puppies as well!  No appointments needed.
URL:https://pawsafe.org/event/arts-on-main-ct/
LOCATION:Arts on Main\, Main Street\, Stafford\, CT\, 06076\, United States
CATEGORIES:CT Off-site event
END:VEVENT
BEGIN:VEVENT
DTSTART;TZID=UTC:20230903T100000
DTEND;TZID=UTC:20230903T130000
DTSTAMP:20260424T121255
CREATED:20230901T193423Z
LAST-MODIFIED:20230901T193729Z
UID:10000100-1693735200-1693746000@pawsafe.org
SUMMARY:Coventry CT Farmers Market
DESCRIPTION:Applications preferred\, first come/first serve adoptions.
URL:https://pawsafe.org/event/ellington-ct-farmers-market-4/
LOCATION:Coventry Farmers’ Market\, 2299 South St\, Coventry\, CT\, 06238\, United States
CATEGORIES:CT Off-site event
END:VEVENT
BEGIN:VEVENT
DTSTART;TZID=UTC:20230826T120000
DTEND;TZID=UTC:20230826T150000
DTSTAMP:20260424T121255
CREATED:20230821T005617Z
LAST-MODIFIED:20230821T005617Z
UID:10000098-1693051200-1693062000@pawsafe.org
SUMMARY:Tractor Supply Adoption Event (Vernon CT)
DESCRIPTION:Application and Appointments requested but not required!
URL:https://pawsafe.org/event/tractor-supply-adoption-event-vernon-ct-2/
LOCATION:Tractor Supply Vernon CT\, 404 Talcottville Rd\, Vernon\, CT\, 06066\, United States
CATEGORIES:CT Off-site event
END:VEVENT
BEGIN:VEVENT
DTSTART;TZID=UTC:20230826T110000
DTEND;TZID=UTC:20230826T130000
DTSTAMP:20260424T121255
CREATED:20230820T220932Z
LAST-MODIFIED:20230820T221044Z
UID:10000096-1693047600-1693054800@pawsafe.org
SUMMARY:Pilates w/puppies at Worthington Vineyard
DESCRIPTION:Join us for some PUPPY PILATES and adoptions!  Applications for adoption preferred.  First come/First Served event.
URL:https://pawsafe.org/event/pilates-w-puppies-at-worthington-vineyard/
LOCATION:Worthington Vineyard and Winery (CT)\, 359 Mountain Rd\, Somers\, CT\, 06071\, United States
CATEGORIES:CT Off-site event
END:VEVENT
BEGIN:VEVENT
DTSTART;TZID=UTC:20230819T090000
DTEND;TZID=UTC:20230819T120000
DTSTAMP:20260424T121255
CREATED:20230730T190754Z
LAST-MODIFIED:20230730T190754Z
UID:10000087-1692435600-1692446400@pawsafe.org
SUMMARY:Ellington CT Farmers Market
DESCRIPTION:Applications preferred\, first come/first serve adoptions.
URL:https://pawsafe.org/event/ellington-ct-farmers-market-3/
LOCATION:Ellington CT Farmers Market\, 72 Maple Street\, Ellington\, CT\, 06076\, United States
CATEGORIES:CT Off-site event
END:VEVENT
BEGIN:VEVENT
DTSTART;TZID=UTC:20230805T130000
DTEND;TZID=UTC:20230805T170000
DTSTAMP:20260424T121255
CREATED:20230730T190620Z
LAST-MODIFIED:20230730T190620Z
UID:10000086-1691240400-1691254800@pawsafe.org
SUMMARY:Bucks Soft Serve Adoption Event (CT)
DESCRIPTION:Applications requested but not required!
URL:https://pawsafe.org/event/bucks-soft-serve-adoption-event-ct/
LOCATION:Kent Town Center\, 25 Sybil's Crossing\, Kent Lakes\, NY\, 10512\, United States
CATEGORIES:CT Off-site event
END:VEVENT
BEGIN:VEVENT
DTSTART;TZID=UTC:20230730T230000
DTEND;TZID=UTC:20230730T230000
DTSTAMP:20260424T121255
CREATED:20230730T190019Z
LAST-MODIFIED:20230730T190019Z
UID:10000085-1690758000-1690758000@pawsafe.org
SUMMARY:Sonny's Place - Adoption event (CT)
DESCRIPTION:Applications requested but not required.
URL:https://pawsafe.org/event/sonnys-place-adoption-event-ct/
LOCATION:Sonny’s Place – Somers CT\, 349 Main Street\, Somers\, 06071\, United States
CATEGORIES:CT Off-site event
END:VEVENT
BEGIN:VEVENT
DTSTART;TZID=UTC:20230730T130000
DTEND;TZID=UTC:20230730T160000
DTSTAMP:20260424T121255
CREATED:20230730T185829Z
LAST-MODIFIED:20230730T185938Z
UID:10000084-1690722000-1690732800@pawsafe.org
SUMMARY:Adoptions - Putnam CT Verizon
DESCRIPTION:Applications requested but not required!
URL:https://pawsafe.org/event/adoptions-putnam-ct-verizon-2/
LOCATION:Wireless Zone\, 207 Kennedy Drive\, Putnam\, CT\, 06260\, United States
CATEGORIES:CT Off-site event
END:VEVENT
BEGIN:VEVENT
DTSTART;TZID=UTC:20230722T133000
DTEND;TZID=UTC:20230722T153000
DTSTAMP:20260424T121255
CREATED:20230715T183402Z
LAST-MODIFIED:20230715T183402Z
UID:10000080-1690032600-1690039800@pawsafe.org
SUMMARY:Tractor Supply Adoption Event (Vernon CT)
DESCRIPTION:Application and Appointments requested but not required!
URL:https://pawsafe.org/event/tractor-supply-adoption-event-vernon-ct/
LOCATION:Tractor Supply Vernon CT\, 404 Talcottville Rd\, Vernon\, CT\, 06066\, United States
CATEGORIES:CT Off-site event
END:VEVENT
BEGIN:VEVENT
DTSTART;TZID=UTC:20230715T130000
DTEND;TZID=UTC:20230715T160000
DTSTAMP:20260424T121255
CREATED:20230715T183651Z
LAST-MODIFIED:20230715T183651Z
UID:10000082-1689426000-1689436800@pawsafe.org
SUMMARY:Adoptions - Putnam CT Verizon
DESCRIPTION:Applications requested but not required!
URL:https://pawsafe.org/event/adoptions-putnam-ct-verizon/
LOCATION:Wireless Zone\, 207 Kennedy Drive\, Putnam\, CT\, 06260\, United States
CATEGORIES:CT Off-site event
END:VEVENT
BEGIN:VEVENT
DTSTART;TZID=UTC:20230708T090000
DTEND;TZID=UTC:20230708T120000
DTSTAMP:20260424T121255
CREATED:20230613T032858Z
LAST-MODIFIED:20230613T032858Z
UID:10000074-1688806800-1688817600@pawsafe.org
SUMMARY:Ellington CT Farmers Market
DESCRIPTION:Applications preferred\, first come/first serve adoptions.
URL:https://pawsafe.org/event/ellington-ct-farmers-market-2/
LOCATION:Ellington CT Farmers Market\, 72 Maple Street\, Ellington\, CT\, 06076\, United States
CATEGORIES:CT Off-site event
END:VEVENT
BEGIN:VEVENT
DTSTART;TZID=UTC:20230625T140000
DTEND;TZID=UTC:20230625T170000
DTSTAMP:20260424T121255
CREATED:20230613T033327Z
LAST-MODIFIED:20230616T000517Z
UID:10000075-1687701600-1687712400@pawsafe.org
SUMMARY:Sonny's Place - Adoption event (CT)
DESCRIPTION:Applications requested but not required.
URL:https://pawsafe.org/event/sonnys-pace-adoption-event-ct/
LOCATION:Sonny’s Place – Somers CT\, 349 Main Street\, Somers\, 06071\, United States
CATEGORIES:CT Off-site event
END:VEVENT
BEGIN:VEVENT
DTSTART;TZID=UTC:20230617T103000
DTEND;TZID=UTC:20230617T123000
DTSTAMP:20260424T121255
CREATED:20230613T032407Z
LAST-MODIFIED:20230613T032407Z
UID:10000070-1686997800-1687005000@pawsafe.org
SUMMARY:Tractor Supply Adoption Event (Stafford CT)
DESCRIPTION:Application and Appointments requested but not required!
URL:https://pawsafe.org/event/tractor-supply-adoption-event-stafford-ct/
LOCATION:Tractor Supply Stafford CT\, 54 W Stafford Rd\, Stafford\, CT\, 06076\, United States
CATEGORIES:CT Off-site event
END:VEVENT
BEGIN:VEVENT
DTSTART;TZID=UTC:20230613T160000
DTEND;TZID=UTC:20230613T200000
DTSTAMP:20260424T121255
CREATED:20230715T183520Z
LAST-MODIFIED:20230715T183520Z
UID:10000081-1686672000-1686686400@pawsafe.org
SUMMARY:Adoptions - Worthington Winery (Somers CT)
DESCRIPTION:Application and Appointments requested but not required!
URL:https://pawsafe.org/event/adoptions-worthington-winery-somers-ct/
LOCATION:Worthington Vineyard and Winery (CT)\, 359 Mountain Rd\, Somers\, CT\, 06071\, United States
CATEGORIES:CT Off-site event
END:VEVENT
BEGIN:VEVENT
DTSTART;TZID=UTC:20230610T090000
DTEND;TZID=UTC:20230610T120000
DTSTAMP:20260424T121255
CREATED:20230214T024632Z
LAST-MODIFIED:20230214T024632Z
UID:10000009-1686387600-1686398400@pawsafe.org
SUMMARY:Ellington CT Farmers Market
DESCRIPTION:Applications preferred\, first come/first serve adoptions.
URL:https://pawsafe.org/event/ellington-ct-farmers-market/
LOCATION:Ellington CT Farmers Market\, 72 Maple Street\, Ellington\, CT\, 06076\, United States
CATEGORIES:CT Off-site event
END:VEVENT
BEGIN:VEVENT
DTSTART;VALUE=DATE:20230610
DTEND;VALUE=DATE:20230611
DTSTAMP:20260424T121255
CREATED:20230214T024229Z
LAST-MODIFIED:20230214T024345Z
UID:10000008-1686355200-1686441599@pawsafe.org
SUMMARY:Worthington Vineyard & Winery Event
DESCRIPTION:Join us for some PUPPY YOGA and adoptions!  Applications for adoption preferred.  First come/First Served event.
URL:https://pawsafe.org/event/worthington-vineyard-winery-event/
LOCATION:Worthington Vineyard and Winery (CT)\, 359 Mountain Rd\, Somers\, CT\, 06071\, United States
CATEGORIES:CT Off-site event
END:VEVENT
BEGIN:VEVENT
DTSTART;TZID=UTC:20230520T130000
DTEND;TZID=UTC:20230520T150000
DTSTAMP:20260424T121255
CREATED:20230514T153947Z
LAST-MODIFIED:20230514T153947Z
UID:10000049-1684587600-1684594800@pawsafe.org
SUMMARY:Yoga with Puppies!
DESCRIPTION:
URL:https://pawsafe.org/event/yoga-with-puppies/
LOCATION:Spirit of the Wolf Martial Arts\, 71 W Stafford St\, Stafford\, CT\, 06076\, United States
CATEGORIES:CT Off-site event
ATTACH;FMTTYPE=image/jpeg:https://pawsafe.org/wp-content/uploads/2023/05/346136351_202455805478265_6249889283607157989_n.jpg
END:VEVENT
BEGIN:VEVENT
DTSTART;TZID=UTC:20230520T100000
DTEND;TZID=UTC:20230520T130000
DTSTAMP:20260424T121255
CREATED:20230410T200405Z
LAST-MODIFIED:20230415T014633Z
UID:10000043-1684576800-1684587600@pawsafe.org
SUMMARY:Babcock Library (CT) Dog Man Adoption Event
DESCRIPTION:Applications preferred but no appointment needed.  First come/first serve \n 
URL:https://pawsafe.org/event/babcock-library-ct-dog-man-adoption-event/
LOCATION:Babcock Library\, 25 Pompey Hollow Rd\, Ashford\, CT\, 06278\, United States
CATEGORIES:CT Off-site event
ATTACH;FMTTYPE=image/jpeg:https://pawsafe.org/wp-content/uploads/2023/04/DogManPawSafeAdoptionFlyer.jpg
END:VEVENT
BEGIN:VEVENT
DTSTART;TZID=UTC:20230520T100000
DTEND;TZID=UTC:20230520T123000
DTSTAMP:20260424T121255
CREATED:20230419T230400Z
LAST-MODIFIED:20230419T230400Z
UID:10000045-1684576800-1684585800@pawsafe.org
SUMMARY:Tractor Supply (CT)  Adoption Event
DESCRIPTION:Application preferred but no appointments needed.  Off-site events are first come/first served. \n 
URL:https://pawsafe.org/event/tractor-supply-ct-adoption-event-3/
LOCATION:Tractor Supply Vernon CT\, 404 Talcottville Rd\, Vernon\, CT\, 06066\, United States
CATEGORIES:CT Off-site event
END:VEVENT
BEGIN:VEVENT
DTSTART;TZID=UTC:20230513T130000
DTEND;TZID=UTC:20230513T160000
DTSTAMP:20260424T121255
CREATED:20230410T200111Z
LAST-MODIFIED:20230410T200150Z
UID:10000042-1683982800-1683993600@pawsafe.org
SUMMARY:Wireless Zone Putnam (CT) Adoptions!
DESCRIPTION:Come and meet some of our puppies for adoption!  Applications preferred but no appointment needed.  First come/first serve
URL:https://pawsafe.org/event/wireless-zone-putnam-ct-meet-and-greet/
LOCATION:Wireless Zone\, 207 Kennedy Drive\, Putnam\, CT\, 06260\, United States
CATEGORIES:CT Off-site event
END:VEVENT
END:VCALENDAR