BEGIN:VCALENDAR
VERSION:2.0
PRODID:-//PawSafeAnimal Rescue - ECPv6.15.20//NONSGML v1.0//EN
CALSCALE:GREGORIAN
METHOD:PUBLISH
X-WR-CALNAME:PawSafeAnimal Rescue
X-ORIGINAL-URL:https://pawsafe.org
X-WR-CALDESC:Events for PawSafeAnimal Rescue
REFRESH-INTERVAL;VALUE=DURATION:PT1H
X-Robots-Tag:noindex
X-PUBLISHED-TTL:PT1H
BEGIN:VTIMEZONE
TZID:America/New_York
BEGIN:DAYLIGHT
TZOFFSETFROM:-0500
TZOFFSETTO:-0400
TZNAME:EDT
DTSTART:20250309T070000
END:DAYLIGHT
BEGIN:STANDARD
TZOFFSETFROM:-0400
TZOFFSETTO:-0500
TZNAME:EST
DTSTART:20251102T060000
END:STANDARD
BEGIN:DAYLIGHT
TZOFFSETFROM:-0500
TZOFFSETTO:-0400
TZNAME:EDT
DTSTART:20260308T070000
END:DAYLIGHT
BEGIN:STANDARD
TZOFFSETFROM:-0400
TZOFFSETTO:-0500
TZNAME:EST
DTSTART:20261101T060000
END:STANDARD
BEGIN:DAYLIGHT
TZOFFSETFROM:-0500
TZOFFSETTO:-0400
TZNAME:EDT
DTSTART:20270314T070000
END:DAYLIGHT
BEGIN:STANDARD
TZOFFSETFROM:-0400
TZOFFSETTO:-0500
TZNAME:EST
DTSTART:20271107T060000
END:STANDARD
END:VTIMEZONE
BEGIN:VEVENT
DTSTART;TZID=America/New_York:20260701T160000
DTEND;TZID=America/New_York:20260701T183000
DTSTAMP:20260423T184712
CREATED:20260102T121109Z
LAST-MODIFIED:20260102T121109Z
UID:10001245-1782921600-1782930600@pawsafe.org
SUMMARY:Adoptions - Eastford
DESCRIPTION:Applications preferred but not required
URL:https://pawsafe.org/event/adoptions-eastford-152-2-2/2026-07-01/
LOCATION:Eastford CT Shelter\, 348 Old Colony Rd\, Eastford\, CT\, 06242\, United States
CATEGORIES:CT Eastford Shelter
ATTACH;FMTTYPE=image/png:https://pawsafe.org/wp-content/uploads/2026/01/hours26.png
END:VEVENT
BEGIN:VEVENT
DTSTART;TZID=America/New_York:20260708T160000
DTEND;TZID=America/New_York:20260708T183000
DTSTAMP:20260423T184712
CREATED:20260102T121109Z
LAST-MODIFIED:20260102T121109Z
UID:10001246-1783526400-1783535400@pawsafe.org
SUMMARY:Adoptions - Eastford
DESCRIPTION:Applications preferred but not required
URL:https://pawsafe.org/event/adoptions-eastford-152-2-2/2026-07-08/
LOCATION:Eastford CT Shelter\, 348 Old Colony Rd\, Eastford\, CT\, 06242\, United States
CATEGORIES:CT Eastford Shelter
ATTACH;FMTTYPE=image/png:https://pawsafe.org/wp-content/uploads/2026/01/hours26.png
END:VEVENT
BEGIN:VEVENT
DTSTART;TZID=America/New_York:20260715T160000
DTEND;TZID=America/New_York:20260715T183000
DTSTAMP:20260423T184712
CREATED:20260102T121109Z
LAST-MODIFIED:20260102T121109Z
UID:10001247-1784131200-1784140200@pawsafe.org
SUMMARY:Adoptions - Eastford
DESCRIPTION:Applications preferred but not required
URL:https://pawsafe.org/event/adoptions-eastford-152-2-2/2026-07-15/
LOCATION:Eastford CT Shelter\, 348 Old Colony Rd\, Eastford\, CT\, 06242\, United States
CATEGORIES:CT Eastford Shelter
ATTACH;FMTTYPE=image/png:https://pawsafe.org/wp-content/uploads/2026/01/hours26.png
END:VEVENT
BEGIN:VEVENT
DTSTART;TZID=America/New_York:20260722T160000
DTEND;TZID=America/New_York:20260722T183000
DTSTAMP:20260423T184712
CREATED:20260102T121109Z
LAST-MODIFIED:20260102T121109Z
UID:10001248-1784736000-1784745000@pawsafe.org
SUMMARY:Adoptions - Eastford
DESCRIPTION:Applications preferred but not required
URL:https://pawsafe.org/event/adoptions-eastford-152-2-2/2026-07-22/
LOCATION:Eastford CT Shelter\, 348 Old Colony Rd\, Eastford\, CT\, 06242\, United States
CATEGORIES:CT Eastford Shelter
ATTACH;FMTTYPE=image/png:https://pawsafe.org/wp-content/uploads/2026/01/hours26.png
END:VEVENT
BEGIN:VEVENT
DTSTART;TZID=America/New_York:20260729T160000
DTEND;TZID=America/New_York:20260729T183000
DTSTAMP:20260423T184712
CREATED:20260102T121109Z
LAST-MODIFIED:20260102T121109Z
UID:10001249-1785340800-1785349800@pawsafe.org
SUMMARY:Adoptions - Eastford
DESCRIPTION:Applications preferred but not required
URL:https://pawsafe.org/event/adoptions-eastford-152-2-2/2026-07-29/
LOCATION:Eastford CT Shelter\, 348 Old Colony Rd\, Eastford\, CT\, 06242\, United States
CATEGORIES:CT Eastford Shelter
ATTACH;FMTTYPE=image/png:https://pawsafe.org/wp-content/uploads/2026/01/hours26.png
END:VEVENT
BEGIN:VEVENT
DTSTART;TZID=America/New_York:20260805T160000
DTEND;TZID=America/New_York:20260805T183000
DTSTAMP:20260423T184712
CREATED:20260102T121109Z
LAST-MODIFIED:20260102T121109Z
UID:10001250-1785945600-1785954600@pawsafe.org
SUMMARY:Adoptions - Eastford
DESCRIPTION:Applications preferred but not required
URL:https://pawsafe.org/event/adoptions-eastford-152-2-2/2026-08-05/
LOCATION:Eastford CT Shelter\, 348 Old Colony Rd\, Eastford\, CT\, 06242\, United States
CATEGORIES:CT Eastford Shelter
ATTACH;FMTTYPE=image/png:https://pawsafe.org/wp-content/uploads/2026/01/hours26.png
END:VEVENT
BEGIN:VEVENT
DTSTART;TZID=America/New_York:20260812T160000
DTEND;TZID=America/New_York:20260812T183000
DTSTAMP:20260423T184712
CREATED:20260102T121109Z
LAST-MODIFIED:20260102T121109Z
UID:10001251-1786550400-1786559400@pawsafe.org
SUMMARY:Adoptions - Eastford
DESCRIPTION:Applications preferred but not required
URL:https://pawsafe.org/event/adoptions-eastford-152-2-2/2026-08-12/
LOCATION:Eastford CT Shelter\, 348 Old Colony Rd\, Eastford\, CT\, 06242\, United States
CATEGORIES:CT Eastford Shelter
ATTACH;FMTTYPE=image/png:https://pawsafe.org/wp-content/uploads/2026/01/hours26.png
END:VEVENT
BEGIN:VEVENT
DTSTART;TZID=America/New_York:20260819T160000
DTEND;TZID=America/New_York:20260819T183000
DTSTAMP:20260423T184712
CREATED:20260102T121109Z
LAST-MODIFIED:20260102T121109Z
UID:10001252-1787155200-1787164200@pawsafe.org
SUMMARY:Adoptions - Eastford
DESCRIPTION:Applications preferred but not required
URL:https://pawsafe.org/event/adoptions-eastford-152-2-2/2026-08-19/
LOCATION:Eastford CT Shelter\, 348 Old Colony Rd\, Eastford\, CT\, 06242\, United States
CATEGORIES:CT Eastford Shelter
ATTACH;FMTTYPE=image/png:https://pawsafe.org/wp-content/uploads/2026/01/hours26.png
END:VEVENT
BEGIN:VEVENT
DTSTART;TZID=America/New_York:20260826T160000
DTEND;TZID=America/New_York:20260826T183000
DTSTAMP:20260423T184712
CREATED:20260102T121109Z
LAST-MODIFIED:20260102T121109Z
UID:10001253-1787760000-1787769000@pawsafe.org
SUMMARY:Adoptions - Eastford
DESCRIPTION:Applications preferred but not required
URL:https://pawsafe.org/event/adoptions-eastford-152-2-2/2026-08-26/
LOCATION:Eastford CT Shelter\, 348 Old Colony Rd\, Eastford\, CT\, 06242\, United States
CATEGORIES:CT Eastford Shelter
ATTACH;FMTTYPE=image/png:https://pawsafe.org/wp-content/uploads/2026/01/hours26.png
END:VEVENT
BEGIN:VEVENT
DTSTART;TZID=America/New_York:20260902T160000
DTEND;TZID=America/New_York:20260902T183000
DTSTAMP:20260423T184712
CREATED:20260102T121109Z
LAST-MODIFIED:20260102T121109Z
UID:10001254-1788364800-1788373800@pawsafe.org
SUMMARY:Adoptions - Eastford
DESCRIPTION:Applications preferred but not required
URL:https://pawsafe.org/event/adoptions-eastford-152-2-2/2026-09-02/
LOCATION:Eastford CT Shelter\, 348 Old Colony Rd\, Eastford\, CT\, 06242\, United States
CATEGORIES:CT Eastford Shelter
ATTACH;FMTTYPE=image/png:https://pawsafe.org/wp-content/uploads/2026/01/hours26.png
END:VEVENT
BEGIN:VEVENT
DTSTART;TZID=America/New_York:20260909T160000
DTEND;TZID=America/New_York:20260909T183000
DTSTAMP:20260423T184712
CREATED:20260102T121109Z
LAST-MODIFIED:20260102T121109Z
UID:10001255-1788969600-1788978600@pawsafe.org
SUMMARY:Adoptions - Eastford
DESCRIPTION:Applications preferred but not required
URL:https://pawsafe.org/event/adoptions-eastford-152-2-2/2026-09-09/
LOCATION:Eastford CT Shelter\, 348 Old Colony Rd\, Eastford\, CT\, 06242\, United States
CATEGORIES:CT Eastford Shelter
ATTACH;FMTTYPE=image/png:https://pawsafe.org/wp-content/uploads/2026/01/hours26.png
END:VEVENT
BEGIN:VEVENT
DTSTART;TZID=America/New_York:20260916T160000
DTEND;TZID=America/New_York:20260916T183000
DTSTAMP:20260423T184712
CREATED:20260102T121109Z
LAST-MODIFIED:20260102T121109Z
UID:10001256-1789574400-1789583400@pawsafe.org
SUMMARY:Adoptions - Eastford
DESCRIPTION:Applications preferred but not required
URL:https://pawsafe.org/event/adoptions-eastford-152-2-2/2026-09-16/
LOCATION:Eastford CT Shelter\, 348 Old Colony Rd\, Eastford\, CT\, 06242\, United States
CATEGORIES:CT Eastford Shelter
ATTACH;FMTTYPE=image/png:https://pawsafe.org/wp-content/uploads/2026/01/hours26.png
END:VEVENT
BEGIN:VEVENT
DTSTART;TZID=America/New_York:20260919T113000
DTEND;TZID=America/New_York:20260919T160000
DTSTAMP:20260423T184712
CREATED:20260311T144433Z
LAST-MODIFIED:20260311T144433Z
UID:10001431-1789817400-1789833600@pawsafe.org
SUMMARY:NY Adoptions @ Dover Day
DESCRIPTION:
URL:https://pawsafe.org/event/ny-adoptions-dover-day-3/
LOCATION:Thomas J Boyce Park\, 6420 NY 55\, Wingdale\, 12594\, United States
CATEGORIES:NY Off-Site event
END:VEVENT
BEGIN:VEVENT
DTSTART;TZID=America/New_York:20260923T160000
DTEND;TZID=America/New_York:20260923T183000
DTSTAMP:20260423T184712
CREATED:20260102T121109Z
LAST-MODIFIED:20260102T121109Z
UID:10001257-1790179200-1790188200@pawsafe.org
SUMMARY:Adoptions - Eastford
DESCRIPTION:Applications preferred but not required
URL:https://pawsafe.org/event/adoptions-eastford-152-2-2/2026-09-23/
LOCATION:Eastford CT Shelter\, 348 Old Colony Rd\, Eastford\, CT\, 06242\, United States
CATEGORIES:CT Eastford Shelter
ATTACH;FMTTYPE=image/png:https://pawsafe.org/wp-content/uploads/2026/01/hours26.png
END:VEVENT
BEGIN:VEVENT
DTSTART;TZID=America/New_York:20260930T160000
DTEND;TZID=America/New_York:20260930T183000
DTSTAMP:20260423T184712
CREATED:20260102T121109Z
LAST-MODIFIED:20260102T121109Z
UID:10001258-1790784000-1790793000@pawsafe.org
SUMMARY:Adoptions - Eastford
DESCRIPTION:Applications preferred but not required
URL:https://pawsafe.org/event/adoptions-eastford-152-2-2/2026-09-30/
LOCATION:Eastford CT Shelter\, 348 Old Colony Rd\, Eastford\, CT\, 06242\, United States
CATEGORIES:CT Eastford Shelter
ATTACH;FMTTYPE=image/png:https://pawsafe.org/wp-content/uploads/2026/01/hours26.png
END:VEVENT
BEGIN:VEVENT
DTSTART;TZID=America/New_York:20261007T160000
DTEND;TZID=America/New_York:20261007T183000
DTSTAMP:20260423T184712
CREATED:20260102T121109Z
LAST-MODIFIED:20260102T121109Z
UID:10001259-1791388800-1791397800@pawsafe.org
SUMMARY:Adoptions - Eastford
DESCRIPTION:Applications preferred but not required
URL:https://pawsafe.org/event/adoptions-eastford-152-2-2/2026-10-07/
LOCATION:Eastford CT Shelter\, 348 Old Colony Rd\, Eastford\, CT\, 06242\, United States
CATEGORIES:CT Eastford Shelter
ATTACH;FMTTYPE=image/png:https://pawsafe.org/wp-content/uploads/2026/01/hours26.png
END:VEVENT
BEGIN:VEVENT
DTSTART;TZID=America/New_York:20261014T160000
DTEND;TZID=America/New_York:20261014T183000
DTSTAMP:20260423T184712
CREATED:20260102T121109Z
LAST-MODIFIED:20260102T121109Z
UID:10001260-1791993600-1792002600@pawsafe.org
SUMMARY:Adoptions - Eastford
DESCRIPTION:Applications preferred but not required
URL:https://pawsafe.org/event/adoptions-eastford-152-2-2/2026-10-14/
LOCATION:Eastford CT Shelter\, 348 Old Colony Rd\, Eastford\, CT\, 06242\, United States
CATEGORIES:CT Eastford Shelter
ATTACH;FMTTYPE=image/png:https://pawsafe.org/wp-content/uploads/2026/01/hours26.png
END:VEVENT
BEGIN:VEVENT
DTSTART;TZID=America/New_York:20261021T160000
DTEND;TZID=America/New_York:20261021T183000
DTSTAMP:20260423T184712
CREATED:20260102T121109Z
LAST-MODIFIED:20260102T121109Z
UID:10001261-1792598400-1792607400@pawsafe.org
SUMMARY:Adoptions - Eastford
DESCRIPTION:Applications preferred but not required
URL:https://pawsafe.org/event/adoptions-eastford-152-2-2/2026-10-21/
LOCATION:Eastford CT Shelter\, 348 Old Colony Rd\, Eastford\, CT\, 06242\, United States
CATEGORIES:CT Eastford Shelter
ATTACH;FMTTYPE=image/png:https://pawsafe.org/wp-content/uploads/2026/01/hours26.png
END:VEVENT
BEGIN:VEVENT
DTSTART;TZID=America/New_York:20261028T160000
DTEND;TZID=America/New_York:20261028T183000
DTSTAMP:20260423T184712
CREATED:20260102T121109Z
LAST-MODIFIED:20260102T121109Z
UID:10001262-1793203200-1793212200@pawsafe.org
SUMMARY:Adoptions - Eastford
DESCRIPTION:Applications preferred but not required
URL:https://pawsafe.org/event/adoptions-eastford-152-2-2/2026-10-28/
LOCATION:Eastford CT Shelter\, 348 Old Colony Rd\, Eastford\, CT\, 06242\, United States
CATEGORIES:CT Eastford Shelter
ATTACH;FMTTYPE=image/png:https://pawsafe.org/wp-content/uploads/2026/01/hours26.png
END:VEVENT
BEGIN:VEVENT
DTSTART;TZID=America/New_York:20261104T160000
DTEND;TZID=America/New_York:20261104T183000
DTSTAMP:20260423T184713
CREATED:20260102T121109Z
LAST-MODIFIED:20260102T121109Z
UID:10001263-1793808000-1793817000@pawsafe.org
SUMMARY:Adoptions - Eastford
DESCRIPTION:Applications preferred but not required
URL:https://pawsafe.org/event/adoptions-eastford-152-2-2/2026-11-04/
LOCATION:Eastford CT Shelter\, 348 Old Colony Rd\, Eastford\, CT\, 06242\, United States
CATEGORIES:CT Eastford Shelter
ATTACH;FMTTYPE=image/png:https://pawsafe.org/wp-content/uploads/2026/01/hours26.png
END:VEVENT
BEGIN:VEVENT
DTSTART;TZID=America/New_York:20261111T160000
DTEND;TZID=America/New_York:20261111T183000
DTSTAMP:20260423T184713
CREATED:20260102T121109Z
LAST-MODIFIED:20260102T121109Z
UID:10001264-1794412800-1794421800@pawsafe.org
SUMMARY:Adoptions - Eastford
DESCRIPTION:Applications preferred but not required
URL:https://pawsafe.org/event/adoptions-eastford-152-2-2/2026-11-11/
LOCATION:Eastford CT Shelter\, 348 Old Colony Rd\, Eastford\, CT\, 06242\, United States
CATEGORIES:CT Eastford Shelter
ATTACH;FMTTYPE=image/png:https://pawsafe.org/wp-content/uploads/2026/01/hours26.png
END:VEVENT
BEGIN:VEVENT
DTSTART;TZID=America/New_York:20261118T160000
DTEND;TZID=America/New_York:20261118T183000
DTSTAMP:20260423T184713
CREATED:20260102T121109Z
LAST-MODIFIED:20260102T121109Z
UID:10001265-1795017600-1795026600@pawsafe.org
SUMMARY:Adoptions - Eastford
DESCRIPTION:Applications preferred but not required
URL:https://pawsafe.org/event/adoptions-eastford-152-2-2/2026-11-18/
LOCATION:Eastford CT Shelter\, 348 Old Colony Rd\, Eastford\, CT\, 06242\, United States
CATEGORIES:CT Eastford Shelter
ATTACH;FMTTYPE=image/png:https://pawsafe.org/wp-content/uploads/2026/01/hours26.png
END:VEVENT
BEGIN:VEVENT
DTSTART;TZID=America/New_York:20261125T160000
DTEND;TZID=America/New_York:20261125T183000
DTSTAMP:20260423T184713
CREATED:20260102T121109Z
LAST-MODIFIED:20260102T121109Z
UID:10001266-1795622400-1795631400@pawsafe.org
SUMMARY:Adoptions - Eastford
DESCRIPTION:Applications preferred but not required
URL:https://pawsafe.org/event/adoptions-eastford-152-2-2/2026-11-25/
LOCATION:Eastford CT Shelter\, 348 Old Colony Rd\, Eastford\, CT\, 06242\, United States
CATEGORIES:CT Eastford Shelter
ATTACH;FMTTYPE=image/png:https://pawsafe.org/wp-content/uploads/2026/01/hours26.png
END:VEVENT
BEGIN:VEVENT
DTSTART;TZID=America/New_York:20261202T160000
DTEND;TZID=America/New_York:20261202T183000
DTSTAMP:20260423T184713
CREATED:20260102T121109Z
LAST-MODIFIED:20260102T121109Z
UID:10001267-1796227200-1796236200@pawsafe.org
SUMMARY:Adoptions - Eastford
DESCRIPTION:Applications preferred but not required
URL:https://pawsafe.org/event/adoptions-eastford-152-2-2/2026-12-02/
LOCATION:Eastford CT Shelter\, 348 Old Colony Rd\, Eastford\, CT\, 06242\, United States
CATEGORIES:CT Eastford Shelter
ATTACH;FMTTYPE=image/png:https://pawsafe.org/wp-content/uploads/2026/01/hours26.png
END:VEVENT
BEGIN:VEVENT
DTSTART;TZID=America/New_York:20261209T160000
DTEND;TZID=America/New_York:20261209T183000
DTSTAMP:20260423T184713
CREATED:20260102T121109Z
LAST-MODIFIED:20260102T121109Z
UID:10001268-1796832000-1796841000@pawsafe.org
SUMMARY:Adoptions - Eastford
DESCRIPTION:Applications preferred but not required
URL:https://pawsafe.org/event/adoptions-eastford-152-2-2/2026-12-09/
LOCATION:Eastford CT Shelter\, 348 Old Colony Rd\, Eastford\, CT\, 06242\, United States
CATEGORIES:CT Eastford Shelter
ATTACH;FMTTYPE=image/png:https://pawsafe.org/wp-content/uploads/2026/01/hours26.png
END:VEVENT
BEGIN:VEVENT
DTSTART;TZID=America/New_York:20261216T160000
DTEND;TZID=America/New_York:20261216T183000
DTSTAMP:20260423T184713
CREATED:20260102T121109Z
LAST-MODIFIED:20260102T121109Z
UID:10001269-1797436800-1797445800@pawsafe.org
SUMMARY:Adoptions - Eastford
DESCRIPTION:Applications preferred but not required
URL:https://pawsafe.org/event/adoptions-eastford-152-2-2/2026-12-16/
LOCATION:Eastford CT Shelter\, 348 Old Colony Rd\, Eastford\, CT\, 06242\, United States
CATEGORIES:CT Eastford Shelter
ATTACH;FMTTYPE=image/png:https://pawsafe.org/wp-content/uploads/2026/01/hours26.png
END:VEVENT
BEGIN:VEVENT
DTSTART;TZID=America/New_York:20261223T160000
DTEND;TZID=America/New_York:20261223T183000
DTSTAMP:20260423T184713
CREATED:20260102T121109Z
LAST-MODIFIED:20260102T121109Z
UID:10001270-1798041600-1798050600@pawsafe.org
SUMMARY:Adoptions - Eastford
DESCRIPTION:Applications preferred but not required
URL:https://pawsafe.org/event/adoptions-eastford-152-2-2/2026-12-23/
LOCATION:Eastford CT Shelter\, 348 Old Colony Rd\, Eastford\, CT\, 06242\, United States
CATEGORIES:CT Eastford Shelter
ATTACH;FMTTYPE=image/png:https://pawsafe.org/wp-content/uploads/2026/01/hours26.png
END:VEVENT
BEGIN:VEVENT
DTSTART;TZID=America/New_York:20261230T160000
DTEND;TZID=America/New_York:20261230T183000
DTSTAMP:20260423T184713
CREATED:20260102T121109Z
LAST-MODIFIED:20260102T121109Z
UID:10001271-1798646400-1798655400@pawsafe.org
SUMMARY:Adoptions - Eastford
DESCRIPTION:Applications preferred but not required
URL:https://pawsafe.org/event/adoptions-eastford-152-2-2/2026-12-30/
LOCATION:Eastford CT Shelter\, 348 Old Colony Rd\, Eastford\, CT\, 06242\, United States
CATEGORIES:CT Eastford Shelter
ATTACH;FMTTYPE=image/png:https://pawsafe.org/wp-content/uploads/2026/01/hours26.png
END:VEVENT
END:VCALENDAR