BEGIN:VCALENDAR
VERSION:2.0
PRODID:-//PawSafeAnimal Rescue - ECPv6.15.20//NONSGML v1.0//EN
CALSCALE:GREGORIAN
METHOD:PUBLISH
X-WR-CALNAME:PawSafeAnimal Rescue
X-ORIGINAL-URL:https://pawsafe.org
X-WR-CALDESC:Events for PawSafeAnimal Rescue
REFRESH-INTERVAL;VALUE=DURATION:PT1H
X-Robots-Tag:noindex
X-PUBLISHED-TTL:PT1H
BEGIN:VTIMEZONE
TZID:America/New_York
BEGIN:DAYLIGHT
TZOFFSETFROM:-0500
TZOFFSETTO:-0400
TZNAME:EDT
DTSTART:20230312T070000
END:DAYLIGHT
BEGIN:STANDARD
TZOFFSETFROM:-0400
TZOFFSETTO:-0500
TZNAME:EST
DTSTART:20231105T060000
END:STANDARD
BEGIN:DAYLIGHT
TZOFFSETFROM:-0500
TZOFFSETTO:-0400
TZNAME:EDT
DTSTART:20240310T070000
END:DAYLIGHT
BEGIN:STANDARD
TZOFFSETFROM:-0400
TZOFFSETTO:-0500
TZNAME:EST
DTSTART:20241103T060000
END:STANDARD
BEGIN:DAYLIGHT
TZOFFSETFROM:-0500
TZOFFSETTO:-0400
TZNAME:EDT
DTSTART:20250309T070000
END:DAYLIGHT
BEGIN:STANDARD
TZOFFSETFROM:-0400
TZOFFSETTO:-0500
TZNAME:EST
DTSTART:20251102T060000
END:STANDARD
BEGIN:DAYLIGHT
TZOFFSETFROM:-0500
TZOFFSETTO:-0400
TZNAME:EDT
DTSTART:20260308T070000
END:DAYLIGHT
BEGIN:STANDARD
TZOFFSETFROM:-0400
TZOFFSETTO:-0500
TZNAME:EST
DTSTART:20261101T060000
END:STANDARD
END:VTIMEZONE
BEGIN:VTIMEZONE
TZID:UTC
BEGIN:STANDARD
TZOFFSETFROM:+0000
TZOFFSETTO:+0000
TZNAME:UTC
DTSTART:20230101T000000
END:STANDARD
END:VTIMEZONE
BEGIN:VEVENT
DTSTART;TZID=America/New_York:20250105T103000
DTEND;TZID=America/New_York:20250105T123000
DTSTAMP:20260425T103250
CREATED:20241229T141045Z
LAST-MODIFIED:20250305T001135Z
UID:10000826-1736073000-1736080200@pawsafe.org
SUMMARY:Adoptions - Eastford
DESCRIPTION:Applications and appointments preferred but not required
URL:https://pawsafe.org/event/adoptions-eastford-148/2025-01-05/
LOCATION:Eastford CT Shelter\, 348 Old Colony Rd\, Eastford\, CT\, 06242\, United States
CATEGORIES:CT Eastford Shelter
ATTACH;FMTTYPE=image/png:https://pawsafe.org/wp-content/uploads/2024/10/winter-hours.png
END:VEVENT
BEGIN:VEVENT
DTSTART;TZID=America/New_York:20250104T103000
DTEND;TZID=America/New_York:20250104T123000
DTSTAMP:20260425T103250
CREATED:20241229T140607Z
LAST-MODIFIED:20250305T000940Z
UID:10000632-1735986600-1735993800@pawsafe.org
SUMMARY:Adoptions - Eastford
DESCRIPTION:Applications and appointments preferred but not required
URL:https://pawsafe.org/event/adoptions-eastford-147-2/2025-01-04/
LOCATION:Eastford CT Shelter\, 348 Old Colony Rd\, Eastford\, CT\, 06242\, United States
CATEGORIES:CT Eastford Shelter
ATTACH;FMTTYPE=image/png:https://pawsafe.org/wp-content/uploads/2024/10/winter-hours.png
END:VEVENT
BEGIN:VEVENT
DTSTART;TZID=America/New_York:20250102T103000
DTEND;TZID=America/New_York:20250102T123000
DTSTAMP:20260425T103250
CREATED:20241229T140258Z
LAST-MODIFIED:20250305T002009Z
UID:10000628-1735813800-1735821000@pawsafe.org
SUMMARY:Adoptions - Eastford
DESCRIPTION:Application and appointments preferred but not required
URL:https://pawsafe.org/event/adoptions-eastford-146-2-2/2025-01-02/
LOCATION:Eastford CT Shelter\, 348 Old Colony Rd\, Eastford\, CT\, 06242\, United States
CATEGORIES:CT Eastford Shelter
ATTACH;FMTTYPE=image/png:https://pawsafe.org/wp-content/uploads/2024/10/winter-hours.png
END:VEVENT
BEGIN:VEVENT
DTSTART;TZID=America/New_York:20250101T160000
DTEND;TZID=America/New_York:20250101T183000
DTSTAMP:20260425T103250
CREATED:20241229T141313Z
LAST-MODIFIED:20250326T231226Z
UID:10000946-1735747200-1735756200@pawsafe.org
SUMMARY:Adoptions - Eastford
DESCRIPTION:Applications and appointments preferred but not required
URL:https://pawsafe.org/event/adoptions-eastford-149/2025-01-01/
LOCATION:Eastford CT Shelter\, 348 Old Colony Rd\, Eastford\, CT\, 06242\, United States
CATEGORIES:CT Eastford Shelter
ATTACH;FMTTYPE=image/png:https://pawsafe.org/wp-content/uploads/2024/10/winter-hours.png
END:VEVENT
BEGIN:VEVENT
DTSTART;TZID=America/New_York:20241226T103000
DTEND;TZID=America/New_York:20241226T123000
DTSTAMP:20260425T103250
CREATED:20241029T004125Z
LAST-MODIFIED:20241029T005328Z
UID:10000624-1735209000-1735216200@pawsafe.org
SUMMARY:Adoptions - Eastford
DESCRIPTION:PawSafe Adoption hours – Eastford CT
URL:https://pawsafe.org/event/adoptions-eastford-145/2024-12-26/
LOCATION:Eastford CT Shelter\, 348 Old Colony Rd\, Eastford\, CT\, 06242\, United States
CATEGORIES:CT Eastford Shelter
ATTACH;FMTTYPE=image/png:https://pawsafe.org/wp-content/uploads/2024/10/winter-hours.png
END:VEVENT
BEGIN:VEVENT
DTSTART;TZID=America/New_York:20241224T103000
DTEND;TZID=America/New_York:20241224T123000
DTSTAMP:20260425T103250
CREATED:20241217T173050Z
LAST-MODIFIED:20241217T173050Z
UID:10000643-1735036200-1735043400@pawsafe.org
SUMMARY:Adoptions - Eastford
DESCRIPTION:Application and appointments preferred but not required
URL:https://pawsafe.org/event/adoptions-eastford-146-2/2024-12-24/
LOCATION:Eastford CT Shelter\, 348 Old Colony Rd\, Eastford\, CT\, 06242\, United States
CATEGORIES:CT Eastford Shelter
ATTACH;FMTTYPE=image/png:https://pawsafe.org/wp-content/uploads/2024/10/winter-hours.png
END:VEVENT
BEGIN:VEVENT
DTSTART;TZID=America/New_York:20241222T110000
DTEND;TZID=America/New_York:20241222T140000
DTSTAMP:20260425T103250
CREATED:20241217T222714Z
LAST-MODIFIED:20241217T223637Z
UID:10000644-1734865200-1734876000@pawsafe.org
SUMMARY:NY Adoptions @ Tractor Supply - Baldwin Place
DESCRIPTION:
URL:https://pawsafe.org/event/ny-adoptions-tractor-supply-baldwin-place/
LOCATION:Tractor Supply Baldwn Place\, 80 US 6\, Baldwin Place\, 10505\, United States
CATEGORIES:NY Off-Site event
ATTACH;FMTTYPE=image/jpeg:https://pawsafe.org/wp-content/uploads/2024/12/T^SC-Updated-USe.jpg
END:VEVENT
BEGIN:VEVENT
DTSTART;TZID=America/New_York:20241222T103000
DTEND;TZID=America/New_York:20241222T123000
DTSTAMP:20260425T103250
CREATED:20241029T005149Z
LAST-MODIFIED:20241029T005403Z
UID:10000631-1734863400-1734870600@pawsafe.org
SUMMARY:Adoptions - Eastford
DESCRIPTION:Applications and appointments preferred but not required
URL:https://pawsafe.org/event/adoptions-eastford-147/2024-12-22/
LOCATION:Eastford CT Shelter\, 348 Old Colony Rd\, Eastford\, CT\, 06242\, United States
CATEGORIES:CT Eastford Shelter
ATTACH;FMTTYPE=image/png:https://pawsafe.org/wp-content/uploads/2024/10/winter-hours.png
END:VEVENT
BEGIN:VEVENT
DTSTART;TZID=UTC:20241221T120000
DTEND;TZID=UTC:20241221T160000
DTSTAMP:20260425T103250
CREATED:20241110T132249Z
LAST-MODIFIED:20241110T132249Z
UID:10000637-1734782400-1734796800@pawsafe.org
SUMMARY:Sonny's Place -Holiday Market Adoption event (CT)
DESCRIPTION:Applications requested but not required.  Pass by to see some great vendors\, food\, and PUPPIES!
URL:https://pawsafe.org/event/sonnys-place-holiday-market-adoption-event-ct-4/
LOCATION:Sonny’s Place – Somers CT\, 349 Main Street\, Somers\, 06071\, United States
CATEGORIES:CT Off-site event
ATTACH;FMTTYPE=image/png:https://pawsafe.org/wp-content/uploads/2024/11/scrnli_Fn06jnQ2pMANuW-1.png
END:VEVENT
BEGIN:VEVENT
DTSTART;TZID=America/New_York:20241221T103000
DTEND;TZID=America/New_York:20241221T123000
DTSTAMP:20260425T103250
CREATED:20241217T173050Z
LAST-MODIFIED:20241217T173050Z
UID:10000627-1734777000-1734784200@pawsafe.org
SUMMARY:Adoptions - Eastford
DESCRIPTION:Application and appointments preferred but not required
URL:https://pawsafe.org/event/adoptions-eastford-146-2/2024-12-21/
LOCATION:Eastford CT Shelter\, 348 Old Colony Rd\, Eastford\, CT\, 06242\, United States
CATEGORIES:CT Eastford Shelter
ATTACH;FMTTYPE=image/png:https://pawsafe.org/wp-content/uploads/2024/10/winter-hours.png
END:VEVENT
BEGIN:VEVENT
DTSTART;TZID=America/New_York:20241219T103000
DTEND;TZID=America/New_York:20241219T123000
DTSTAMP:20260425T103250
CREATED:20241029T004125Z
LAST-MODIFIED:20241029T005328Z
UID:10000623-1734604200-1734611400@pawsafe.org
SUMMARY:Adoptions - Eastford
DESCRIPTION:PawSafe Adoption hours – Eastford CT
URL:https://pawsafe.org/event/adoptions-eastford-145/2024-12-19/
LOCATION:Eastford CT Shelter\, 348 Old Colony Rd\, Eastford\, CT\, 06242\, United States
CATEGORIES:CT Eastford Shelter
ATTACH;FMTTYPE=image/png:https://pawsafe.org/wp-content/uploads/2024/10/winter-hours.png
END:VEVENT
BEGIN:VEVENT
DTSTART;TZID=America/New_York:20241218T160000
DTEND;TZID=America/New_York:20241218T183000
DTSTAMP:20260425T103250
CREATED:20241029T003256Z
LAST-MODIFIED:20241029T003929Z
UID:10000567-1734537600-1734546600@pawsafe.org
SUMMARY:Adoptions – Eastford
DESCRIPTION:Application and Appointments requested but not required!
URL:https://pawsafe.org/event/adoptions-eastford-143/2024-12-18/
LOCATION:Eastford CT Shelter\, 348 Old Colony Rd\, Eastford\, CT\, 06242\, United States
CATEGORIES:CT Eastford Shelter
ATTACH;FMTTYPE=image/png:https://pawsafe.org/wp-content/uploads/2024/10/winter-hours.png
END:VEVENT
BEGIN:VEVENT
DTSTART;TZID=America/New_York:20241215T103000
DTEND;TZID=America/New_York:20241215T123000
DTSTAMP:20260425T103250
CREATED:20241029T005149Z
LAST-MODIFIED:20241029T005403Z
UID:10000630-1734258600-1734265800@pawsafe.org
SUMMARY:Adoptions - Eastford
DESCRIPTION:Applications and appointments preferred but not required
URL:https://pawsafe.org/event/adoptions-eastford-147/2024-12-15/
LOCATION:Eastford CT Shelter\, 348 Old Colony Rd\, Eastford\, CT\, 06242\, United States
CATEGORIES:CT Eastford Shelter
ATTACH;FMTTYPE=image/png:https://pawsafe.org/wp-content/uploads/2024/10/winter-hours.png
END:VEVENT
BEGIN:VEVENT
DTSTART;TZID=UTC:20241214T120000
DTEND;TZID=UTC:20241214T160000
DTSTAMP:20260425T103250
CREATED:20241110T132145Z
LAST-MODIFIED:20241110T132145Z
UID:10000636-1734177600-1734192000@pawsafe.org
SUMMARY:Sonny's Place -Holiday Market Adoption event (CT)
DESCRIPTION:Applications requested but not required.  Pass by to see some great vendors\, food\, and PUPPIES!
URL:https://pawsafe.org/event/sonnys-place-holiday-market-adoption-event-ct-3/
LOCATION:Sonny’s Place – Somers CT\, 349 Main Street\, Somers\, 06071\, United States
CATEGORIES:CT Off-site event
ATTACH;FMTTYPE=image/png:https://pawsafe.org/wp-content/uploads/2024/11/scrnli_Fn06jnQ2pMANuW-1.png
END:VEVENT
BEGIN:VEVENT
DTSTART;TZID=America/New_York:20241214T110000
DTEND;TZID=America/New_York:20241214T140000
DTSTAMP:20260425T103250
CREATED:20241211T181324Z
LAST-MODIFIED:20241211T181407Z
UID:10000642-1734174000-1734184800@pawsafe.org
SUMMARY:NY Adoptions @ Camp Herrlich Holiday Market
DESCRIPTION:
URL:https://pawsafe.org/event/ny-adoptions-camp-herrlich-holiday-market/
LOCATION:Camp Herrlich\, 101 Deacon Smith Hill Road\, Patterson\, NY\, 12563\, United States
CATEGORIES:NY Off-Site event
ATTACH;FMTTYPE=image/jpeg:https://pawsafe.org/wp-content/uploads/2024/12/IMG_5850.jpg
END:VEVENT
BEGIN:VEVENT
DTSTART;TZID=America/New_York:20241214T103000
DTEND;TZID=America/New_York:20241214T123000
DTSTAMP:20260425T103250
CREATED:20241029T004902Z
LAST-MODIFIED:20241201T130654Z
UID:10000626-1734172200-1734179400@pawsafe.org
SUMMARY:Adoptions - Eastford
DESCRIPTION:Application and appointments preferred but not required
URL:https://pawsafe.org/event/adoptions-eastford-146/
LOCATION:Eastford CT Shelter\, 348 Old Colony Rd\, Eastford\, CT\, 06242\, United States
CATEGORIES:CT Eastford Shelter
ATTACH;FMTTYPE=image/png:https://pawsafe.org/wp-content/uploads/2024/10/winter-hours.png
END:VEVENT
BEGIN:VEVENT
DTSTART;TZID=America/New_York:20241212T103000
DTEND;TZID=America/New_York:20241212T123000
DTSTAMP:20260425T103250
CREATED:20241029T004125Z
LAST-MODIFIED:20241029T005328Z
UID:10000622-1733999400-1734006600@pawsafe.org
SUMMARY:Adoptions - Eastford
DESCRIPTION:PawSafe Adoption hours – Eastford CT
URL:https://pawsafe.org/event/adoptions-eastford-145/2024-12-12/
LOCATION:Eastford CT Shelter\, 348 Old Colony Rd\, Eastford\, CT\, 06242\, United States
CATEGORIES:CT Eastford Shelter
ATTACH;FMTTYPE=image/png:https://pawsafe.org/wp-content/uploads/2024/10/winter-hours.png
END:VEVENT
BEGIN:VEVENT
DTSTART;TZID=America/New_York:20241211T160000
DTEND;TZID=America/New_York:20241211T183000
DTSTAMP:20260425T103250
CREATED:20241029T003256Z
LAST-MODIFIED:20241029T003929Z
UID:10000566-1733932800-1733941800@pawsafe.org
SUMMARY:Adoptions – Eastford
DESCRIPTION:Application and Appointments requested but not required!
URL:https://pawsafe.org/event/adoptions-eastford-143/2024-12-11/
LOCATION:Eastford CT Shelter\, 348 Old Colony Rd\, Eastford\, CT\, 06242\, United States
CATEGORIES:CT Eastford Shelter
ATTACH;FMTTYPE=image/png:https://pawsafe.org/wp-content/uploads/2024/10/winter-hours.png
END:VEVENT
BEGIN:VEVENT
DTSTART;TZID=America/New_York:20241208T103000
DTEND;TZID=America/New_York:20241208T123000
DTSTAMP:20260425T103250
CREATED:20241029T005149Z
LAST-MODIFIED:20241029T005403Z
UID:10000629-1733653800-1733661000@pawsafe.org
SUMMARY:Adoptions - Eastford
DESCRIPTION:Applications and appointments preferred but not required
URL:https://pawsafe.org/event/adoptions-eastford-147/2024-12-08/
LOCATION:Eastford CT Shelter\, 348 Old Colony Rd\, Eastford\, CT\, 06242\, United States
CATEGORIES:CT Eastford Shelter
ATTACH;FMTTYPE=image/png:https://pawsafe.org/wp-content/uploads/2024/10/winter-hours.png
END:VEVENT
BEGIN:VEVENT
DTSTART;TZID=America/New_York:20241207T133000
DTEND;TZID=America/New_York:20241207T163000
DTSTAMP:20260425T103250
CREATED:20241121T131805Z
LAST-MODIFIED:20241121T135011Z
UID:10000641-1733578200-1733589000@pawsafe.org
SUMMARY:NY Adoptions w/Santa @ Carmel Fire Department
DESCRIPTION:Santa Paws is Coming to Carmel! \n\n\nJoin us for Pet Photos & Dog Adoptions with Santa on:\n Saturday\, December 7th\n 1:30 PM – 4:30 PM\n Carmel Fire Department (94 Gleneida Ave\, Carmel\, NY 10512)\n\n\n Details:\n• $10 per family of dogs (Bring the whole family or just your pups!)\n• Snap your own photos—don’t forget to bring your camera!\n• Meet adoptable dogs looking for a forever home.\n\n\n Rules:\n• All dogs must be kept on a leash.\n• Friendly dogs only\, please!\n\n\nCome spread holiday cheer with your furry friends. We can’t wait to see you there!
URL:https://pawsafe.org/event/ny-adoptions-w-santa-carmel-fire-department/
LOCATION:CT
CATEGORIES:NY Off-Site event
ATTACH;FMTTYPE=image/jpeg:https://pawsafe.org/wp-content/uploads/2024/11/Carmel-FD-for-website-2024-Santa.jpg
END:VEVENT
BEGIN:VEVENT
DTSTART;TZID=UTC:20241207T120000
DTEND;TZID=UTC:20241207T160000
DTSTAMP:20260425T103250
CREATED:20241110T131921Z
LAST-MODIFIED:20241110T131921Z
UID:10000635-1733572800-1733587200@pawsafe.org
SUMMARY:Sonny's Place -Holiday Market Adoption event (CT)
DESCRIPTION:Applications requested but not required.  Pass by to see some great vendors\, food\, and PUPPIES!
URL:https://pawsafe.org/event/sonnys-place-holiday-market-adoption-event-ct-2/
LOCATION:Sonny’s Place – Somers CT\, 349 Main Street\, Somers\, 06071\, United States
CATEGORIES:CT Off-site event
ATTACH;FMTTYPE=image/png:https://pawsafe.org/wp-content/uploads/2024/11/scrnli_Fn06jnQ2pMANuW-1.png
END:VEVENT
BEGIN:VEVENT
DTSTART;TZID=America/New_York:20241205T103000
DTEND;TZID=America/New_York:20241205T123000
DTSTAMP:20260425T103250
CREATED:20241029T004125Z
LAST-MODIFIED:20241029T005328Z
UID:10000621-1733394600-1733401800@pawsafe.org
SUMMARY:Adoptions - Eastford
DESCRIPTION:PawSafe Adoption hours – Eastford CT
URL:https://pawsafe.org/event/adoptions-eastford-145/2024-12-05/
LOCATION:Eastford CT Shelter\, 348 Old Colony Rd\, Eastford\, CT\, 06242\, United States
CATEGORIES:CT Eastford Shelter
ATTACH;FMTTYPE=image/png:https://pawsafe.org/wp-content/uploads/2024/10/winter-hours.png
END:VEVENT
BEGIN:VEVENT
DTSTART;TZID=America/New_York:20241204T160000
DTEND;TZID=America/New_York:20241204T183000
DTSTAMP:20260425T103250
CREATED:20241029T003256Z
LAST-MODIFIED:20241029T003929Z
UID:10000565-1733328000-1733337000@pawsafe.org
SUMMARY:Adoptions – Eastford
DESCRIPTION:Application and Appointments requested but not required!
URL:https://pawsafe.org/event/adoptions-eastford-143/2024-12-04/
LOCATION:Eastford CT Shelter\, 348 Old Colony Rd\, Eastford\, CT\, 06242\, United States
CATEGORIES:CT Eastford Shelter
ATTACH;FMTTYPE=image/png:https://pawsafe.org/wp-content/uploads/2024/10/winter-hours.png
END:VEVENT
BEGIN:VEVENT
DTSTART;TZID=America/New_York:20241201T103000
DTEND;TZID=America/New_York:20241201T123000
DTSTAMP:20260425T103250
CREATED:20241029T002624Z
LAST-MODIFIED:20241029T002624Z
UID:10000563-1733049000-1733056200@pawsafe.org
SUMMARY:Adoptions – Eastford
DESCRIPTION:Application and Appointments requested but not required!
URL:https://pawsafe.org/event/adoptions-eastford-142/
LOCATION:Eastford CT Shelter\, 348 Old Colony Rd\, Eastford\, CT\, 06242\, United States
CATEGORIES:CT Eastford Shelter
ATTACH;FMTTYPE=image/png:https://pawsafe.org/wp-content/uploads/2024/10/winter-hours.png
END:VEVENT
BEGIN:VEVENT
DTSTART;TZID=UTC:20241130T120000
DTEND;TZID=UTC:20241130T160000
DTSTAMP:20260425T103250
CREATED:20241110T131611Z
LAST-MODIFIED:20241110T131611Z
UID:10000634-1732968000-1732982400@pawsafe.org
SUMMARY:Sonny's Place -Holiday Market Adoption event (CT)
DESCRIPTION:Applications requested but not required.  Pass by to see some great vendors\, food\, and PUPPIES!
URL:https://pawsafe.org/event/sonnys-place-holiday-market-adoption-event-ct/
LOCATION:Sonny’s Place – Somers CT\, 349 Main Street\, Somers\, 06071\, United States
CATEGORIES:CT Off-site event
ATTACH;FMTTYPE=image/png:https://pawsafe.org/wp-content/uploads/2024/11/scrnli_Fn06jnQ2pMANuW.png
END:VEVENT
BEGIN:VEVENT
DTSTART;TZID=America/New_York:20241130T110000
DTEND;TZID=America/New_York:20241130T130000
DTSTAMP:20260425T103250
CREATED:20240921T010118Z
LAST-MODIFIED:20241029T001209Z
UID:10000550-1732964400-1732971600@pawsafe.org
SUMMARY:Adoptions – Eastford
DESCRIPTION:Application and Appointments requested but not required!
URL:https://pawsafe.org/event/adoptions-eastford-140/2024-11-30/
LOCATION:Eastford CT Shelter\, 348 Old Colony Rd\, Eastford\, CT\, 06242\, United States
CATEGORIES:CT Eastford Shelter
ATTACH;FMTTYPE=image/png:https://pawsafe.org/wp-content/uploads/2024/06/Oct-2.png
END:VEVENT
BEGIN:VEVENT
DTSTART;TZID=America/New_York:20241130T100000
DTEND;TZID=America/New_York:20241130T130000
DTSTAMP:20260425T103250
CREATED:20241021T184955Z
LAST-MODIFIED:20241021T185031Z
UID:10000557-1732960800-1732971600@pawsafe.org
SUMMARY:CT Photos with Santa Adoption Event
DESCRIPTION:Join PawSafe\, and SANTA\, at the Babcock Library in Ashford CT for photos and adoptions.   \nBring in your pet (cats are also welcome) and Santa will snuggle them and you can take some photos for your social media\, holiday greetings or “just because” greetings! \nThis free event is offered in concert with the PawSafe Pup Adoption Event underway in Knowlton Memorial Hall. \nApplications preferred but not required.
URL:https://pawsafe.org/event/ct-photos-with-santa-adoption-event/
LOCATION:Babcock Library\, 25 Pompey Hollow Rd\, Ashford\, CT\, 06278\, United States
CATEGORIES:CT Off-site event
ATTACH;FMTTYPE=image/png:https://pawsafe.org/wp-content/uploads/2024/10/PawSafe-Adoption-Flyer.png
END:VEVENT
BEGIN:VEVENT
DTSTART;TZID=America/New_York:20241128T110000
DTEND;TZID=America/New_York:20241128T130000
DTSTAMP:20260425T103250
CREATED:20241029T003707Z
LAST-MODIFIED:20241029T004525Z
UID:10000620-1732791600-1732798800@pawsafe.org
SUMMARY:Adoptions - Eastford
DESCRIPTION:Application and Appointments requested but not required!
URL:https://pawsafe.org/event/adoptions-eastford-144/
LOCATION:Eastford CT Shelter\, 348 Old Colony Rd\, Eastford\, CT\, 06242\, United States
CATEGORIES:CT Eastford Shelter
ATTACH;FMTTYPE=image/png:https://pawsafe.org/wp-content/uploads/2024/06/Oct-2.png
END:VEVENT
BEGIN:VEVENT
DTSTART;TZID=America/New_York:20241127T153000
DTEND;TZID=America/New_York:20241127T190000
DTSTAMP:20260425T103250
CREATED:20240921T005516Z
LAST-MODIFIED:20241029T000549Z
UID:10000490-1732721400-1732734000@pawsafe.org
SUMMARY:Adoptions – Eastford
DESCRIPTION:Application and Appointments requested but not required!
URL:https://pawsafe.org/event/adoptions-eastford-139/2024-11-27/
LOCATION:Eastford CT Shelter\, 348 Old Colony Rd\, Eastford\, CT\, 06242\, United States
CATEGORIES:CT Eastford Shelter
ATTACH;FMTTYPE=image/png:https://pawsafe.org/wp-content/uploads/2024/06/Oct-2.png
END:VEVENT
BEGIN:VEVENT
DTSTART;TZID=America/New_York:20241124T110000
DTEND;TZID=America/New_York:20241124T130000
DTSTAMP:20260425T103250
CREATED:20241029T002347Z
LAST-MODIFIED:20241029T002347Z
UID:10000562-1732446000-1732453200@pawsafe.org
SUMMARY:Adoptions – Eastford
DESCRIPTION:Application and Appointments requested but not required!
URL:https://pawsafe.org/event/adoptions-eastford-141/
LOCATION:Eastford CT Shelter\, 348 Old Colony Rd\, Eastford\, CT\, 06242\, United States
CATEGORIES:CT Eastford Shelter
ATTACH;FMTTYPE=image/png:https://pawsafe.org/wp-content/uploads/2024/06/Oct-2.png
END:VEVENT
END:VCALENDAR