BEGIN:VCALENDAR
VERSION:2.0
PRODID:-//PawSafeAnimal Rescue - ECPv6.15.20//NONSGML v1.0//EN
CALSCALE:GREGORIAN
METHOD:PUBLISH
X-WR-CALNAME:PawSafeAnimal Rescue
X-ORIGINAL-URL:https://pawsafe.org
X-WR-CALDESC:Events for PawSafeAnimal Rescue
REFRESH-INTERVAL;VALUE=DURATION:PT1H
X-Robots-Tag:noindex
X-PUBLISHED-TTL:PT1H
BEGIN:VTIMEZONE
TZID:America/New_York
BEGIN:DAYLIGHT
TZOFFSETFROM:-0500
TZOFFSETTO:-0400
TZNAME:EDT
DTSTART:20240310T070000
END:DAYLIGHT
BEGIN:STANDARD
TZOFFSETFROM:-0400
TZOFFSETTO:-0500
TZNAME:EST
DTSTART:20241103T060000
END:STANDARD
BEGIN:DAYLIGHT
TZOFFSETFROM:-0500
TZOFFSETTO:-0400
TZNAME:EDT
DTSTART:20250309T070000
END:DAYLIGHT
BEGIN:STANDARD
TZOFFSETFROM:-0400
TZOFFSETTO:-0500
TZNAME:EST
DTSTART:20251102T060000
END:STANDARD
BEGIN:DAYLIGHT
TZOFFSETFROM:-0500
TZOFFSETTO:-0400
TZNAME:EDT
DTSTART:20260308T070000
END:DAYLIGHT
BEGIN:STANDARD
TZOFFSETFROM:-0400
TZOFFSETTO:-0500
TZNAME:EST
DTSTART:20261101T060000
END:STANDARD
END:VTIMEZONE
BEGIN:VEVENT
DTSTART;TZID=America/New_York:20250423T160000
DTEND;TZID=America/New_York:20250423T183000
DTSTAMP:20260425T080608
CREATED:20250326T231455Z
LAST-MODIFIED:20250418T175916Z
UID:10001037-1745424000-1745433000@pawsafe.org
SUMMARY:Adoptions - Eastford
DESCRIPTION:Applications suggested but not required
URL:https://pawsafe.org/event/adoptions-eastford-150/2025-04-23/
LOCATION:Eastford CT Shelter\, 348 Old Colony Rd\, Eastford\, CT\, 06242\, United States
CATEGORIES:CT Eastford Shelter
ATTACH;FMTTYPE=image/png:https://pawsafe.org/wp-content/uploads/2025/03/Visit-our-shelter-348-Old-Colony-Rd-Eastford-CT-Wed-4-630pm-Thurs-Sat-Sun-1130am-123opm-Stormville-NY-location-is-foster-based4.png
END:VEVENT
BEGIN:VEVENT
DTSTART;TZID=America/New_York:20250419T110000
DTEND;TZID=America/New_York:20250419T130000
DTSTAMP:20260425T080608
CREATED:20250326T231849Z
LAST-MODIFIED:20250418T175953Z
UID:10001058-1745060400-1745067600@pawsafe.org
SUMMARY:Adoptions - Eastford
DESCRIPTION:Applications suggested but not required
URL:https://pawsafe.org/event/adoptions-eastford-147-2-2/2025-04-19/
LOCATION:Eastford CT Shelter\, 348 Old Colony Rd\, Eastford\, CT\, 06242\, United States
CATEGORIES:CT Eastford Shelter
ATTACH;FMTTYPE=image/png:https://pawsafe.org/wp-content/uploads/2025/03/Visit-our-shelter-348-Old-Colony-Rd-Eastford-CT-Wed-4-630pm-Thurs-Sat-Sun-1130am-123opm-Stormville-NY-location-is-foster-based4.png
END:VEVENT
BEGIN:VEVENT
DTSTART;TZID=America/New_York:20250417T103000
DTEND;TZID=America/New_York:20250417T123000
DTSTAMP:20260425T080608
CREATED:20250326T231635Z
LAST-MODIFIED:20250909T190519Z
UID:10000659-1744885800-1744893000@pawsafe.org
SUMMARY:Adoptions - Eastford
DESCRIPTION:Application preferred but not required
URL:https://pawsafe.org/event/adoptions-eastford-146-2-2-2/2025-04-17/
LOCATION:Eastford CT Shelter\, 348 Old Colony Rd\, Eastford\, CT\, 06242\, United States
CATEGORIES:CT Eastford Shelter
ATTACH;FMTTYPE=image/png:https://pawsafe.org/wp-content/uploads/2025/03/Visit-our-shelter-348-Old-Colony-Rd-Eastford-CT-Wed-4-630pm-Thurs-Sat-Sun-1130am-123opm-Stormville-NY-location-is-foster-based4.png
END:VEVENT
BEGIN:VEVENT
DTSTART;TZID=America/New_York:20250416T160000
DTEND;TZID=America/New_York:20250416T183000
DTSTAMP:20260425T080608
CREATED:20250326T231455Z
LAST-MODIFIED:20250418T175916Z
UID:10001036-1744819200-1744828200@pawsafe.org
SUMMARY:Adoptions - Eastford
DESCRIPTION:Applications suggested but not required
URL:https://pawsafe.org/event/adoptions-eastford-150/2025-04-16/
LOCATION:Eastford CT Shelter\, 348 Old Colony Rd\, Eastford\, CT\, 06242\, United States
CATEGORIES:CT Eastford Shelter
ATTACH;FMTTYPE=image/png:https://pawsafe.org/wp-content/uploads/2025/03/Visit-our-shelter-348-Old-Colony-Rd-Eastford-CT-Wed-4-630pm-Thurs-Sat-Sun-1130am-123opm-Stormville-NY-location-is-foster-based4.png
END:VEVENT
BEGIN:VEVENT
DTSTART;TZID=America/New_York:20250413T110000
DTEND;TZID=America/New_York:20250413T130000
DTSTAMP:20260425T080608
CREATED:20250326T231949Z
LAST-MODIFIED:20250418T175708Z
UID:10001105-1744542000-1744549200@pawsafe.org
SUMMARY:Adoptions - Eastford
DESCRIPTION:Applications suggested but not required.
URL:https://pawsafe.org/event/adoptions-eastford-148-2/2025-04-13/
LOCATION:Eastford CT Shelter\, 348 Old Colony Rd\, Eastford\, CT\, 06242\, United States
CATEGORIES:CT Eastford Shelter
ATTACH;FMTTYPE=image/png:https://pawsafe.org/wp-content/uploads/2025/03/Visit-our-shelter-348-Old-Colony-Rd-Eastford-CT-Wed-4-630pm-Thurs-Sat-Sun-1130am-123opm-Stormville-NY-location-is-foster-based4.png
END:VEVENT
BEGIN:VEVENT
DTSTART;TZID=America/New_York:20250412T110000
DTEND;TZID=America/New_York:20250412T130000
DTSTAMP:20260425T080608
CREATED:20250326T231849Z
LAST-MODIFIED:20250418T175953Z
UID:10001057-1744455600-1744462800@pawsafe.org
SUMMARY:Adoptions - Eastford
DESCRIPTION:Applications suggested but not required
URL:https://pawsafe.org/event/adoptions-eastford-147-2-2/2025-04-12/
LOCATION:Eastford CT Shelter\, 348 Old Colony Rd\, Eastford\, CT\, 06242\, United States
CATEGORIES:CT Eastford Shelter
ATTACH;FMTTYPE=image/png:https://pawsafe.org/wp-content/uploads/2025/03/Visit-our-shelter-348-Old-Colony-Rd-Eastford-CT-Wed-4-630pm-Thurs-Sat-Sun-1130am-123opm-Stormville-NY-location-is-foster-based4.png
END:VEVENT
BEGIN:VEVENT
DTSTART;TZID=America/New_York:20250412T110000
DTEND;TZID=America/New_York:20250412T123000
DTSTAMP:20260425T080608
CREATED:20250408T144252Z
LAST-MODIFIED:20250408T144252Z
UID:10001151-1744455600-1744461000@pawsafe.org
SUMMARY:NY Adoptions @ Tractor Supply Patterson
DESCRIPTION:
URL:https://pawsafe.org/event/ny-adoptions-tractor-supply-patterson-6/
LOCATION:Tractor Supply Patterson NY\, 1253 Route 311\, Patterson\, NY\, 12563\, United States
CATEGORIES:NY Off-Site event
ATTACH;FMTTYPE=image/jpeg:https://pawsafe.org/wp-content/uploads/2025/02/Tractor-Supply-Patterson.jpg
ORGANIZER;CN="Sharon":MAILTO:sharon@pawsafe.org
END:VEVENT
BEGIN:VEVENT
DTSTART;TZID=America/New_York:20250410T103000
DTEND;TZID=America/New_York:20250410T123000
DTSTAMP:20260425T080608
CREATED:20250326T231635Z
LAST-MODIFIED:20250909T190519Z
UID:10000658-1744281000-1744288200@pawsafe.org
SUMMARY:Adoptions - Eastford
DESCRIPTION:Application preferred but not required
URL:https://pawsafe.org/event/adoptions-eastford-146-2-2-2/2025-04-10/
LOCATION:Eastford CT Shelter\, 348 Old Colony Rd\, Eastford\, CT\, 06242\, United States
CATEGORIES:CT Eastford Shelter
ATTACH;FMTTYPE=image/png:https://pawsafe.org/wp-content/uploads/2025/03/Visit-our-shelter-348-Old-Colony-Rd-Eastford-CT-Wed-4-630pm-Thurs-Sat-Sun-1130am-123opm-Stormville-NY-location-is-foster-based4.png
END:VEVENT
BEGIN:VEVENT
DTSTART;TZID=America/New_York:20250409T160000
DTEND;TZID=America/New_York:20250409T183000
DTSTAMP:20260425T080608
CREATED:20250326T231455Z
LAST-MODIFIED:20250418T175916Z
UID:10001035-1744214400-1744223400@pawsafe.org
SUMMARY:Adoptions - Eastford
DESCRIPTION:Applications suggested but not required
URL:https://pawsafe.org/event/adoptions-eastford-150/2025-04-09/
LOCATION:Eastford CT Shelter\, 348 Old Colony Rd\, Eastford\, CT\, 06242\, United States
CATEGORIES:CT Eastford Shelter
ATTACH;FMTTYPE=image/png:https://pawsafe.org/wp-content/uploads/2025/03/Visit-our-shelter-348-Old-Colony-Rd-Eastford-CT-Wed-4-630pm-Thurs-Sat-Sun-1130am-123opm-Stormville-NY-location-is-foster-based4.png
END:VEVENT
BEGIN:VEVENT
DTSTART;TZID=America/New_York:20250406T110000
DTEND;TZID=America/New_York:20250406T130000
DTSTAMP:20260425T080608
CREATED:20250326T231949Z
LAST-MODIFIED:20250418T175708Z
UID:10001104-1743937200-1743944400@pawsafe.org
SUMMARY:Adoptions - Eastford
DESCRIPTION:Applications suggested but not required.
URL:https://pawsafe.org/event/adoptions-eastford-148-2/2025-04-06/
LOCATION:Eastford CT Shelter\, 348 Old Colony Rd\, Eastford\, CT\, 06242\, United States
CATEGORIES:CT Eastford Shelter
ATTACH;FMTTYPE=image/png:https://pawsafe.org/wp-content/uploads/2025/03/Visit-our-shelter-348-Old-Colony-Rd-Eastford-CT-Wed-4-630pm-Thurs-Sat-Sun-1130am-123opm-Stormville-NY-location-is-foster-based4.png
END:VEVENT
BEGIN:VEVENT
DTSTART;TZID=America/New_York:20250405T110000
DTEND;TZID=America/New_York:20250405T130000
DTSTAMP:20260425T080608
CREATED:20250326T231849Z
LAST-MODIFIED:20250418T175953Z
UID:10001056-1743850800-1743858000@pawsafe.org
SUMMARY:Adoptions - Eastford
DESCRIPTION:Applications suggested but not required
URL:https://pawsafe.org/event/adoptions-eastford-147-2-2/2025-04-05/
LOCATION:Eastford CT Shelter\, 348 Old Colony Rd\, Eastford\, CT\, 06242\, United States
CATEGORIES:CT Eastford Shelter
ATTACH;FMTTYPE=image/png:https://pawsafe.org/wp-content/uploads/2025/03/Visit-our-shelter-348-Old-Colony-Rd-Eastford-CT-Wed-4-630pm-Thurs-Sat-Sun-1130am-123opm-Stormville-NY-location-is-foster-based4.png
END:VEVENT
BEGIN:VEVENT
DTSTART;TZID=America/New_York:20250403T103000
DTEND;TZID=America/New_York:20250403T123000
DTSTAMP:20260425T080608
CREATED:20250326T231635Z
LAST-MODIFIED:20250909T190519Z
UID:10000657-1743676200-1743683400@pawsafe.org
SUMMARY:Adoptions - Eastford
DESCRIPTION:Application preferred but not required
URL:https://pawsafe.org/event/adoptions-eastford-146-2-2-2/2025-04-03/
LOCATION:Eastford CT Shelter\, 348 Old Colony Rd\, Eastford\, CT\, 06242\, United States
CATEGORIES:CT Eastford Shelter
ATTACH;FMTTYPE=image/png:https://pawsafe.org/wp-content/uploads/2025/03/Visit-our-shelter-348-Old-Colony-Rd-Eastford-CT-Wed-4-630pm-Thurs-Sat-Sun-1130am-123opm-Stormville-NY-location-is-foster-based4.png
END:VEVENT
BEGIN:VEVENT
DTSTART;TZID=America/New_York:20250402T160000
DTEND;TZID=America/New_York:20250402T183000
DTSTAMP:20260425T080608
CREATED:20250326T231455Z
LAST-MODIFIED:20250418T175916Z
UID:10001034-1743609600-1743618600@pawsafe.org
SUMMARY:Adoptions - Eastford
DESCRIPTION:Applications suggested but not required
URL:https://pawsafe.org/event/adoptions-eastford-150/2025-04-02/
LOCATION:Eastford CT Shelter\, 348 Old Colony Rd\, Eastford\, CT\, 06242\, United States
CATEGORIES:CT Eastford Shelter
ATTACH;FMTTYPE=image/png:https://pawsafe.org/wp-content/uploads/2025/03/Visit-our-shelter-348-Old-Colony-Rd-Eastford-CT-Wed-4-630pm-Thurs-Sat-Sun-1130am-123opm-Stormville-NY-location-is-foster-based4.png
END:VEVENT
BEGIN:VEVENT
DTSTART;TZID=America/New_York:20250330T110000
DTEND;TZID=America/New_York:20250330T130000
DTSTAMP:20260425T080608
CREATED:20250326T231949Z
LAST-MODIFIED:20250418T175708Z
UID:10000838-1743332400-1743339600@pawsafe.org
SUMMARY:Adoptions - Eastford
DESCRIPTION:Applications suggested but not required.
URL:https://pawsafe.org/event/adoptions-eastford-148-2/2025-03-30/
LOCATION:Eastford CT Shelter\, 348 Old Colony Rd\, Eastford\, CT\, 06242\, United States
CATEGORIES:CT Eastford Shelter
ATTACH;FMTTYPE=image/png:https://pawsafe.org/wp-content/uploads/2025/03/Visit-our-shelter-348-Old-Colony-Rd-Eastford-CT-Wed-4-630pm-Thurs-Sat-Sun-1130am-123opm-Stormville-NY-location-is-foster-based4.png
END:VEVENT
BEGIN:VEVENT
DTSTART;TZID=America/New_York:20250329T110000
DTEND;TZID=America/New_York:20250329T130000
DTSTAMP:20260425T080608
CREATED:20250326T231849Z
LAST-MODIFIED:20250418T175953Z
UID:10000716-1743246000-1743253200@pawsafe.org
SUMMARY:Adoptions - Eastford
DESCRIPTION:Applications suggested but not required
URL:https://pawsafe.org/event/adoptions-eastford-147-2-2/2025-03-29/
LOCATION:Eastford CT Shelter\, 348 Old Colony Rd\, Eastford\, CT\, 06242\, United States
CATEGORIES:CT Eastford Shelter
ATTACH;FMTTYPE=image/png:https://pawsafe.org/wp-content/uploads/2025/03/Visit-our-shelter-348-Old-Colony-Rd-Eastford-CT-Wed-4-630pm-Thurs-Sat-Sun-1130am-123opm-Stormville-NY-location-is-foster-based4.png
END:VEVENT
BEGIN:VEVENT
DTSTART;TZID=America/New_York:20250329T100000
DTEND;TZID=America/New_York:20250329T100000
DTSTAMP:20260425T080608
CREATED:20250316T151319Z
LAST-MODIFIED:20250316T151338Z
UID:10001019-1743242400-1743242400@pawsafe.org
SUMMARY:NY Adoptions @ Tractor Supply Patterson
DESCRIPTION:
URL:https://pawsafe.org/event/ny-adoptions-tractor-supply-patterson-5/
LOCATION:Tractor Supply Patterson NY\, 1253 Route 311\, Patterson\, NY\, 12563\, United States
CATEGORIES:NY Off-Site event
ATTACH;FMTTYPE=image/jpeg:https://pawsafe.org/wp-content/uploads/2025/02/Tractor-Supply-Patterson.jpg
ORGANIZER;CN="Sharon":MAILTO:sharon@pawsafe.org
END:VEVENT
BEGIN:VEVENT
DTSTART;TZID=America/New_York:20250327T103000
DTEND;TZID=America/New_York:20250327T123000
DTSTAMP:20260425T080608
CREATED:20250326T231635Z
LAST-MODIFIED:20250909T190519Z
UID:10000656-1743071400-1743078600@pawsafe.org
SUMMARY:Adoptions - Eastford
DESCRIPTION:Application preferred but not required
URL:https://pawsafe.org/event/adoptions-eastford-146-2-2-2/2025-03-27/
LOCATION:Eastford CT Shelter\, 348 Old Colony Rd\, Eastford\, CT\, 06242\, United States
CATEGORIES:CT Eastford Shelter
ATTACH;FMTTYPE=image/png:https://pawsafe.org/wp-content/uploads/2025/03/Visit-our-shelter-348-Old-Colony-Rd-Eastford-CT-Wed-4-630pm-Thurs-Sat-Sun-1130am-123opm-Stormville-NY-location-is-foster-based4.png
END:VEVENT
BEGIN:VEVENT
DTSTART;TZID=America/New_York:20250326T160000
DTEND;TZID=America/New_York:20250326T183000
DTSTAMP:20260425T080608
CREATED:20241229T141313Z
LAST-MODIFIED:20250326T231226Z
UID:10000958-1743004800-1743013800@pawsafe.org
SUMMARY:Adoptions - Eastford
DESCRIPTION:Applications and appointments preferred but not required
URL:https://pawsafe.org/event/adoptions-eastford-149/2025-03-26/
LOCATION:Eastford CT Shelter\, 348 Old Colony Rd\, Eastford\, CT\, 06242\, United States
CATEGORIES:CT Eastford Shelter
ATTACH;FMTTYPE=image/png:https://pawsafe.org/wp-content/uploads/2024/10/winter-hours.png
END:VEVENT
BEGIN:VEVENT
DTSTART;TZID=America/New_York:20250323T103000
DTEND;TZID=America/New_York:20250323T123000
DTSTAMP:20260425T080608
CREATED:20241229T141045Z
LAST-MODIFIED:20250305T001135Z
UID:10000837-1742725800-1742733000@pawsafe.org
SUMMARY:Adoptions - Eastford
DESCRIPTION:Applications and appointments preferred but not required
URL:https://pawsafe.org/event/adoptions-eastford-148/2025-03-23/
LOCATION:Eastford CT Shelter\, 348 Old Colony Rd\, Eastford\, CT\, 06242\, United States
CATEGORIES:CT Eastford Shelter
ATTACH;FMTTYPE=image/png:https://pawsafe.org/wp-content/uploads/2024/10/winter-hours.png
END:VEVENT
BEGIN:VEVENT
DTSTART;TZID=America/New_York:20250322T103000
DTEND;TZID=America/New_York:20250322T123000
DTSTAMP:20260425T080608
CREATED:20241229T140607Z
LAST-MODIFIED:20250305T000940Z
UID:10000715-1742639400-1742646600@pawsafe.org
SUMMARY:Adoptions - Eastford
DESCRIPTION:Applications and appointments preferred but not required
URL:https://pawsafe.org/event/adoptions-eastford-147-2/2025-03-22/
LOCATION:Eastford CT Shelter\, 348 Old Colony Rd\, Eastford\, CT\, 06242\, United States
CATEGORIES:CT Eastford Shelter
ATTACH;FMTTYPE=image/png:https://pawsafe.org/wp-content/uploads/2024/10/winter-hours.png
END:VEVENT
BEGIN:VEVENT
DTSTART;TZID=America/New_York:20250322T100000
DTEND;TZID=America/New_York:20250322T100000
DTSTAMP:20260425T080608
CREATED:20250316T151157Z
LAST-MODIFIED:20250316T151253Z
UID:10001018-1742637600-1742637600@pawsafe.org
SUMMARY:NY Adoptions @ Tractor Supply Patterson
DESCRIPTION:
URL:https://pawsafe.org/event/ny-adoptions-tractor-supply-patterson-4/
LOCATION:Tractor Supply Patterson NY\, 1253 Route 311\, Patterson\, NY\, 12563\, United States
CATEGORIES:NY Off-Site event
ATTACH;FMTTYPE=image/jpeg:https://pawsafe.org/wp-content/uploads/2025/02/Tractor-Supply-Patterson.jpg
ORGANIZER;CN="Sharon":MAILTO:sharon@pawsafe.org
END:VEVENT
BEGIN:VEVENT
DTSTART;TZID=America/New_York:20250320T103000
DTEND;TZID=America/New_York:20250320T123000
DTSTAMP:20260425T080608
CREATED:20241229T140258Z
LAST-MODIFIED:20250305T002009Z
UID:10000655-1742466600-1742473800@pawsafe.org
SUMMARY:Adoptions - Eastford
DESCRIPTION:Application and appointments preferred but not required
URL:https://pawsafe.org/event/adoptions-eastford-146-2-2/2025-03-20/
LOCATION:Eastford CT Shelter\, 348 Old Colony Rd\, Eastford\, CT\, 06242\, United States
CATEGORIES:CT Eastford Shelter
ATTACH;FMTTYPE=image/png:https://pawsafe.org/wp-content/uploads/2024/10/winter-hours.png
END:VEVENT
BEGIN:VEVENT
DTSTART;TZID=America/New_York:20250319T160000
DTEND;TZID=America/New_York:20250319T183000
DTSTAMP:20260425T080608
CREATED:20241229T141313Z
LAST-MODIFIED:20250326T231226Z
UID:10000957-1742400000-1742409000@pawsafe.org
SUMMARY:Adoptions - Eastford
DESCRIPTION:Applications and appointments preferred but not required
URL:https://pawsafe.org/event/adoptions-eastford-149/2025-03-19/
LOCATION:Eastford CT Shelter\, 348 Old Colony Rd\, Eastford\, CT\, 06242\, United States
CATEGORIES:CT Eastford Shelter
ATTACH;FMTTYPE=image/png:https://pawsafe.org/wp-content/uploads/2024/10/winter-hours.png
END:VEVENT
BEGIN:VEVENT
DTSTART;TZID=America/New_York:20250316T110000
DTEND;TZID=America/New_York:20250316T130000
DTSTAMP:20260425T080608
CREATED:20250305T003512Z
LAST-MODIFIED:20250305T003512Z
UID:10001015-1742122800-1742130000@pawsafe.org
SUMMARY:Adoptions - Ellington
DESCRIPTION:Appointments and applications appreciated!
URL:https://pawsafe.org/event/adoptions-ellington-23/
LOCATION:Ellington CT Shelter\, 110 Sandy Beach Rd\, Ellington\, CT\, 06029\, United States
CATEGORIES:CT Ellington Shelter
ATTACH;FMTTYPE=image/png:https://pawsafe.org/wp-content/uploads/2024/09/ellington-adoptions.png
END:VEVENT
BEGIN:VEVENT
DTSTART;TZID=America/New_York:20250315T110000
DTEND;TZID=America/New_York:20250315T130000
DTSTAMP:20260425T080608
CREATED:20250305T003356Z
LAST-MODIFIED:20250305T003356Z
UID:10001014-1742036400-1742043600@pawsafe.org
SUMMARY:Adoptions - Ellington
DESCRIPTION:Appointments and applications appreciated!
URL:https://pawsafe.org/event/adoptions-ellington-22/
LOCATION:Ellington CT Shelter\, 110 Sandy Beach Rd\, Ellington\, CT\, 06029\, United States
CATEGORIES:CT Ellington Shelter
ATTACH;FMTTYPE=image/png:https://pawsafe.org/wp-content/uploads/2024/09/ellington-adoptions.png
END:VEVENT
BEGIN:VEVENT
DTSTART;TZID=America/New_York:20250313T110000
DTEND;TZID=America/New_York:20250313T130000
DTSTAMP:20260425T080608
CREATED:20250305T003014Z
LAST-MODIFIED:20250305T003014Z
UID:10001013-1741863600-1741870800@pawsafe.org
SUMMARY:Adoptions - Ellington
DESCRIPTION:Appointments and applications appreciated!
URL:https://pawsafe.org/event/adoptions-ellington-21/
LOCATION:Ellington CT Shelter\, 110 Sandy Beach Rd\, Ellington\, CT\, 06029\, United States
CATEGORIES:CT Ellington Shelter
ATTACH;FMTTYPE=image/png:https://pawsafe.org/wp-content/uploads/2024/09/ellington-adoptions.png
END:VEVENT
BEGIN:VEVENT
DTSTART;TZID=America/New_York:20250312T153000
DTEND;TZID=America/New_York:20250312T183000
DTSTAMP:20260425T080608
CREATED:20250305T002851Z
LAST-MODIFIED:20250305T002851Z
UID:10001012-1741793400-1741804200@pawsafe.org
SUMMARY:Adoptions - Ellington
DESCRIPTION:Appointments and applications appreciated!
URL:https://pawsafe.org/event/adoptions-ellington-20/
LOCATION:Ellington CT Shelter\, 110 Sandy Beach Rd\, Ellington\, CT\, 06029\, United States
CATEGORIES:CT Ellington Shelter
ATTACH;FMTTYPE=image/png:https://pawsafe.org/wp-content/uploads/2024/09/ellington-adoptions.png
END:VEVENT
BEGIN:VEVENT
DTSTART;TZID=America/New_York:20250309T103000
DTEND;TZID=America/New_York:20250309T123000
DTSTAMP:20260425T080608
CREATED:20241229T141045Z
LAST-MODIFIED:20250305T001135Z
UID:10000835-1741516200-1741523400@pawsafe.org
SUMMARY:Adoptions - Eastford
DESCRIPTION:Applications and appointments preferred but not required
URL:https://pawsafe.org/event/adoptions-eastford-148/2025-03-09/
LOCATION:Eastford CT Shelter\, 348 Old Colony Rd\, Eastford\, CT\, 06242\, United States
CATEGORIES:CT Eastford Shelter
ATTACH;FMTTYPE=image/png:https://pawsafe.org/wp-content/uploads/2024/10/winter-hours.png
END:VEVENT
BEGIN:VEVENT
DTSTART;TZID=America/New_York:20250309T100000
DTEND;TZID=America/New_York:20250309T103000
DTSTAMP:20260425T080608
CREATED:20250308T234230Z
LAST-MODIFIED:20250308T234230Z
UID:10001017-1741514400-1741516200@pawsafe.org
SUMMARY:NY Italian Dessert Adoptions @ Choice Pet Carmel NY
DESCRIPTION:
URL:https://pawsafe.org/event/ny-italian-dessert-adoptions-choice-pet-carmel-ny/
LOCATION:Choice Pet – Carmel NY\, 1920 US-6\, Carmel\, NY\, 10512\, United States
CATEGORIES:NY Off-Site event
ORGANIZER;CN="Sharon":MAILTO:sharon@pawsafe.org
END:VEVENT
BEGIN:VEVENT
DTSTART;TZID=America/New_York:20250308T103000
DTEND;TZID=America/New_York:20250308T123000
DTSTAMP:20260425T080608
CREATED:20241229T140607Z
LAST-MODIFIED:20250305T000940Z
UID:10000713-1741429800-1741437000@pawsafe.org
SUMMARY:Adoptions - Eastford
DESCRIPTION:Applications and appointments preferred but not required
URL:https://pawsafe.org/event/adoptions-eastford-147-2/2025-03-08/
LOCATION:Eastford CT Shelter\, 348 Old Colony Rd\, Eastford\, CT\, 06242\, United States
CATEGORIES:CT Eastford Shelter
ATTACH;FMTTYPE=image/png:https://pawsafe.org/wp-content/uploads/2024/10/winter-hours.png
END:VEVENT
END:VCALENDAR