BEGIN:VCALENDAR
VERSION:2.0
PRODID:-//PawSafeAnimal Rescue - ECPv6.15.20//NONSGML v1.0//EN
CALSCALE:GREGORIAN
METHOD:PUBLISH
X-WR-CALNAME:PawSafeAnimal Rescue
X-ORIGINAL-URL:https://pawsafe.org
X-WR-CALDESC:Events for PawSafeAnimal Rescue
REFRESH-INTERVAL;VALUE=DURATION:PT1H
X-Robots-Tag:noindex
X-PUBLISHED-TTL:PT1H
BEGIN:VTIMEZONE
TZID:UTC
BEGIN:STANDARD
TZOFFSETFROM:+0000
TZOFFSETTO:+0000
TZNAME:UTC
DTSTART:20230101T000000
END:STANDARD
END:VTIMEZONE
BEGIN:VTIMEZONE
TZID:America/New_York
BEGIN:DAYLIGHT
TZOFFSETFROM:-0500
TZOFFSETTO:-0400
TZNAME:EDT
DTSTART:20230312T070000
END:DAYLIGHT
BEGIN:STANDARD
TZOFFSETFROM:-0400
TZOFFSETTO:-0500
TZNAME:EST
DTSTART:20231105T060000
END:STANDARD
BEGIN:DAYLIGHT
TZOFFSETFROM:-0500
TZOFFSETTO:-0400
TZNAME:EDT
DTSTART:20240310T070000
END:DAYLIGHT
BEGIN:STANDARD
TZOFFSETFROM:-0400
TZOFFSETTO:-0500
TZNAME:EST
DTSTART:20241103T060000
END:STANDARD
BEGIN:DAYLIGHT
TZOFFSETFROM:-0500
TZOFFSETTO:-0400
TZNAME:EDT
DTSTART:20250309T070000
END:DAYLIGHT
BEGIN:STANDARD
TZOFFSETFROM:-0400
TZOFFSETTO:-0500
TZNAME:EST
DTSTART:20251102T060000
END:STANDARD
END:VTIMEZONE
BEGIN:VEVENT
DTSTART;TZID=UTC:20240925T153000
DTEND;TZID=UTC:20240925T190000
DTSTAMP:20260425T213735
CREATED:20240826T014030Z
LAST-MODIFIED:20240826T014048Z
UID:10000312-1727278200-1727290800@pawsafe.org
SUMMARY:Adoptions - Eastford
DESCRIPTION:Application and Appointments requested but not required!
URL:https://pawsafe.org/event/adoptions-eastford-131/
LOCATION:Eastford CT Shelter\, 348 Old Colony Rd\, Eastford\, CT\, 06242\, United States
CATEGORIES:CT Eastford Shelter
ATTACH;FMTTYPE=image/png:https://pawsafe.org/wp-content/uploads/2024/06/Oct-2.png
END:VEVENT
BEGIN:VEVENT
DTSTART;TZID=America/New_York:20240922T110000
DTEND;TZID=America/New_York:20240922T130000
DTSTAMP:20260425T213735
CREATED:20240921T002912Z
LAST-MODIFIED:20241029T001646Z
UID:10000392-1727002800-1727010000@pawsafe.org
SUMMARY:Adoptions - Eastford
DESCRIPTION:Application and Appointments requested but not required!
URL:https://pawsafe.org/event/adoptions-eastford-123-2-2/2024-09-22/
LOCATION:Eastford CT Shelter\, 348 Old Colony Rd\, Eastford\, CT\, 06242\, United States
CATEGORIES:CT Eastford Shelter
ATTACH;FMTTYPE=image/png:https://pawsafe.org/wp-content/uploads/2024/06/Oct-2.png
END:VEVENT
BEGIN:VEVENT
DTSTART;TZID=America/New_York:20240922T090000
DTEND;TZID=America/New_York:20240922T140000
DTSTAMP:20260425T213735
CREATED:20240919T140854Z
LAST-MODIFIED:20240920T165550Z
UID:10000410-1726995600-1727013600@pawsafe.org
SUMMARY:NY Adoptions @ Carmel Farmers Market
DESCRIPTION:
URL:https://pawsafe.org/event/ny-adoptions-carmel-farmers-market-4/
LOCATION:Mahopac Chamber Park\, 953 S Lake Boulevard\, Mahopac\, NY\, 10541\, United States
CATEGORIES:NY Off-Site event
ATTACH;FMTTYPE=image/jpeg:https://pawsafe.org/wp-content/uploads/2024/09/9-22-2024-Carmel-Farmers-Market-1.jpg
END:VEVENT
BEGIN:VEVENT
DTSTART;TZID=America/New_York:20240921T113000
DTEND;TZID=America/New_York:20240921T160000
DTSTAMP:20260425T213735
CREATED:20240603T154313Z
LAST-MODIFIED:20240730T173733Z
UID:10000226-1726918200-1726934400@pawsafe.org
SUMMARY:NY Adoptions @ Dover Day
DESCRIPTION:
URL:https://pawsafe.org/event/ny-adoptions-dover-day/
LOCATION:Thomas J Boyce Park\, 6420 NY 55\, Wingdale\, 12594\, United States
CATEGORIES:NY Off-Site event
ATTACH;FMTTYPE=application/pdf:https://pawsafe.org/wp-content/uploads/2024/06/Dover-Day-2024.pdf
END:VEVENT
BEGIN:VEVENT
DTSTART;TZID=America/New_York:20240921T110000
DTEND;TZID=America/New_York:20240921T130000
DTSTAMP:20260425T213735
CREATED:20240919T182211Z
LAST-MODIFIED:20240919T182211Z
UID:10000414-1726916400-1726923600@pawsafe.org
SUMMARY:Adoptions – Eastford
DESCRIPTION:Application and Appointments requested but not required!
URL:https://pawsafe.org/event/adoptions-eastford-72/
LOCATION:Eastford CT Shelter\, 348 Old Colony Rd\, Eastford\, CT\, 06242\, United States
CATEGORIES:CT Eastford Shelter
ATTACH;FMTTYPE=image/png:https://pawsafe.org/wp-content/uploads/2024/06/Oct-2.png
END:VEVENT
BEGIN:VEVENT
DTSTART;TZID=UTC:20240919T110000
DTEND;TZID=UTC:20240919T130000
DTSTAMP:20260425T213735
CREATED:20240804T125953Z
LAST-MODIFIED:20240826T014607Z
UID:10000317-1726743600-1726750800@pawsafe.org
SUMMARY:Adoptions - Eastford
DESCRIPTION:Application and Appointments requested but not required!
URL:https://pawsafe.org/event/adoptions-eastford-127/2024-09-19/
LOCATION:Eastford CT Shelter\, 348 Old Colony Rd\, Eastford\, CT\, 06242\, United States
CATEGORIES:CT Eastford Shelter
ATTACH;FMTTYPE=image/png:https://pawsafe.org/wp-content/uploads/2024/06/Oct-2.png
END:VEVENT
BEGIN:VEVENT
DTSTART;TZID=UTC:20240918T153000
DTEND;TZID=UTC:20240918T190000
DTSTAMP:20260425T213735
CREATED:20240826T014008Z
LAST-MODIFIED:20240826T014008Z
UID:10000311-1726673400-1726686000@pawsafe.org
SUMMARY:Adoptions - Eastford
DESCRIPTION:Application and Appointments requested but not required!
URL:https://pawsafe.org/event/adoptions-eastford-130/
LOCATION:Eastford CT Shelter\, 348 Old Colony Rd\, Eastford\, CT\, 06242\, United States
CATEGORIES:CT Eastford Shelter
ATTACH;FMTTYPE=image/png:https://pawsafe.org/wp-content/uploads/2024/06/Oct-2.png
END:VEVENT
BEGIN:VEVENT
DTSTART;TZID=America/New_York:20240915T110000
DTEND;TZID=America/New_York:20240915T130000
DTSTAMP:20260425T213735
CREATED:20240826T015536Z
LAST-MODIFIED:20240826T015536Z
UID:10000391-1726398000-1726405200@pawsafe.org
SUMMARY:Adoptions - Eastford
DESCRIPTION:Application and Appointments requested but not required!
URL:https://pawsafe.org/event/adoptions-eastford-123-2/2024-09-15/
LOCATION:Eastford CT Shelter\, 348 Old Colony Rd\, Eastford\, CT\, 06242\, United States
CATEGORIES:CT Eastford Shelter
ATTACH;FMTTYPE=image/png:https://pawsafe.org/wp-content/uploads/2024/06/Oct-2.png
END:VEVENT
BEGIN:VEVENT
DTSTART;TZID=America/New_York:20240914T120000
DTEND;TZID=America/New_York:20240914T150000
DTSTAMP:20260425T213735
CREATED:20240703T190601Z
LAST-MODIFIED:20240730T173800Z
UID:10000271-1726315200-1726326000@pawsafe.org
SUMMARY:NY Adoptions @ Kent Community Day
DESCRIPTION:
URL:https://pawsafe.org/event/9-14-ny-adoptions-kent-community-day/
LOCATION:Kent Town Center\, 25 Sybil's Crossing\, Kent Lakes\, NY\, 10512\, United States
CATEGORIES:NY Off-Site event
ATTACH;FMTTYPE=image/jpeg:https://pawsafe.org/wp-content/uploads/2024/07/Ken-Comm-Day-2024.jpg
END:VEVENT
BEGIN:VEVENT
DTSTART;TZID=UTC:20240912T110000
DTEND;TZID=UTC:20240912T130000
DTSTAMP:20260425T213735
CREATED:20240804T125953Z
LAST-MODIFIED:20240826T014607Z
UID:10000316-1726138800-1726146000@pawsafe.org
SUMMARY:Adoptions - Eastford
DESCRIPTION:Application and Appointments requested but not required!
URL:https://pawsafe.org/event/adoptions-eastford-127/2024-09-12/
LOCATION:Eastford CT Shelter\, 348 Old Colony Rd\, Eastford\, CT\, 06242\, United States
CATEGORIES:CT Eastford Shelter
ATTACH;FMTTYPE=image/png:https://pawsafe.org/wp-content/uploads/2024/06/Oct-2.png
END:VEVENT
BEGIN:VEVENT
DTSTART;TZID=UTC:20240911T153000
DTEND;TZID=UTC:20240911T190000
DTSTAMP:20260425T213735
CREATED:20240826T013944Z
LAST-MODIFIED:20240826T013944Z
UID:10000310-1726068600-1726081200@pawsafe.org
SUMMARY:Adoptions - Eastford
DESCRIPTION:Application and Appointments requested but not required!
URL:https://pawsafe.org/event/adoptions-eastford-129/
LOCATION:Eastford CT Shelter\, 348 Old Colony Rd\, Eastford\, CT\, 06242\, United States
CATEGORIES:CT Eastford Shelter
ATTACH;FMTTYPE=image/png:https://pawsafe.org/wp-content/uploads/2024/06/Oct-2.png
END:VEVENT
BEGIN:VEVENT
DTSTART;TZID=America/New_York:20240908T120000
DTEND;TZID=America/New_York:20240908T160000
DTSTAMP:20260425T213735
CREATED:20240903T003315Z
LAST-MODIFIED:20240903T003332Z
UID:10000407-1725796800-1725811200@pawsafe.org
SUMMARY:CT Tattoo Pop-Up Shop & PawSafe Adoption Event
DESCRIPTION:EVENT HIGHLIGHTS \nBlack Hatchet Tattoo Co.\n‍Lex\, Shannon\, & Jay will be doing sign ups for animal themed flash tattoos on a first come\, first serve basis \nPawSafe Animal Rescue\nPawSafe will be on the back patio with dogs available for adoption and giveaways! \nDelicious Food & Drinks\nWith a donation of $10\, you will receive a wristband for food and drink specials. \nRaffle\nBring a new item from PawSafe’s wish list to be entered to win exclusive prizes \n‍ \nFree to attend – no tickets needed!
URL:https://pawsafe.org/event/ct-tattoo-pop-up-shop-pawsafe-adoption-event/
LOCATION:Elicit Brewing Company\, 165 Adams St\, Manchester\, CT\, 06042\, United States
CATEGORIES:CT Off-site event
ATTACH;FMTTYPE=image/png:https://pawsafe.org/wp-content/uploads/2024/09/66d49401997a6ac0a4fabc3f_Screenshot-2024-09-01-121830.png
END:VEVENT
BEGIN:VEVENT
DTSTART;TZID=America/New_York:20240908T110000
DTEND;TZID=America/New_York:20240908T150000
DTSTAMP:20260425T213736
CREATED:20240901T231730Z
LAST-MODIFIED:20240901T232111Z
UID:10000406-1725793200-1725807600@pawsafe.org
SUMMARY:NY Adoptions @ Mahopac Falls FD Open House
DESCRIPTION:
URL:https://pawsafe.org/event/ny-adoptions-mahopac-falls-fd-open-house/
LOCATION:Mahopac Falls Fire Department\, 17 Luccaro Lane\, Mahopac\, NY\, 10541\, United States
CATEGORIES:NY Off-Site event
ATTACH;FMTTYPE=image/jpeg:https://pawsafe.org/wp-content/uploads/2024/09/Mahopac-Falls-FD.jpg
END:VEVENT
BEGIN:VEVENT
DTSTART;TZID=America/New_York:20240908T110000
DTEND;TZID=America/New_York:20240908T130000
DTSTAMP:20260425T213736
CREATED:20240826T015536Z
LAST-MODIFIED:20240826T015536Z
UID:10000390-1725793200-1725800400@pawsafe.org
SUMMARY:Adoptions - Eastford
DESCRIPTION:Application and Appointments requested but not required!
URL:https://pawsafe.org/event/adoptions-eastford-123-2/2024-09-08/
LOCATION:Eastford CT Shelter\, 348 Old Colony Rd\, Eastford\, CT\, 06242\, United States
CATEGORIES:CT Eastford Shelter
ATTACH;FMTTYPE=image/png:https://pawsafe.org/wp-content/uploads/2024/06/Oct-2.png
END:VEVENT
BEGIN:VEVENT
DTSTART;TZID=UTC:20240908T100000
DTEND;TZID=UTC:20240908T140000
DTSTAMP:20260425T213736
CREATED:20240826T012948Z
LAST-MODIFIED:20240826T012948Z
UID:10000308-1725789600-1725804000@pawsafe.org
SUMMARY:CT adoptions at Stafford Farm Day
DESCRIPTION:Pass by and meet some amazing puppies/dogs for adoption and enjoy a great day with over 100 vendors\, live music\, and food trucks!
URL:https://pawsafe.org/event/ct-adoptions-at-stafford-farm-day-3/
LOCATION:Farm Day @ Heritage Park CT\, 21 Stafford Street\, Stafford\, CT\, 06076\, United States
CATEGORIES:CT Off-site event
ATTACH;FMTTYPE=image/png:https://pawsafe.org/wp-content/uploads/2024/08/scrnli_8_25_2024_9-20-49-PM.png
END:VEVENT
BEGIN:VEVENT
DTSTART;TZID=America/New_York:20240907T110000
DTEND;TZID=America/New_York:20240907T140000
DTSTAMP:20260425T213736
CREATED:20240904T175626Z
LAST-MODIFIED:20240904T175708Z
UID:10000408-1725706800-1725717600@pawsafe.org
SUMMARY:NY Adoptions @ Hops on the Hudson
DESCRIPTION:
URL:https://pawsafe.org/event/ny-adoptions-hops-on-the-hudson/
LOCATION:St Mary’s Episcopal Chruch\, 1 Chestnut Street\, Cold Spring\, NY\, 10516\, United States
CATEGORIES:NY Off-Site event
ATTACH;FMTTYPE=image/jpeg:https://pawsafe.org/wp-content/uploads/2024/09/Hops-on-the-Hudson.jpg
END:VEVENT
BEGIN:VEVENT
DTSTART;TZID=UTC:20240907T100000
DTEND;TZID=UTC:20240907T150000
DTSTAMP:20260425T213736
CREATED:20240826T012909Z
LAST-MODIFIED:20240826T013134Z
UID:10000307-1725703200-1725721200@pawsafe.org
SUMMARY:CT adoptions at Stafford Farm Day
DESCRIPTION:Pass by and meet some amazing puppies/dogs for adoption and enjoy a great day with over 100 vendors\, live music\, and food trucks!
URL:https://pawsafe.org/event/ct-adoptions-at-stafford-farm-day-2/
LOCATION:Farm Day @ Heritage Park CT\, 21 Stafford Street\, Stafford\, CT\, 06076\, United States
CATEGORIES:CT Off-site event
ATTACH;FMTTYPE=image/png:https://pawsafe.org/wp-content/uploads/2024/08/scrnli_8_25_2024_9-20-49-PM.png
END:VEVENT
BEGIN:VEVENT
DTSTART;TZID=UTC:20240905T110000
DTEND;TZID=UTC:20240905T130000
DTSTAMP:20260425T213736
CREATED:20240804T125953Z
LAST-MODIFIED:20240826T014607Z
UID:10000315-1725534000-1725541200@pawsafe.org
SUMMARY:Adoptions - Eastford
DESCRIPTION:Application and Appointments requested but not required!
URL:https://pawsafe.org/event/adoptions-eastford-127/2024-09-05/
LOCATION:Eastford CT Shelter\, 348 Old Colony Rd\, Eastford\, CT\, 06242\, United States
CATEGORIES:CT Eastford Shelter
ATTACH;FMTTYPE=image/png:https://pawsafe.org/wp-content/uploads/2024/06/Oct-2.png
END:VEVENT
BEGIN:VEVENT
DTSTART;TZID=UTC:20240904T153000
DTEND;TZID=UTC:20240904T190000
DTSTAMP:20260425T213736
CREATED:20240826T013810Z
LAST-MODIFIED:20240826T013810Z
UID:10000309-1725463800-1725476400@pawsafe.org
SUMMARY:Adoptions - Eastford
DESCRIPTION:Application and Appointments requested but not required!
URL:https://pawsafe.org/event/adoptions-eastford-128/
LOCATION:Eastford CT Shelter\, 348 Old Colony Rd\, Eastford\, CT\, 06242\, United States
CATEGORIES:CT Eastford Shelter
ATTACH;FMTTYPE=image/png:https://pawsafe.org/wp-content/uploads/2024/06/Oct-2.png
END:VEVENT
BEGIN:VEVENT
DTSTART;TZID=America/New_York:20240901T110000
DTEND;TZID=America/New_York:20240901T130000
DTSTAMP:20260425T213736
CREATED:20240826T015536Z
LAST-MODIFIED:20240826T015536Z
UID:10000373-1725188400-1725195600@pawsafe.org
SUMMARY:Adoptions - Eastford
DESCRIPTION:Application and Appointments requested but not required!
URL:https://pawsafe.org/event/adoptions-eastford-123-2/2024-09-01/
LOCATION:Eastford CT Shelter\, 348 Old Colony Rd\, Eastford\, CT\, 06242\, United States
CATEGORIES:CT Eastford Shelter
ATTACH;FMTTYPE=image/png:https://pawsafe.org/wp-content/uploads/2024/06/Oct-2.png
END:VEVENT
BEGIN:VEVENT
DTSTART;TZID=America/New_York:20240901T110000
DTEND;TZID=America/New_York:20240901T130000
DTSTAMP:20260425T213736
CREATED:20240730T131958Z
LAST-MODIFIED:20240804T130426Z
UID:10000299-1725188400-1725195600@pawsafe.org
SUMMARY:Adoptions - Eastford
DESCRIPTION:Application and Appointments requested but not required!
URL:https://pawsafe.org/event/adoptions-eastford-120/2024-09-01/
LOCATION:Eastford CT Shelter\, 348 Old Colony Rd\, Eastford\, CT\, 06242\, United States
CATEGORIES:CT Eastford Shelter
ATTACH;FMTTYPE=image/png:https://pawsafe.org/wp-content/uploads/2024/06/Oct-2.png
END:VEVENT
BEGIN:VEVENT
DTSTART;TZID=UTC:20240901T100000
DTEND;TZID=UTC:20240901T130000
DTSTAMP:20260425T213736
CREATED:20240826T012626Z
LAST-MODIFIED:20240826T012626Z
UID:10000306-1725184800-1725195600@pawsafe.org
SUMMARY:Coventry CT Farmers Market
DESCRIPTION:Applications preferred\, first come/first serve adoptions.
URL:https://pawsafe.org/event/coventry-ct-farmers-market/
LOCATION:Coventry Farmers’ Market\, 2299 South St\, Coventry\, CT\, 06238\, United States
CATEGORIES:CT Off-site event
ATTACH;FMTTYPE=image/png:https://pawsafe.org/wp-content/uploads/2024/08/coventry-farmers-market-logo-2x.png
END:VEVENT
BEGIN:VEVENT
DTSTART;TZID=UTC:20240831T110000
DTEND;TZID=UTC:20240831T130000
DTSTAMP:20260425T213736
CREATED:20240826T015055Z
LAST-MODIFIED:20240826T015056Z
UID:10000302-1725102000-1725109200@pawsafe.org
SUMMARY:Adoptions - Eastford
DESCRIPTION:Application and Appointments requested but not required!
URL:https://pawsafe.org/event/adoptions-eastford-119-2/
LOCATION:Eastford CT Shelter\, 348 Old Colony Rd\, Eastford\, CT\, 06242\, United States
CATEGORIES:CT Eastford Shelter
ATTACH;FMTTYPE=image/png:https://pawsafe.org/wp-content/uploads/2024/06/Oct-2.png
END:VEVENT
BEGIN:VEVENT
DTSTART;TZID=America/New_York:20240831T080000
DTEND;TZID=America/New_York:20240831T130000
DTSTAMP:20260425T213736
CREATED:20240603T153247Z
LAST-MODIFIED:20240811T145109Z
UID:10000225-1725091200-1725109200@pawsafe.org
SUMMARY:NY Adoptions @ Peekskill Farmers Market
DESCRIPTION:
URL:https://pawsafe.org/event/ny-adoptions-peekskill-farmers-market-3/
LOCATION:Peekskill Farmers Market\, 1 Bank Street\, Peekskill\, NY\, 10566\, United States
CATEGORIES:NY Off-Site event
ATTACH;FMTTYPE=image/jpeg:https://pawsafe.org/wp-content/uploads/2024/06/Peekskill-Farmers-Market-2024.jpg
END:VEVENT
BEGIN:VEVENT
DTSTART;TZID=UTC:20240829T110000
DTEND;TZID=UTC:20240829T130000
DTSTAMP:20260425T213736
CREATED:20240804T125953Z
LAST-MODIFIED:20240826T014607Z
UID:10000314-1724929200-1724936400@pawsafe.org
SUMMARY:Adoptions - Eastford
DESCRIPTION:Application and Appointments requested but not required!
URL:https://pawsafe.org/event/adoptions-eastford-127/2024-08-29/
LOCATION:Eastford CT Shelter\, 348 Old Colony Rd\, Eastford\, CT\, 06242\, United States
CATEGORIES:CT Eastford Shelter
ATTACH;FMTTYPE=image/png:https://pawsafe.org/wp-content/uploads/2024/06/Oct-2.png
END:VEVENT
BEGIN:VEVENT
DTSTART;TZID=UTC:20240828T153000
DTEND;TZID=UTC:20240828T190000
DTSTAMP:20260425T213736
CREATED:20240804T125827Z
LAST-MODIFIED:20240804T125827Z
UID:10000290-1724859000-1724871600@pawsafe.org
SUMMARY:Adoptions - Eastford
DESCRIPTION:Application and Appointments requested but not required!
URL:https://pawsafe.org/event/adoptions-eastford-126/
LOCATION:Eastford CT Shelter\, 348 Old Colony Rd\, Eastford\, CT\, 06242\, United States
CATEGORIES:CT Eastford Shelter
ATTACH;FMTTYPE=image/png:https://pawsafe.org/wp-content/uploads/2024/06/Oct-2.png
END:VEVENT
BEGIN:VEVENT
DTSTART;TZID=America/New_York:20240825T130000
DTEND;TZID=America/New_York:20240825T170000
DTSTAMP:20260425T213736
CREATED:20240817T000620Z
LAST-MODIFIED:20240817T000640Z
UID:10000304-1724590800-1724605200@pawsafe.org
SUMMARY:(CT) Dog Days of Summer Adoption Event at Elicit Brewing
DESCRIPTION:Join us and our friends at Elicit Brewing Company from 1-5 for a fun event with local craft\, pet and snack vendors.  They will have giveaways and prizes. \nBring your pup and get ready for an excellent day on the patio. Totally free to attend! \nPlus – get first dibs on ordering our exclusive Patio Pups calendar\, benefitting Pawsafe. The calendar will feature photos submitted by Elicit guests – so start snapping some cute shots while you’re here!
URL:https://pawsafe.org/event/ct-dog-days-of-summer-adoption-event-at-elicit-brewing/
LOCATION:CT
CATEGORIES:CT Off-site event
ATTACH;FMTTYPE=image/jpeg:https://pawsafe.org/wp-content/uploads/2024/08/454139176_8387191351332506_4784088556388153531_n.jpg
END:VEVENT
BEGIN:VEVENT
DTSTART;TZID=UTC:20240825T110000
DTEND;TZID=UTC:20240825T130000
DTSTAMP:20260425T213736
CREATED:20240804T125028Z
LAST-MODIFIED:20240826T014919Z
UID:10000372-1724583600-1724590800@pawsafe.org
SUMMARY:Adoptions - Eastford
DESCRIPTION:Application and Appointments requested but not required!
URL:https://pawsafe.org/event/adoptions-eastford-123/2024-08-25/
LOCATION:Eastford CT Shelter\, 348 Old Colony Rd\, Eastford\, CT\, 06242\, United States
CATEGORIES:CT Eastford Shelter
ATTACH;FMTTYPE=image/png:https://pawsafe.org/wp-content/uploads/2024/06/Oct-2.png
END:VEVENT
BEGIN:VEVENT
DTSTART;TZID=America/New_York:20240825T110000
DTEND;TZID=America/New_York:20240825T130000
DTSTAMP:20260425T213736
CREATED:20240730T131958Z
LAST-MODIFIED:20240804T130426Z
UID:10000298-1724583600-1724590800@pawsafe.org
SUMMARY:Adoptions - Eastford
DESCRIPTION:Application and Appointments requested but not required!
URL:https://pawsafe.org/event/adoptions-eastford-120/2024-08-25/
LOCATION:Eastford CT Shelter\, 348 Old Colony Rd\, Eastford\, CT\, 06242\, United States
CATEGORIES:CT Eastford Shelter
ATTACH;FMTTYPE=image/png:https://pawsafe.org/wp-content/uploads/2024/06/Oct-2.png
END:VEVENT
BEGIN:VEVENT
DTSTART;TZID=UTC:20240824T110000
DTEND;TZID=UTC:20240824T130000
DTSTAMP:20260425T213736
CREATED:20240730T131905Z
LAST-MODIFIED:20240804T130627Z
UID:10000301-1724497200-1724504400@pawsafe.org
SUMMARY:Adoptions - Eastford
DESCRIPTION:Application and Appointments requested but not required!
URL:https://pawsafe.org/event/adoptions-eastford-119/2024-08-24/
LOCATION:Eastford CT Shelter\, 348 Old Colony Rd\, Eastford\, CT\, 06242\, United States
CATEGORIES:CT Eastford Shelter
ATTACH;FMTTYPE=image/png:https://pawsafe.org/wp-content/uploads/2024/06/Oct-2.png
END:VEVENT
END:VCALENDAR