BEGIN:VCALENDAR
VERSION:2.0
PRODID:-//PawSafeAnimal Rescue - ECPv6.15.20//NONSGML v1.0//EN
CALSCALE:GREGORIAN
METHOD:PUBLISH
X-WR-CALNAME:PawSafeAnimal Rescue
X-ORIGINAL-URL:https://pawsafe.org
X-WR-CALDESC:Events for PawSafeAnimal Rescue
REFRESH-INTERVAL;VALUE=DURATION:PT1H
X-Robots-Tag:noindex
X-PUBLISHED-TTL:PT1H
BEGIN:VTIMEZONE
TZID:America/New_York
BEGIN:DAYLIGHT
TZOFFSETFROM:-0500
TZOFFSETTO:-0400
TZNAME:EDT
DTSTART:20240310T070000
END:DAYLIGHT
BEGIN:STANDARD
TZOFFSETFROM:-0400
TZOFFSETTO:-0500
TZNAME:EST
DTSTART:20241103T060000
END:STANDARD
BEGIN:DAYLIGHT
TZOFFSETFROM:-0500
TZOFFSETTO:-0400
TZNAME:EDT
DTSTART:20250309T070000
END:DAYLIGHT
BEGIN:STANDARD
TZOFFSETFROM:-0400
TZOFFSETTO:-0500
TZNAME:EST
DTSTART:20251102T060000
END:STANDARD
BEGIN:DAYLIGHT
TZOFFSETFROM:-0500
TZOFFSETTO:-0400
TZNAME:EDT
DTSTART:20260308T070000
END:DAYLIGHT
BEGIN:STANDARD
TZOFFSETFROM:-0400
TZOFFSETTO:-0500
TZNAME:EST
DTSTART:20261101T060000
END:STANDARD
BEGIN:DAYLIGHT
TZOFFSETFROM:-0500
TZOFFSETTO:-0400
TZNAME:EDT
DTSTART:20270314T070000
END:DAYLIGHT
BEGIN:STANDARD
TZOFFSETFROM:-0400
TZOFFSETTO:-0500
TZNAME:EST
DTSTART:20271107T060000
END:STANDARD
END:VTIMEZONE
BEGIN:VEVENT
DTSTART;TZID=America/New_York:20260211T160000
DTEND;TZID=America/New_York:20260211T183000
DTSTAMP:20260423T183350
CREATED:20260102T121109Z
LAST-MODIFIED:20260102T121109Z
UID:10001225-1770825600-1770834600@pawsafe.org
SUMMARY:Adoptions - Eastford
DESCRIPTION:Applications preferred but not required
URL:https://pawsafe.org/event/adoptions-eastford-152-2-2/2026-02-11/
LOCATION:Eastford CT Shelter\, 348 Old Colony Rd\, Eastford\, CT\, 06242\, United States
CATEGORIES:CT Eastford Shelter
ATTACH;FMTTYPE=image/png:https://pawsafe.org/wp-content/uploads/2026/01/hours26.png
END:VEVENT
BEGIN:VEVENT
DTSTART;TZID=America/New_York:20260208T110000
DTEND;TZID=America/New_York:20260208T130000
DTSTAMP:20260423T183350
CREATED:20260102T203929Z
LAST-MODIFIED:20260123T234659Z
UID:10001148-1770548400-1770555600@pawsafe.org
SUMMARY:Adoptions - Eastford
DESCRIPTION:Applications suggested but not required.
URL:https://pawsafe.org/event/adoptions-eastford-148-2-2/2026-02-08/
LOCATION:Eastford CT Shelter\, 348 Old Colony Rd\, Eastford\, CT\, 06242\, United States
CATEGORIES:CT Eastford Shelter
ATTACH;FMTTYPE=image/png:https://pawsafe.org/wp-content/uploads/2026/01/hours26.png
END:VEVENT
BEGIN:VEVENT
DTSTART;TZID=America/New_York:20260207T110000
DTEND;TZID=America/New_York:20260207T130000
DTSTAMP:20260423T183350
CREATED:20260102T204002Z
LAST-MODIFIED:20260102T204002Z
UID:10001100-1770462000-1770469200@pawsafe.org
SUMMARY:Adoptions - Eastford
DESCRIPTION:Applications suggested but not required
URL:https://pawsafe.org/event/adoptions-eastford-147-2-2-2/2026-02-07/
LOCATION:Eastford CT Shelter\, 348 Old Colony Rd\, Eastford\, CT\, 06242\, United States
CATEGORIES:CT Eastford Shelter
ATTACH;FMTTYPE=image/png:https://pawsafe.org/wp-content/uploads/2026/01/hours26.png
END:VEVENT
BEGIN:VEVENT
DTSTART;TZID=America/New_York:20260205T103000
DTEND;TZID=America/New_York:20260205T123000
DTSTAMP:20260423T183350
CREATED:20260102T121208Z
LAST-MODIFIED:20260102T121209Z
UID:10000701-1770287400-1770294600@pawsafe.org
SUMMARY:Adoptions - Eastford
DESCRIPTION:Application preferred but not required
URL:https://pawsafe.org/event/adoptions-eastford-146-2-2-2-2-2/2026-02-05/
LOCATION:Eastford CT Shelter\, 348 Old Colony Rd\, Eastford\, CT\, 06242\, United States
CATEGORIES:CT Eastford Shelter
ATTACH;FMTTYPE=image/png:https://pawsafe.org/wp-content/uploads/2026/01/hours26.png
END:VEVENT
BEGIN:VEVENT
DTSTART;TZID=America/New_York:20260204T160000
DTEND;TZID=America/New_York:20260204T183000
DTSTAMP:20260423T183350
CREATED:20260102T121109Z
LAST-MODIFIED:20260102T121109Z
UID:10001224-1770220800-1770229800@pawsafe.org
SUMMARY:Adoptions - Eastford
DESCRIPTION:Applications preferred but not required
URL:https://pawsafe.org/event/adoptions-eastford-152-2-2/2026-02-04/
LOCATION:Eastford CT Shelter\, 348 Old Colony Rd\, Eastford\, CT\, 06242\, United States
CATEGORIES:CT Eastford Shelter
ATTACH;FMTTYPE=image/png:https://pawsafe.org/wp-content/uploads/2026/01/hours26.png
END:VEVENT
BEGIN:VEVENT
DTSTART;TZID=America/New_York:20260201T110000
DTEND;TZID=America/New_York:20260201T130000
DTSTAMP:20260423T183350
CREATED:20260102T203929Z
LAST-MODIFIED:20260123T234659Z
UID:10001147-1769943600-1769950800@pawsafe.org
SUMMARY:Adoptions - Eastford
DESCRIPTION:Applications suggested but not required.
URL:https://pawsafe.org/event/adoptions-eastford-148-2-2/2026-02-01/
LOCATION:Eastford CT Shelter\, 348 Old Colony Rd\, Eastford\, CT\, 06242\, United States
CATEGORIES:CT Eastford Shelter
ATTACH;FMTTYPE=image/png:https://pawsafe.org/wp-content/uploads/2026/01/hours26.png
END:VEVENT
BEGIN:VEVENT
DTSTART;TZID=America/New_York:20260131T110000
DTEND;TZID=America/New_York:20260131T130000
DTSTAMP:20260423T183350
CREATED:20260118T230429Z
LAST-MODIFIED:20260118T230547Z
UID:10001332-1769857200-1769864400@pawsafe.org
SUMMARY:Hogs & Dogs Adoption Event
DESCRIPTION:
URL:https://pawsafe.org/event/hogs-dogs-adoption-event/
LOCATION:Old School Harley-Davidson\, 398 Somers Rd\, Ellington\, CT\, 06029\, United States
CATEGORIES:CT Off-site event
ATTACH;FMTTYPE=image/jpeg:https://pawsafe.org/wp-content/uploads/2026/01/611099246_4068096933441765_7322763226988767990_n.jpg
END:VEVENT
BEGIN:VEVENT
DTSTART;TZID=America/New_York:20260131T110000
DTEND;TZID=America/New_York:20260131T130000
DTSTAMP:20260423T183350
CREATED:20260102T204002Z
LAST-MODIFIED:20260102T204002Z
UID:10001099-1769857200-1769864400@pawsafe.org
SUMMARY:Adoptions - Eastford
DESCRIPTION:Applications suggested but not required
URL:https://pawsafe.org/event/adoptions-eastford-147-2-2-2/2026-01-31/
LOCATION:Eastford CT Shelter\, 348 Old Colony Rd\, Eastford\, CT\, 06242\, United States
CATEGORIES:CT Eastford Shelter
ATTACH;FMTTYPE=image/png:https://pawsafe.org/wp-content/uploads/2026/01/hours26.png
END:VEVENT
BEGIN:VEVENT
DTSTART;TZID=America/New_York:20260129T103000
DTEND;TZID=America/New_York:20260129T123000
DTSTAMP:20260423T183350
CREATED:20260102T121208Z
LAST-MODIFIED:20260102T121209Z
UID:10000700-1769682600-1769689800@pawsafe.org
SUMMARY:Adoptions - Eastford
DESCRIPTION:Application preferred but not required
URL:https://pawsafe.org/event/adoptions-eastford-146-2-2-2-2-2/2026-01-29/
LOCATION:Eastford CT Shelter\, 348 Old Colony Rd\, Eastford\, CT\, 06242\, United States
CATEGORIES:CT Eastford Shelter
ATTACH;FMTTYPE=image/png:https://pawsafe.org/wp-content/uploads/2026/01/hours26.png
END:VEVENT
BEGIN:VEVENT
DTSTART;TZID=America/New_York:20260128T160000
DTEND;TZID=America/New_York:20260128T183000
DTSTAMP:20260423T183350
CREATED:20260102T121109Z
LAST-MODIFIED:20260102T121109Z
UID:10001223-1769616000-1769625000@pawsafe.org
SUMMARY:Adoptions - Eastford
DESCRIPTION:Applications preferred but not required
URL:https://pawsafe.org/event/adoptions-eastford-152-2-2/2026-01-28/
LOCATION:Eastford CT Shelter\, 348 Old Colony Rd\, Eastford\, CT\, 06242\, United States
CATEGORIES:CT Eastford Shelter
ATTACH;FMTTYPE=image/png:https://pawsafe.org/wp-content/uploads/2026/01/hours26.png
END:VEVENT
BEGIN:VEVENT
DTSTART;TZID=America/New_York:20260124T110000
DTEND;TZID=America/New_York:20260124T130000
DTSTAMP:20260423T183350
CREATED:20260115T155234Z
LAST-MODIFIED:20260115T155234Z
UID:10001331-1769252400-1769259600@pawsafe.org
SUMMARY:NY Adoptions @ Tractor Supply Patterson
DESCRIPTION:
URL:https://pawsafe.org/event/ny-adoptions-tractor-supply-patterson-12/
LOCATION:Tractor Supply Patterson NY\, 1253 Route 311\, Patterson\, NY\, 12563\, United States
CATEGORIES:NY Off-Site event
ATTACH;FMTTYPE=image/jpeg:https://pawsafe.org/wp-content/uploads/2025/02/Tractor-Supply-Patterson.jpg
END:VEVENT
BEGIN:VEVENT
DTSTART;TZID=America/New_York:20260124T110000
DTEND;TZID=America/New_York:20260124T130000
DTSTAMP:20260423T183350
CREATED:20260102T204002Z
LAST-MODIFIED:20260102T204002Z
UID:10001098-1769252400-1769259600@pawsafe.org
SUMMARY:Adoptions - Eastford
DESCRIPTION:Applications suggested but not required
URL:https://pawsafe.org/event/adoptions-eastford-147-2-2-2/2026-01-24/
LOCATION:Eastford CT Shelter\, 348 Old Colony Rd\, Eastford\, CT\, 06242\, United States
CATEGORIES:CT Eastford Shelter
ATTACH;FMTTYPE=image/png:https://pawsafe.org/wp-content/uploads/2026/01/hours26.png
END:VEVENT
BEGIN:VEVENT
DTSTART;TZID=America/New_York:20260122T103000
DTEND;TZID=America/New_York:20260122T123000
DTSTAMP:20260423T183350
CREATED:20260102T121208Z
LAST-MODIFIED:20260102T121209Z
UID:10000699-1769077800-1769085000@pawsafe.org
SUMMARY:Adoptions - Eastford
DESCRIPTION:Application preferred but not required
URL:https://pawsafe.org/event/adoptions-eastford-146-2-2-2-2-2/2026-01-22/
LOCATION:Eastford CT Shelter\, 348 Old Colony Rd\, Eastford\, CT\, 06242\, United States
CATEGORIES:CT Eastford Shelter
ATTACH;FMTTYPE=image/png:https://pawsafe.org/wp-content/uploads/2026/01/hours26.png
END:VEVENT
BEGIN:VEVENT
DTSTART;TZID=America/New_York:20260121T160000
DTEND;TZID=America/New_York:20260121T183000
DTSTAMP:20260423T183350
CREATED:20260102T121109Z
LAST-MODIFIED:20260102T121109Z
UID:10001222-1769011200-1769020200@pawsafe.org
SUMMARY:Adoptions - Eastford
DESCRIPTION:Applications preferred but not required
URL:https://pawsafe.org/event/adoptions-eastford-152-2-2/2026-01-21/
LOCATION:Eastford CT Shelter\, 348 Old Colony Rd\, Eastford\, CT\, 06242\, United States
CATEGORIES:CT Eastford Shelter
ATTACH;FMTTYPE=image/png:https://pawsafe.org/wp-content/uploads/2026/01/hours26.png
END:VEVENT
BEGIN:VEVENT
DTSTART;TZID=America/New_York:20260118T110000
DTEND;TZID=America/New_York:20260118T130000
DTSTAMP:20260423T183350
CREATED:20260103T121654Z
LAST-MODIFIED:20260118T131901Z
UID:10001330-1768734000-1768741200@pawsafe.org
SUMMARY:NY Adoptions @ Tractor Supply Patterson *** Event is on as planned!
DESCRIPTION:We are still having the event today from 11am to 1pm. Travel safely!
URL:https://pawsafe.org/event/ny-adoptions-tractor-supply-patterson-11/
LOCATION:Tractor Supply Patterson NY\, 1253 Route 311\, Patterson\, NY\, 12563\, United States
CATEGORIES:NY Off-Site event
ATTACH;FMTTYPE=image/jpeg:https://pawsafe.org/wp-content/uploads/2025/02/Tractor-Supply-Patterson.jpg
END:VEVENT
BEGIN:VEVENT
DTSTART;TZID=America/New_York:20260118T110000
DTEND;TZID=America/New_York:20260118T130000
DTSTAMP:20260423T183350
CREATED:20260102T203929Z
LAST-MODIFIED:20260123T234659Z
UID:10001145-1768734000-1768741200@pawsafe.org
SUMMARY:Adoptions - Eastford
DESCRIPTION:Applications suggested but not required.
URL:https://pawsafe.org/event/adoptions-eastford-148-2-2/2026-01-18/
LOCATION:Eastford CT Shelter\, 348 Old Colony Rd\, Eastford\, CT\, 06242\, United States
CATEGORIES:CT Eastford Shelter
ATTACH;FMTTYPE=image/png:https://pawsafe.org/wp-content/uploads/2026/01/hours26.png
END:VEVENT
BEGIN:VEVENT
DTSTART;TZID=America/New_York:20260117T110000
DTEND;TZID=America/New_York:20260117T130000
DTSTAMP:20260423T183350
CREATED:20260102T204002Z
LAST-MODIFIED:20260102T204002Z
UID:10001097-1768647600-1768654800@pawsafe.org
SUMMARY:Adoptions - Eastford
DESCRIPTION:Applications suggested but not required
URL:https://pawsafe.org/event/adoptions-eastford-147-2-2-2/2026-01-17/
LOCATION:Eastford CT Shelter\, 348 Old Colony Rd\, Eastford\, CT\, 06242\, United States
CATEGORIES:CT Eastford Shelter
ATTACH;FMTTYPE=image/png:https://pawsafe.org/wp-content/uploads/2026/01/hours26.png
END:VEVENT
BEGIN:VEVENT
DTSTART;TZID=America/New_York:20260115T103000
DTEND;TZID=America/New_York:20260115T123000
DTSTAMP:20260423T183350
CREATED:20260102T121208Z
LAST-MODIFIED:20260102T121209Z
UID:10000698-1768473000-1768480200@pawsafe.org
SUMMARY:Adoptions - Eastford
DESCRIPTION:Application preferred but not required
URL:https://pawsafe.org/event/adoptions-eastford-146-2-2-2-2-2/2026-01-15/
LOCATION:Eastford CT Shelter\, 348 Old Colony Rd\, Eastford\, CT\, 06242\, United States
CATEGORIES:CT Eastford Shelter
ATTACH;FMTTYPE=image/png:https://pawsafe.org/wp-content/uploads/2026/01/hours26.png
END:VEVENT
BEGIN:VEVENT
DTSTART;TZID=America/New_York:20260114T160000
DTEND;TZID=America/New_York:20260114T183000
DTSTAMP:20260423T183350
CREATED:20260102T121109Z
LAST-MODIFIED:20260102T121109Z
UID:10001221-1768406400-1768415400@pawsafe.org
SUMMARY:Adoptions - Eastford
DESCRIPTION:Applications preferred but not required
URL:https://pawsafe.org/event/adoptions-eastford-152-2-2/2026-01-14/
LOCATION:Eastford CT Shelter\, 348 Old Colony Rd\, Eastford\, CT\, 06242\, United States
CATEGORIES:CT Eastford Shelter
ATTACH;FMTTYPE=image/png:https://pawsafe.org/wp-content/uploads/2026/01/hours26.png
END:VEVENT
BEGIN:VEVENT
DTSTART;TZID=America/New_York:20260111T110000
DTEND;TZID=America/New_York:20260111T130000
DTSTAMP:20260423T183350
CREATED:20260102T203929Z
LAST-MODIFIED:20260123T234659Z
UID:10001144-1768129200-1768136400@pawsafe.org
SUMMARY:Adoptions - Eastford
DESCRIPTION:Applications suggested but not required.
URL:https://pawsafe.org/event/adoptions-eastford-148-2-2/2026-01-11/
LOCATION:Eastford CT Shelter\, 348 Old Colony Rd\, Eastford\, CT\, 06242\, United States
CATEGORIES:CT Eastford Shelter
ATTACH;FMTTYPE=image/png:https://pawsafe.org/wp-content/uploads/2026/01/hours26.png
END:VEVENT
BEGIN:VEVENT
DTSTART;TZID=America/New_York:20260110T110000
DTEND;TZID=America/New_York:20260110T130000
DTSTAMP:20260423T183350
CREATED:20260103T121619Z
LAST-MODIFIED:20260103T121619Z
UID:10001329-1768042800-1768050000@pawsafe.org
SUMMARY:NY Adoptions @ Tractor Supply Patterson
DESCRIPTION:This event was originally at Camp Herrlich but the event at the camp was cancelled!
URL:https://pawsafe.org/event/ny-adoptions-tractor-supply-patterson-10/
LOCATION:Tractor Supply Patterson NY\, 1253 Route 311\, Patterson\, NY\, 12563\, United States
CATEGORIES:NY Off-Site event
ATTACH;FMTTYPE=image/jpeg:https://pawsafe.org/wp-content/uploads/2025/02/Tractor-Supply-Patterson.jpg
END:VEVENT
BEGIN:VEVENT
DTSTART;TZID=America/New_York:20260110T110000
DTEND;TZID=America/New_York:20260110T130000
DTSTAMP:20260423T183350
CREATED:20260102T204002Z
LAST-MODIFIED:20260102T204002Z
UID:10001096-1768042800-1768050000@pawsafe.org
SUMMARY:Adoptions - Eastford
DESCRIPTION:Applications suggested but not required
URL:https://pawsafe.org/event/adoptions-eastford-147-2-2-2/2026-01-10/
LOCATION:Eastford CT Shelter\, 348 Old Colony Rd\, Eastford\, CT\, 06242\, United States
CATEGORIES:CT Eastford Shelter
ATTACH;FMTTYPE=image/png:https://pawsafe.org/wp-content/uploads/2026/01/hours26.png
END:VEVENT
BEGIN:VEVENT
DTSTART;TZID=America/New_York:20260108T103000
DTEND;TZID=America/New_York:20260108T123000
DTSTAMP:20260423T183350
CREATED:20260102T121208Z
LAST-MODIFIED:20260102T121209Z
UID:10000697-1767868200-1767875400@pawsafe.org
SUMMARY:Adoptions - Eastford
DESCRIPTION:Application preferred but not required
URL:https://pawsafe.org/event/adoptions-eastford-146-2-2-2-2-2/2026-01-08/
LOCATION:Eastford CT Shelter\, 348 Old Colony Rd\, Eastford\, CT\, 06242\, United States
CATEGORIES:CT Eastford Shelter
ATTACH;FMTTYPE=image/png:https://pawsafe.org/wp-content/uploads/2026/01/hours26.png
END:VEVENT
BEGIN:VEVENT
DTSTART;TZID=America/New_York:20260107T160000
DTEND;TZID=America/New_York:20260107T183000
DTSTAMP:20260423T183350
CREATED:20260102T121109Z
LAST-MODIFIED:20260102T121109Z
UID:10001220-1767801600-1767810600@pawsafe.org
SUMMARY:Adoptions - Eastford
DESCRIPTION:Applications preferred but not required
URL:https://pawsafe.org/event/adoptions-eastford-152-2-2/2026-01-07/
LOCATION:Eastford CT Shelter\, 348 Old Colony Rd\, Eastford\, CT\, 06242\, United States
CATEGORIES:CT Eastford Shelter
ATTACH;FMTTYPE=image/png:https://pawsafe.org/wp-content/uploads/2026/01/hours26.png
END:VEVENT
BEGIN:VEVENT
DTSTART;TZID=America/New_York:20260104T110000
DTEND;TZID=America/New_York:20260104T130000
DTSTAMP:20260423T183350
CREATED:20260102T203929Z
LAST-MODIFIED:20260123T234659Z
UID:10001143-1767524400-1767531600@pawsafe.org
SUMMARY:Adoptions - Eastford
DESCRIPTION:Applications suggested but not required.
URL:https://pawsafe.org/event/adoptions-eastford-148-2-2/2026-01-04/
LOCATION:Eastford CT Shelter\, 348 Old Colony Rd\, Eastford\, CT\, 06242\, United States
CATEGORIES:CT Eastford Shelter
ATTACH;FMTTYPE=image/png:https://pawsafe.org/wp-content/uploads/2026/01/hours26.png
END:VEVENT
BEGIN:VEVENT
DTSTART;TZID=America/New_York:20260103T110000
DTEND;TZID=America/New_York:20260103T130000
DTSTAMP:20260423T183350
CREATED:20260102T204002Z
LAST-MODIFIED:20260102T204002Z
UID:10001095-1767438000-1767445200@pawsafe.org
SUMMARY:Adoptions - Eastford
DESCRIPTION:Applications suggested but not required
URL:https://pawsafe.org/event/adoptions-eastford-147-2-2-2/2026-01-03/
LOCATION:Eastford CT Shelter\, 348 Old Colony Rd\, Eastford\, CT\, 06242\, United States
CATEGORIES:CT Eastford Shelter
ATTACH;FMTTYPE=image/png:https://pawsafe.org/wp-content/uploads/2026/01/hours26.png
END:VEVENT
BEGIN:VEVENT
DTSTART;TZID=America/New_York:20260101T103000
DTEND;TZID=America/New_York:20260101T123000
DTSTAMP:20260423T183350
CREATED:20260102T203848Z
LAST-MODIFIED:20260102T203849Z
UID:10000696-1767263400-1767270600@pawsafe.org
SUMMARY:Adoptions - Eastford
DESCRIPTION:Application preferred but not required
URL:https://pawsafe.org/event/adoptions-eastford-146-2-2-2-2-3/
LOCATION:Eastford CT Shelter\, 348 Old Colony Rd\, Eastford\, CT\, 06242\, United States
CATEGORIES:CT Eastford Shelter
ATTACH;FMTTYPE=image/png:https://pawsafe.org/wp-content/uploads/2026/01/hours26.png
END:VEVENT
BEGIN:VEVENT
DTSTART;TZID=America/New_York:20251231T120000
DTEND;TZID=America/New_York:20251231T150000
DTSTAMP:20260423T183350
CREATED:20251229T174519Z
LAST-MODIFIED:20251229T180001Z
UID:10001288-1767182400-1767193200@pawsafe.org
SUMMARY:Adoptions Eastford - New Years Eve Hours
DESCRIPTION:Applications preferred but not required
URL:https://pawsafe.org/event/adoptions-eastford-new-years-eve-hours/
LOCATION:Eastford CT Shelter\, 348 Old Colony Rd\, Eastford\, CT\, 06242\, United States
CATEGORIES:CT Eastford Shelter
ATTACH;FMTTYPE=image/png:https://pawsafe.org/wp-content/uploads/2025/12/no-bar.png
END:VEVENT
BEGIN:VEVENT
DTSTART;TZID=America/New_York:20251228T110000
DTEND;TZID=America/New_York:20251228T130000
DTSTAMP:20260423T183350
CREATED:20250326T231949Z
LAST-MODIFIED:20250418T175708Z
UID:10001142-1766919600-1766926800@pawsafe.org
SUMMARY:Adoptions - Eastford
DESCRIPTION:Applications suggested but not required.
URL:https://pawsafe.org/event/adoptions-eastford-148-2/2025-12-28/
LOCATION:Eastford CT Shelter\, 348 Old Colony Rd\, Eastford\, CT\, 06242\, United States
CATEGORIES:CT Eastford Shelter
ATTACH;FMTTYPE=image/png:https://pawsafe.org/wp-content/uploads/2025/03/Visit-our-shelter-348-Old-Colony-Rd-Eastford-CT-Wed-4-630pm-Thurs-Sat-Sun-1130am-123opm-Stormville-NY-location-is-foster-based4.png
END:VEVENT
BEGIN:VEVENT
DTSTART;TZID=America/New_York:20251227T110000
DTEND;TZID=America/New_York:20251227T140000
DTSTAMP:20260423T183350
CREATED:20251217T162745Z
LAST-MODIFIED:20251227T133814Z
UID:10001287-1766833200-1766844000@pawsafe.org
SUMMARY:NY Adoptions @ Tractor Supply Patterson **** Start time change to 11am!
DESCRIPTION:The event is still on for today 12/27/25 with a start time of 11am. Take your time\, travel safely! 
URL:https://pawsafe.org/event/ny-adoptions-tractor-supply-patterson-9/
LOCATION:Tractor Supply Patterson NY\, 1253 Route 311\, Patterson\, NY\, 12563\, United States
CATEGORIES:NY Off-Site event
ATTACH;FMTTYPE=image/jpeg:https://pawsafe.org/wp-content/uploads/2025/02/Tractor-Supply-Patterson.jpg
END:VEVENT
END:VCALENDAR