BEGIN:VCALENDAR
VERSION:2.0
PRODID:-//PawSafeAnimal Rescue - ECPv6.15.20//NONSGML v1.0//EN
CALSCALE:GREGORIAN
METHOD:PUBLISH
X-WR-CALNAME:PawSafeAnimal Rescue
X-ORIGINAL-URL:https://pawsafe.org
X-WR-CALDESC:Events for PawSafeAnimal Rescue
REFRESH-INTERVAL;VALUE=DURATION:PT1H
X-Robots-Tag:noindex
X-PUBLISHED-TTL:PT1H
BEGIN:VTIMEZONE
TZID:America/New_York
BEGIN:DAYLIGHT
TZOFFSETFROM:-0500
TZOFFSETTO:-0400
TZNAME:EDT
DTSTART:20240310T070000
END:DAYLIGHT
BEGIN:STANDARD
TZOFFSETFROM:-0400
TZOFFSETTO:-0500
TZNAME:EST
DTSTART:20241103T060000
END:STANDARD
BEGIN:DAYLIGHT
TZOFFSETFROM:-0500
TZOFFSETTO:-0400
TZNAME:EDT
DTSTART:20250309T070000
END:DAYLIGHT
BEGIN:STANDARD
TZOFFSETFROM:-0400
TZOFFSETTO:-0500
TZNAME:EST
DTSTART:20251102T060000
END:STANDARD
BEGIN:DAYLIGHT
TZOFFSETFROM:-0500
TZOFFSETTO:-0400
TZNAME:EDT
DTSTART:20260308T070000
END:DAYLIGHT
BEGIN:STANDARD
TZOFFSETFROM:-0400
TZOFFSETTO:-0500
TZNAME:EST
DTSTART:20261101T060000
END:STANDARD
END:VTIMEZONE
BEGIN:VTIMEZONE
TZID:UTC
BEGIN:STANDARD
TZOFFSETFROM:+0000
TZOFFSETTO:+0000
TZNAME:UTC
DTSTART:20240101T000000
END:STANDARD
END:VTIMEZONE
BEGIN:VEVENT
DTSTART;TZID=America/New_York:20250925T103000
DTEND;TZID=America/New_York:20250925T123000
DTSTAMP:20260424T073908
CREATED:20250326T231635Z
LAST-MODIFIED:20250909T190519Z
UID:10000682-1758796200-1758803400@pawsafe.org
SUMMARY:Adoptions - Eastford
DESCRIPTION:Application preferred but not required
URL:https://pawsafe.org/event/adoptions-eastford-146-2-2-2/2025-09-25/
LOCATION:Eastford CT Shelter\, 348 Old Colony Rd\, Eastford\, CT\, 06242\, United States
CATEGORIES:CT Eastford Shelter
ATTACH;FMTTYPE=image/png:https://pawsafe.org/wp-content/uploads/2025/03/Visit-our-shelter-348-Old-Colony-Rd-Eastford-CT-Wed-4-630pm-Thurs-Sat-Sun-1130am-123opm-Stormville-NY-location-is-foster-based4.png
END:VEVENT
BEGIN:VEVENT
DTSTART;TZID=America/New_York:20250924T160000
DTEND;TZID=America/New_York:20250924T183000
DTSTAMP:20260424T073908
CREATED:20250903T213203Z
LAST-MODIFIED:20250909T190251Z
UID:10001205-1758729600-1758738600@pawsafe.org
SUMMARY:Adoptions - Eastford
DESCRIPTION:Applications preferred but not required
URL:https://pawsafe.org/event/adoptions-eastford-152/2025-09-24/
LOCATION:Eastford CT Shelter\, 348 Old Colony Rd\, Eastford\, CT\, 06242\, United States
CATEGORIES:CT Eastford Shelter
ATTACH;FMTTYPE=image/png:https://pawsafe.org/wp-content/uploads/2025/03/Visit-our-shelter-348-Old-Colony-Rd-Eastford-CT-Wed-4-630pm-Thurs-Sat-Sun-1130am-123opm-Stormville-NY-location-is-foster-based4.png
END:VEVENT
BEGIN:VEVENT
DTSTART;TZID=America/New_York:20250921T110000
DTEND;TZID=America/New_York:20250921T130000
DTSTAMP:20260424T073908
CREATED:20250326T231949Z
LAST-MODIFIED:20250418T175708Z
UID:10001128-1758452400-1758459600@pawsafe.org
SUMMARY:Adoptions - Eastford
DESCRIPTION:Applications suggested but not required.
URL:https://pawsafe.org/event/adoptions-eastford-148-2/2025-09-21/
LOCATION:Eastford CT Shelter\, 348 Old Colony Rd\, Eastford\, CT\, 06242\, United States
CATEGORIES:CT Eastford Shelter
ATTACH;FMTTYPE=image/png:https://pawsafe.org/wp-content/uploads/2025/03/Visit-our-shelter-348-Old-Colony-Rd-Eastford-CT-Wed-4-630pm-Thurs-Sat-Sun-1130am-123opm-Stormville-NY-location-is-foster-based4.png
END:VEVENT
BEGIN:VEVENT
DTSTART;TZID=America/New_York:20250920T113000
DTEND;TZID=America/New_York:20250920T160000
DTSTAMP:20260424T073908
CREATED:20250813T142310Z
LAST-MODIFIED:20250813T142310Z
UID:10001187-1758367800-1758384000@pawsafe.org
SUMMARY:NY Adoptions @ Dover Day
DESCRIPTION:
URL:https://pawsafe.org/event/ny-adoptions-dover-day-2/
LOCATION:Thomas J Boyce Park\, 6420 NY 55\, Wingdale\, 12594\, United States
CATEGORIES:NY Off-Site event
ATTACH;FMTTYPE=application/pdf:https://pawsafe.org/wp-content/uploads/2025/08/2025-Dover-Day-Flyer.pdf
END:VEVENT
BEGIN:VEVENT
DTSTART;TZID=America/New_York:20250920T110000
DTEND;TZID=America/New_York:20250920T130000
DTSTAMP:20260424T073908
CREATED:20250326T231849Z
LAST-MODIFIED:20250418T175953Z
UID:10001080-1758366000-1758373200@pawsafe.org
SUMMARY:Adoptions - Eastford
DESCRIPTION:Applications suggested but not required
URL:https://pawsafe.org/event/adoptions-eastford-147-2-2/2025-09-20/
LOCATION:Eastford CT Shelter\, 348 Old Colony Rd\, Eastford\, CT\, 06242\, United States
CATEGORIES:CT Eastford Shelter
ATTACH;FMTTYPE=image/png:https://pawsafe.org/wp-content/uploads/2025/03/Visit-our-shelter-348-Old-Colony-Rd-Eastford-CT-Wed-4-630pm-Thurs-Sat-Sun-1130am-123opm-Stormville-NY-location-is-foster-based4.png
END:VEVENT
BEGIN:VEVENT
DTSTART;TZID=America/New_York:20250918T103000
DTEND;TZID=America/New_York:20250918T123000
DTSTAMP:20260424T073908
CREATED:20250326T231635Z
LAST-MODIFIED:20250909T190519Z
UID:10000681-1758191400-1758198600@pawsafe.org
SUMMARY:Adoptions - Eastford
DESCRIPTION:Application preferred but not required
URL:https://pawsafe.org/event/adoptions-eastford-146-2-2-2/2025-09-18/
LOCATION:Eastford CT Shelter\, 348 Old Colony Rd\, Eastford\, CT\, 06242\, United States
CATEGORIES:CT Eastford Shelter
ATTACH;FMTTYPE=image/png:https://pawsafe.org/wp-content/uploads/2025/03/Visit-our-shelter-348-Old-Colony-Rd-Eastford-CT-Wed-4-630pm-Thurs-Sat-Sun-1130am-123opm-Stormville-NY-location-is-foster-based4.png
END:VEVENT
BEGIN:VEVENT
DTSTART;TZID=America/New_York:20250917T160000
DTEND;TZID=America/New_York:20250917T183000
DTSTAMP:20260424T073908
CREATED:20250903T213203Z
LAST-MODIFIED:20250909T190251Z
UID:10001204-1758124800-1758133800@pawsafe.org
SUMMARY:Adoptions - Eastford
DESCRIPTION:Applications preferred but not required
URL:https://pawsafe.org/event/adoptions-eastford-152/2025-09-17/
LOCATION:Eastford CT Shelter\, 348 Old Colony Rd\, Eastford\, CT\, 06242\, United States
CATEGORIES:CT Eastford Shelter
ATTACH;FMTTYPE=image/png:https://pawsafe.org/wp-content/uploads/2025/03/Visit-our-shelter-348-Old-Colony-Rd-Eastford-CT-Wed-4-630pm-Thurs-Sat-Sun-1130am-123opm-Stormville-NY-location-is-foster-based4.png
END:VEVENT
BEGIN:VEVENT
DTSTART;TZID=America/New_York:20250914T110000
DTEND;TZID=America/New_York:20250914T130000
DTSTAMP:20260424T073908
CREATED:20250326T231949Z
LAST-MODIFIED:20250418T175708Z
UID:10001127-1757847600-1757854800@pawsafe.org
SUMMARY:Adoptions - Eastford
DESCRIPTION:Applications suggested but not required.
URL:https://pawsafe.org/event/adoptions-eastford-148-2/2025-09-14/
LOCATION:Eastford CT Shelter\, 348 Old Colony Rd\, Eastford\, CT\, 06242\, United States
CATEGORIES:CT Eastford Shelter
ATTACH;FMTTYPE=image/png:https://pawsafe.org/wp-content/uploads/2025/03/Visit-our-shelter-348-Old-Colony-Rd-Eastford-CT-Wed-4-630pm-Thurs-Sat-Sun-1130am-123opm-Stormville-NY-location-is-foster-based4.png
END:VEVENT
BEGIN:VEVENT
DTSTART;TZID=America/New_York:20250914T100000
DTEND;TZID=America/New_York:20250914T120000
DTSTAMP:20260424T073908
CREATED:20250810T001314Z
LAST-MODIFIED:20250810T001314Z
UID:10001182-1757844000-1757851200@pawsafe.org
SUMMARY:Adoptions at Ashford Farmers Market (CT)
DESCRIPTION:All welcome!
URL:https://pawsafe.org/event/adoptions-at-ashford-farmers-market-ct-3/
LOCATION:Ashford Farmers Market (CT)\, 25 Tremko Lane\, Pompey Hollow Park\, Ashford\, CT\, 06278\, United States
CATEGORIES:CT Off-site event
END:VEVENT
BEGIN:VEVENT
DTSTART;TZID=America/New_York:20250913T130000
DTEND;TZID=America/New_York:20250913T160000
DTSTAMP:20260424T073908
CREATED:20250903T162208Z
LAST-MODIFIED:20250903T162208Z
UID:10001190-1757768400-1757779200@pawsafe.org
SUMMARY:NY Adoptions @ Kent Community Day
DESCRIPTION:
URL:https://pawsafe.org/event/ny-adoptions-kent-community-day/
LOCATION:Kent Town Center\, 25 Sybil's Crossing\, Kent Lakes\, NY\, 10512\, United States
CATEGORIES:NY Off-Site event
ATTACH;FMTTYPE=image/jpeg:https://pawsafe.org/wp-content/uploads/2025/07/kent-2025.jpg
END:VEVENT
BEGIN:VEVENT
DTSTART;TZID=America/New_York:20250913T110000
DTEND;TZID=America/New_York:20250913T130000
DTSTAMP:20260424T073908
CREATED:20250326T231849Z
LAST-MODIFIED:20250418T175953Z
UID:10001079-1757761200-1757768400@pawsafe.org
SUMMARY:Adoptions - Eastford
DESCRIPTION:Applications suggested but not required
URL:https://pawsafe.org/event/adoptions-eastford-147-2-2/2025-09-13/
LOCATION:Eastford CT Shelter\, 348 Old Colony Rd\, Eastford\, CT\, 06242\, United States
CATEGORIES:CT Eastford Shelter
ATTACH;FMTTYPE=image/png:https://pawsafe.org/wp-content/uploads/2025/03/Visit-our-shelter-348-Old-Colony-Rd-Eastford-CT-Wed-4-630pm-Thurs-Sat-Sun-1130am-123opm-Stormville-NY-location-is-foster-based4.png
END:VEVENT
BEGIN:VEVENT
DTSTART;TZID=America/New_York:20250911T103000
DTEND;TZID=America/New_York:20250911T123000
DTSTAMP:20260424T073908
CREATED:20250326T231635Z
LAST-MODIFIED:20250909T190519Z
UID:10000680-1757586600-1757593800@pawsafe.org
SUMMARY:Adoptions - Eastford
DESCRIPTION:Application preferred but not required
URL:https://pawsafe.org/event/adoptions-eastford-146-2-2-2/2025-09-11/
LOCATION:Eastford CT Shelter\, 348 Old Colony Rd\, Eastford\, CT\, 06242\, United States
CATEGORIES:CT Eastford Shelter
ATTACH;FMTTYPE=image/png:https://pawsafe.org/wp-content/uploads/2025/03/Visit-our-shelter-348-Old-Colony-Rd-Eastford-CT-Wed-4-630pm-Thurs-Sat-Sun-1130am-123opm-Stormville-NY-location-is-foster-based4.png
END:VEVENT
BEGIN:VEVENT
DTSTART;TZID=America/New_York:20250910T160000
DTEND;TZID=America/New_York:20250910T183000
DTSTAMP:20260424T073908
CREATED:20250903T213203Z
LAST-MODIFIED:20250909T190251Z
UID:10001203-1757520000-1757529000@pawsafe.org
SUMMARY:Adoptions - Eastford
DESCRIPTION:Applications preferred but not required
URL:https://pawsafe.org/event/adoptions-eastford-152/2025-09-10/
LOCATION:Eastford CT Shelter\, 348 Old Colony Rd\, Eastford\, CT\, 06242\, United States
CATEGORIES:CT Eastford Shelter
ATTACH;FMTTYPE=image/png:https://pawsafe.org/wp-content/uploads/2025/03/Visit-our-shelter-348-Old-Colony-Rd-Eastford-CT-Wed-4-630pm-Thurs-Sat-Sun-1130am-123opm-Stormville-NY-location-is-foster-based4.png
END:VEVENT
BEGIN:VEVENT
DTSTART;TZID=America/New_York:20250907T110000
DTEND;TZID=America/New_York:20250907T130000
DTSTAMP:20260424T073908
CREATED:20250326T231949Z
LAST-MODIFIED:20250418T175708Z
UID:10001126-1757242800-1757250000@pawsafe.org
SUMMARY:Adoptions - Eastford
DESCRIPTION:Applications suggested but not required.
URL:https://pawsafe.org/event/adoptions-eastford-148-2/2025-09-07/
LOCATION:Eastford CT Shelter\, 348 Old Colony Rd\, Eastford\, CT\, 06242\, United States
CATEGORIES:CT Eastford Shelter
ATTACH;FMTTYPE=image/png:https://pawsafe.org/wp-content/uploads/2025/03/Visit-our-shelter-348-Old-Colony-Rd-Eastford-CT-Wed-4-630pm-Thurs-Sat-Sun-1130am-123opm-Stormville-NY-location-is-foster-based4.png
END:VEVENT
BEGIN:VEVENT
DTSTART;TZID=UTC:20250907T100000
DTEND;TZID=UTC:20250907T130000
DTSTAMP:20260424T073908
CREATED:20250810T001218Z
LAST-MODIFIED:20250810T001218Z
UID:10001181-1757239200-1757250000@pawsafe.org
SUMMARY:Coventry CT Farmers Market
DESCRIPTION:Applications preferred\, first come/first serve adoptions.
URL:https://pawsafe.org/event/coventry-ct-farmers-market-2/
LOCATION:Coventry Farmers’ Market\, 2299 South St\, Coventry\, CT\, 06238\, United States
CATEGORIES:CT Off-site event
ATTACH;FMTTYPE=image/png:https://pawsafe.org/wp-content/uploads/2024/08/coventry-farmers-market-logo-2x.png
END:VEVENT
BEGIN:VEVENT
DTSTART;TZID=America/New_York:20250906T110000
DTEND;TZID=America/New_York:20250906T130000
DTSTAMP:20260424T073908
CREATED:20250326T231849Z
LAST-MODIFIED:20250418T175953Z
UID:10001078-1757156400-1757163600@pawsafe.org
SUMMARY:Adoptions - Eastford
DESCRIPTION:Applications suggested but not required
URL:https://pawsafe.org/event/adoptions-eastford-147-2-2/2025-09-06/
LOCATION:Eastford CT Shelter\, 348 Old Colony Rd\, Eastford\, CT\, 06242\, United States
CATEGORIES:CT Eastford Shelter
ATTACH;FMTTYPE=image/png:https://pawsafe.org/wp-content/uploads/2025/03/Visit-our-shelter-348-Old-Colony-Rd-Eastford-CT-Wed-4-630pm-Thurs-Sat-Sun-1130am-123opm-Stormville-NY-location-is-foster-based4.png
END:VEVENT
BEGIN:VEVENT
DTSTART;TZID=America/New_York:20250904T103000
DTEND;TZID=America/New_York:20250904T123000
DTSTAMP:20260424T073908
CREATED:20250326T231635Z
LAST-MODIFIED:20250909T190519Z
UID:10000679-1756981800-1756989000@pawsafe.org
SUMMARY:Adoptions - Eastford
DESCRIPTION:Application preferred but not required
URL:https://pawsafe.org/event/adoptions-eastford-146-2-2-2/2025-09-04/
LOCATION:Eastford CT Shelter\, 348 Old Colony Rd\, Eastford\, CT\, 06242\, United States
CATEGORIES:CT Eastford Shelter
ATTACH;FMTTYPE=image/png:https://pawsafe.org/wp-content/uploads/2025/03/Visit-our-shelter-348-Old-Colony-Rd-Eastford-CT-Wed-4-630pm-Thurs-Sat-Sun-1130am-123opm-Stormville-NY-location-is-foster-based4.png
END:VEVENT
BEGIN:VEVENT
DTSTART;TZID=America/New_York:20250831T110000
DTEND;TZID=America/New_York:20250831T130000
DTSTAMP:20260424T073908
CREATED:20250326T231949Z
LAST-MODIFIED:20250418T175708Z
UID:10001125-1756638000-1756645200@pawsafe.org
SUMMARY:Adoptions - Eastford
DESCRIPTION:Applications suggested but not required.
URL:https://pawsafe.org/event/adoptions-eastford-148-2/2025-08-31/
LOCATION:Eastford CT Shelter\, 348 Old Colony Rd\, Eastford\, CT\, 06242\, United States
CATEGORIES:CT Eastford Shelter
ATTACH;FMTTYPE=image/png:https://pawsafe.org/wp-content/uploads/2025/03/Visit-our-shelter-348-Old-Colony-Rd-Eastford-CT-Wed-4-630pm-Thurs-Sat-Sun-1130am-123opm-Stormville-NY-location-is-foster-based4.png
END:VEVENT
BEGIN:VEVENT
DTSTART;TZID=America/New_York:20250830T110000
DTEND;TZID=America/New_York:20250830T130000
DTSTAMP:20260424T073908
CREATED:20250326T231849Z
LAST-MODIFIED:20250418T175953Z
UID:10001077-1756551600-1756558800@pawsafe.org
SUMMARY:Adoptions - Eastford
DESCRIPTION:Applications suggested but not required
URL:https://pawsafe.org/event/adoptions-eastford-147-2-2/2025-08-30/
LOCATION:Eastford CT Shelter\, 348 Old Colony Rd\, Eastford\, CT\, 06242\, United States
CATEGORIES:CT Eastford Shelter
ATTACH;FMTTYPE=image/png:https://pawsafe.org/wp-content/uploads/2025/03/Visit-our-shelter-348-Old-Colony-Rd-Eastford-CT-Wed-4-630pm-Thurs-Sat-Sun-1130am-123opm-Stormville-NY-location-is-foster-based4.png
END:VEVENT
BEGIN:VEVENT
DTSTART;TZID=America/New_York:20250830T090000
DTEND;TZID=America/New_York:20250830T120000
DTSTAMP:20260424T073908
CREATED:20250813T141712Z
LAST-MODIFIED:20250823T201037Z
UID:10001183-1756544400-1756555200@pawsafe.org
SUMMARY:NY Adoptions @ Peekskill Farmers Market
DESCRIPTION:
URL:https://pawsafe.org/event/ny-adoptions-peekskill-farmers-market-6/
LOCATION:Peekskill Farmers Market\, 1 Bank Street\, Peekskill\, NY\, 10566\, United States
CATEGORIES:NY Off-Site event
ATTACH;FMTTYPE=image/jpeg:https://pawsafe.org/wp-content/uploads/2025/07/Peekskill-2025.jpg
END:VEVENT
BEGIN:VEVENT
DTSTART;TZID=America/New_York:20250828T103000
DTEND;TZID=America/New_York:20250828T123000
DTSTAMP:20260424T073908
CREATED:20250326T231635Z
LAST-MODIFIED:20250909T190519Z
UID:10000678-1756377000-1756384200@pawsafe.org
SUMMARY:Adoptions - Eastford
DESCRIPTION:Application preferred but not required
URL:https://pawsafe.org/event/adoptions-eastford-146-2-2-2/2025-08-28/
LOCATION:Eastford CT Shelter\, 348 Old Colony Rd\, Eastford\, CT\, 06242\, United States
CATEGORIES:CT Eastford Shelter
ATTACH;FMTTYPE=image/png:https://pawsafe.org/wp-content/uploads/2025/03/Visit-our-shelter-348-Old-Colony-Rd-Eastford-CT-Wed-4-630pm-Thurs-Sat-Sun-1130am-123opm-Stormville-NY-location-is-foster-based4.png
END:VEVENT
BEGIN:VEVENT
DTSTART;TZID=America/New_York:20250827T160000
DTEND;TZID=America/New_York:20250827T183000
DTSTAMP:20260424T073908
CREATED:20250326T231455Z
LAST-MODIFIED:20250418T175916Z
UID:10001055-1756310400-1756319400@pawsafe.org
SUMMARY:Adoptions - Eastford
DESCRIPTION:Applications suggested but not required
URL:https://pawsafe.org/event/adoptions-eastford-150/2025-08-27/
LOCATION:Eastford CT Shelter\, 348 Old Colony Rd\, Eastford\, CT\, 06242\, United States
CATEGORIES:CT Eastford Shelter
ATTACH;FMTTYPE=image/png:https://pawsafe.org/wp-content/uploads/2025/03/Visit-our-shelter-348-Old-Colony-Rd-Eastford-CT-Wed-4-630pm-Thurs-Sat-Sun-1130am-123opm-Stormville-NY-location-is-foster-based4.png
END:VEVENT
BEGIN:VEVENT
DTSTART;TZID=America/New_York:20250824T110000
DTEND;TZID=America/New_York:20250824T130000
DTSTAMP:20260424T073908
CREATED:20250326T231949Z
LAST-MODIFIED:20250418T175708Z
UID:10001124-1756033200-1756040400@pawsafe.org
SUMMARY:Adoptions - Eastford
DESCRIPTION:Applications suggested but not required.
URL:https://pawsafe.org/event/adoptions-eastford-148-2/2025-08-24/
LOCATION:Eastford CT Shelter\, 348 Old Colony Rd\, Eastford\, CT\, 06242\, United States
CATEGORIES:CT Eastford Shelter
ATTACH;FMTTYPE=image/png:https://pawsafe.org/wp-content/uploads/2025/03/Visit-our-shelter-348-Old-Colony-Rd-Eastford-CT-Wed-4-630pm-Thurs-Sat-Sun-1130am-123opm-Stormville-NY-location-is-foster-based4.png
END:VEVENT
BEGIN:VEVENT
DTSTART;TZID=America/New_York:20250823T110000
DTEND;TZID=America/New_York:20250823T130000
DTSTAMP:20260424T073908
CREATED:20250326T231849Z
LAST-MODIFIED:20250418T175953Z
UID:10001076-1755946800-1755954000@pawsafe.org
SUMMARY:Adoptions - Eastford
DESCRIPTION:Applications suggested but not required
URL:https://pawsafe.org/event/adoptions-eastford-147-2-2/2025-08-23/
LOCATION:Eastford CT Shelter\, 348 Old Colony Rd\, Eastford\, CT\, 06242\, United States
CATEGORIES:CT Eastford Shelter
ATTACH;FMTTYPE=image/png:https://pawsafe.org/wp-content/uploads/2025/03/Visit-our-shelter-348-Old-Colony-Rd-Eastford-CT-Wed-4-630pm-Thurs-Sat-Sun-1130am-123opm-Stormville-NY-location-is-foster-based4.png
END:VEVENT
BEGIN:VEVENT
DTSTART;TZID=America/New_York:20250821T103000
DTEND;TZID=America/New_York:20250821T123000
DTSTAMP:20260424T073908
CREATED:20250326T231635Z
LAST-MODIFIED:20250909T190519Z
UID:10000677-1755772200-1755779400@pawsafe.org
SUMMARY:Adoptions - Eastford
DESCRIPTION:Application preferred but not required
URL:https://pawsafe.org/event/adoptions-eastford-146-2-2-2/2025-08-21/
LOCATION:Eastford CT Shelter\, 348 Old Colony Rd\, Eastford\, CT\, 06242\, United States
CATEGORIES:CT Eastford Shelter
ATTACH;FMTTYPE=image/png:https://pawsafe.org/wp-content/uploads/2025/03/Visit-our-shelter-348-Old-Colony-Rd-Eastford-CT-Wed-4-630pm-Thurs-Sat-Sun-1130am-123opm-Stormville-NY-location-is-foster-based4.png
END:VEVENT
BEGIN:VEVENT
DTSTART;TZID=America/New_York:20250820T160000
DTEND;TZID=America/New_York:20250820T183000
DTSTAMP:20260424T073908
CREATED:20250326T231455Z
LAST-MODIFIED:20250418T175916Z
UID:10001054-1755705600-1755714600@pawsafe.org
SUMMARY:Adoptions - Eastford
DESCRIPTION:Applications suggested but not required
URL:https://pawsafe.org/event/adoptions-eastford-150/2025-08-20/
LOCATION:Eastford CT Shelter\, 348 Old Colony Rd\, Eastford\, CT\, 06242\, United States
CATEGORIES:CT Eastford Shelter
ATTACH;FMTTYPE=image/png:https://pawsafe.org/wp-content/uploads/2025/03/Visit-our-shelter-348-Old-Colony-Rd-Eastford-CT-Wed-4-630pm-Thurs-Sat-Sun-1130am-123opm-Stormville-NY-location-is-foster-based4.png
END:VEVENT
BEGIN:VEVENT
DTSTART;TZID=America/New_York:20250817T110000
DTEND;TZID=America/New_York:20250817T130000
DTSTAMP:20260424T073908
CREATED:20250326T231949Z
LAST-MODIFIED:20250418T175708Z
UID:10001123-1755428400-1755435600@pawsafe.org
SUMMARY:Adoptions - Eastford
DESCRIPTION:Applications suggested but not required.
URL:https://pawsafe.org/event/adoptions-eastford-148-2/2025-08-17/
LOCATION:Eastford CT Shelter\, 348 Old Colony Rd\, Eastford\, CT\, 06242\, United States
CATEGORIES:CT Eastford Shelter
ATTACH;FMTTYPE=image/png:https://pawsafe.org/wp-content/uploads/2025/03/Visit-our-shelter-348-Old-Colony-Rd-Eastford-CT-Wed-4-630pm-Thurs-Sat-Sun-1130am-123opm-Stormville-NY-location-is-foster-based4.png
END:VEVENT
BEGIN:VEVENT
DTSTART;TZID=America/New_York:20250817T100000
DTEND;TZID=America/New_York:20250817T120000
DTSTAMP:20260424T073908
CREATED:20250617T154443Z
LAST-MODIFIED:20250809T145210Z
UID:10001171-1755424800-1755432000@pawsafe.org
SUMMARY:Adoptions at Tolland Farmers Market (CT)
DESCRIPTION:All welcome!
URL:https://pawsafe.org/event/adoptions-at-tolland-farmers-market-ct/
LOCATION:Tolland Farmers Market (CT)\, 21 Tolland Green\, Tolland\, CT\, 06084\, United States
CATEGORIES:CT Off-site event
END:VEVENT
BEGIN:VEVENT
DTSTART;TZID=America/New_York:20250817T100000
DTEND;TZID=America/New_York:20250817T120000
DTSTAMP:20260424T073908
CREATED:20250617T154332Z
LAST-MODIFIED:20250617T154332Z
UID:10001170-1755424800-1755432000@pawsafe.org
SUMMARY:Adoptions at Ashford Farmers Market (CT)
DESCRIPTION:All welcome!
URL:https://pawsafe.org/event/adoptions-at-ashford-farmers-market-ct-2/
LOCATION:Ashford Farmers Market (CT)\, 25 Tremko Lane\, Pompey Hollow Park\, Ashford\, CT\, 06278\, United States
CATEGORIES:CT Off-site event
END:VEVENT
BEGIN:VEVENT
DTSTART;TZID=America/New_York:20250816T110000
DTEND;TZID=America/New_York:20250816T130000
DTSTAMP:20260424T073908
CREATED:20250326T231849Z
LAST-MODIFIED:20250418T175953Z
UID:10001075-1755342000-1755349200@pawsafe.org
SUMMARY:Adoptions - Eastford
DESCRIPTION:Applications suggested but not required
URL:https://pawsafe.org/event/adoptions-eastford-147-2-2/2025-08-16/
LOCATION:Eastford CT Shelter\, 348 Old Colony Rd\, Eastford\, CT\, 06242\, United States
CATEGORIES:CT Eastford Shelter
ATTACH;FMTTYPE=image/png:https://pawsafe.org/wp-content/uploads/2025/03/Visit-our-shelter-348-Old-Colony-Rd-Eastford-CT-Wed-4-630pm-Thurs-Sat-Sun-1130am-123opm-Stormville-NY-location-is-foster-based4.png
END:VEVENT
END:VCALENDAR