BEGIN:VCALENDAR
VERSION:2.0
PRODID:-//PawSafeAnimal Rescue - ECPv6.15.20//NONSGML v1.0//EN
CALSCALE:GREGORIAN
METHOD:PUBLISH
X-ORIGINAL-URL:https://pawsafe.org
X-WR-CALDESC:Events for PawSafeAnimal Rescue
REFRESH-INTERVAL;VALUE=DURATION:PT1H
X-Robots-Tag:noindex
X-PUBLISHED-TTL:PT1H
BEGIN:VTIMEZONE
TZID:America/New_York
BEGIN:DAYLIGHT
TZOFFSETFROM:-0500
TZOFFSETTO:-0400
TZNAME:EDT
DTSTART:20240310T070000
END:DAYLIGHT
BEGIN:STANDARD
TZOFFSETFROM:-0400
TZOFFSETTO:-0500
TZNAME:EST
DTSTART:20241103T060000
END:STANDARD
BEGIN:DAYLIGHT
TZOFFSETFROM:-0500
TZOFFSETTO:-0400
TZNAME:EDT
DTSTART:20250309T070000
END:DAYLIGHT
BEGIN:STANDARD
TZOFFSETFROM:-0400
TZOFFSETTO:-0500
TZNAME:EST
DTSTART:20251102T060000
END:STANDARD
BEGIN:DAYLIGHT
TZOFFSETFROM:-0500
TZOFFSETTO:-0400
TZNAME:EDT
DTSTART:20260308T070000
END:DAYLIGHT
BEGIN:STANDARD
TZOFFSETFROM:-0400
TZOFFSETTO:-0500
TZNAME:EST
DTSTART:20261101T060000
END:STANDARD
END:VTIMEZONE
BEGIN:VEVENT
DTSTART;TZID=America/New_York:20250813T160000
DTEND;TZID=America/New_York:20250813T183000
DTSTAMP:20260424T043059
CREATED:20250326T231455Z
LAST-MODIFIED:20250418T175916Z
UID:10001053-1755100800-1755109800@pawsafe.org
SUMMARY:Adoptions - Eastford
DESCRIPTION:Applications suggested but not required
URL:https://pawsafe.org/event/adoptions-eastford-150/2025-08-13/
LOCATION:Eastford CT Shelter\, 348 Old Colony Rd\, Eastford\, CT\, 06242\, United States
CATEGORIES:CT Eastford Shelter
ATTACH;FMTTYPE=image/png:https://pawsafe.org/wp-content/uploads/2025/03/Visit-our-shelter-348-Old-Colony-Rd-Eastford-CT-Wed-4-630pm-Thurs-Sat-Sun-1130am-123opm-Stormville-NY-location-is-foster-based4.png
END:VEVENT
BEGIN:VEVENT
DTSTART;TZID=America/New_York:20250810T110000
DTEND;TZID=America/New_York:20250810T130000
DTSTAMP:20260424T043059
CREATED:20250326T231949Z
LAST-MODIFIED:20250418T175708Z
UID:10001122-1754823600-1754830800@pawsafe.org
SUMMARY:Adoptions - Eastford
DESCRIPTION:Applications suggested but not required.
URL:https://pawsafe.org/event/adoptions-eastford-148-2/2025-08-10/
LOCATION:Eastford CT Shelter\, 348 Old Colony Rd\, Eastford\, CT\, 06242\, United States
CATEGORIES:CT Eastford Shelter
ATTACH;FMTTYPE=image/png:https://pawsafe.org/wp-content/uploads/2025/03/Visit-our-shelter-348-Old-Colony-Rd-Eastford-CT-Wed-4-630pm-Thurs-Sat-Sun-1130am-123opm-Stormville-NY-location-is-foster-based4.png
END:VEVENT
BEGIN:VEVENT
DTSTART;TZID=America/New_York:20250809T110000
DTEND;TZID=America/New_York:20250809T130000
DTSTAMP:20260424T043059
CREATED:20250326T231849Z
LAST-MODIFIED:20250418T175953Z
UID:10001074-1754737200-1754744400@pawsafe.org
SUMMARY:Adoptions - Eastford
DESCRIPTION:Applications suggested but not required
URL:https://pawsafe.org/event/adoptions-eastford-147-2-2/2025-08-09/
LOCATION:Eastford CT Shelter\, 348 Old Colony Rd\, Eastford\, CT\, 06242\, United States
CATEGORIES:CT Eastford Shelter
ATTACH;FMTTYPE=image/png:https://pawsafe.org/wp-content/uploads/2025/03/Visit-our-shelter-348-Old-Colony-Rd-Eastford-CT-Wed-4-630pm-Thurs-Sat-Sun-1130am-123opm-Stormville-NY-location-is-foster-based4.png
END:VEVENT
BEGIN:VEVENT
DTSTART;TZID=America/New_York:20250809T090000
DTEND;TZID=America/New_York:20250809T130000
DTSTAMP:20260424T043059
CREATED:20250714T235415Z
LAST-MODIFIED:20250715T000509Z
UID:10001176-1754730000-1754744400@pawsafe.org
SUMMARY:CT Adoptions @ The Quarry Campgrounds Giant Tag Sale
DESCRIPTION:Great Big Tag Sale on Aug 9th 9AM-3PM- open to the public\, food trucks and live band!! Dog friendly with open fields\, dog park\, dog beach and doggie poop bag stations through out.
URL:https://pawsafe.org/event/ct-adoptions-the-quarry-campgrounds-giant-tag-sale/
LOCATION:The Quarry Campground\, 704 Shenipsit Lake Road\, Tolland\, CT\, 06084\, United States
CATEGORIES:CT Off-site event
ATTACH;FMTTYPE=image/png:https://pawsafe.org/wp-content/uploads/2025/07/The_Quarry_Campground.png
END:VEVENT
BEGIN:VEVENT
DTSTART;TZID=America/New_York:20250807T103000
DTEND;TZID=America/New_York:20250807T123000
DTSTAMP:20260424T043059
CREATED:20250326T231635Z
LAST-MODIFIED:20250909T190519Z
UID:10000675-1754562600-1754569800@pawsafe.org
SUMMARY:Adoptions - Eastford
DESCRIPTION:Application preferred but not required
URL:https://pawsafe.org/event/adoptions-eastford-146-2-2-2/2025-08-07/
LOCATION:Eastford CT Shelter\, 348 Old Colony Rd\, Eastford\, CT\, 06242\, United States
CATEGORIES:CT Eastford Shelter
ATTACH;FMTTYPE=image/png:https://pawsafe.org/wp-content/uploads/2025/03/Visit-our-shelter-348-Old-Colony-Rd-Eastford-CT-Wed-4-630pm-Thurs-Sat-Sun-1130am-123opm-Stormville-NY-location-is-foster-based4.png
END:VEVENT
BEGIN:VEVENT
DTSTART;TZID=America/New_York:20250806T160000
DTEND;TZID=America/New_York:20250806T183000
DTSTAMP:20260424T043059
CREATED:20250326T231455Z
LAST-MODIFIED:20250418T175916Z
UID:10001052-1754496000-1754505000@pawsafe.org
SUMMARY:Adoptions - Eastford
DESCRIPTION:Applications suggested but not required
URL:https://pawsafe.org/event/adoptions-eastford-150/2025-08-06/
LOCATION:Eastford CT Shelter\, 348 Old Colony Rd\, Eastford\, CT\, 06242\, United States
CATEGORIES:CT Eastford Shelter
ATTACH;FMTTYPE=image/png:https://pawsafe.org/wp-content/uploads/2025/03/Visit-our-shelter-348-Old-Colony-Rd-Eastford-CT-Wed-4-630pm-Thurs-Sat-Sun-1130am-123opm-Stormville-NY-location-is-foster-based4.png
END:VEVENT
BEGIN:VEVENT
DTSTART;TZID=America/New_York:20250803T110000
DTEND;TZID=America/New_York:20250803T130000
DTSTAMP:20260424T043059
CREATED:20250326T231949Z
LAST-MODIFIED:20250418T175708Z
UID:10001121-1754218800-1754226000@pawsafe.org
SUMMARY:Adoptions - Eastford
DESCRIPTION:Applications suggested but not required.
URL:https://pawsafe.org/event/adoptions-eastford-148-2/2025-08-03/
LOCATION:Eastford CT Shelter\, 348 Old Colony Rd\, Eastford\, CT\, 06242\, United States
CATEGORIES:CT Eastford Shelter
ATTACH;FMTTYPE=image/png:https://pawsafe.org/wp-content/uploads/2025/03/Visit-our-shelter-348-Old-Colony-Rd-Eastford-CT-Wed-4-630pm-Thurs-Sat-Sun-1130am-123opm-Stormville-NY-location-is-foster-based4.png
END:VEVENT
BEGIN:VEVENT
DTSTART;TZID=America/New_York:20250802T110000
DTEND;TZID=America/New_York:20250802T130000
DTSTAMP:20260424T043059
CREATED:20250326T231849Z
LAST-MODIFIED:20250418T175953Z
UID:10001073-1754132400-1754139600@pawsafe.org
SUMMARY:Adoptions - Eastford
DESCRIPTION:Applications suggested but not required
URL:https://pawsafe.org/event/adoptions-eastford-147-2-2/2025-08-02/
LOCATION:Eastford CT Shelter\, 348 Old Colony Rd\, Eastford\, CT\, 06242\, United States
CATEGORIES:CT Eastford Shelter
ATTACH;FMTTYPE=image/png:https://pawsafe.org/wp-content/uploads/2025/03/Visit-our-shelter-348-Old-Colony-Rd-Eastford-CT-Wed-4-630pm-Thurs-Sat-Sun-1130am-123opm-Stormville-NY-location-is-foster-based4.png
END:VEVENT
BEGIN:VEVENT
DTSTART;TZID=America/New_York:20250802T090000
DTEND;TZID=America/New_York:20250802T130000
DTSTAMP:20260424T043059
CREATED:20250731T234440Z
LAST-MODIFIED:20250731T234448Z
UID:10001177-1754125200-1754139600@pawsafe.org
SUMMARY:NY Adoptions @ Peekskill Farmers Market
DESCRIPTION:
URL:https://pawsafe.org/event/ny-adoptions-peekskill-farmers-market-5/
LOCATION:Peekskill Farmers Market\, 1 Bank Street\, Peekskill\, NY\, 10566\, United States
CATEGORIES:NY Off-Site event
ATTACH;FMTTYPE=image/jpeg:https://pawsafe.org/wp-content/uploads/2025/07/Peekskill-2025.jpg
END:VEVENT
BEGIN:VEVENT
DTSTART;TZID=America/New_York:20250731T103000
DTEND;TZID=America/New_York:20250731T123000
DTSTAMP:20260424T043059
CREATED:20250326T231635Z
LAST-MODIFIED:20250909T190519Z
UID:10000674-1753957800-1753965000@pawsafe.org
SUMMARY:Adoptions - Eastford
DESCRIPTION:Application preferred but not required
URL:https://pawsafe.org/event/adoptions-eastford-146-2-2-2/2025-07-31/
LOCATION:Eastford CT Shelter\, 348 Old Colony Rd\, Eastford\, CT\, 06242\, United States
CATEGORIES:CT Eastford Shelter
ATTACH;FMTTYPE=image/png:https://pawsafe.org/wp-content/uploads/2025/03/Visit-our-shelter-348-Old-Colony-Rd-Eastford-CT-Wed-4-630pm-Thurs-Sat-Sun-1130am-123opm-Stormville-NY-location-is-foster-based4.png
END:VEVENT
BEGIN:VEVENT
DTSTART;TZID=America/New_York:20250730T160000
DTEND;TZID=America/New_York:20250730T183000
DTSTAMP:20260424T043059
CREATED:20250326T231455Z
LAST-MODIFIED:20250418T175916Z
UID:10001051-1753891200-1753900200@pawsafe.org
SUMMARY:Adoptions - Eastford
DESCRIPTION:Applications suggested but not required
URL:https://pawsafe.org/event/adoptions-eastford-150/2025-07-30/
LOCATION:Eastford CT Shelter\, 348 Old Colony Rd\, Eastford\, CT\, 06242\, United States
CATEGORIES:CT Eastford Shelter
ATTACH;FMTTYPE=image/png:https://pawsafe.org/wp-content/uploads/2025/03/Visit-our-shelter-348-Old-Colony-Rd-Eastford-CT-Wed-4-630pm-Thurs-Sat-Sun-1130am-123opm-Stormville-NY-location-is-foster-based4.png
END:VEVENT
BEGIN:VEVENT
DTSTART;TZID=America/New_York:20250727T110000
DTEND;TZID=America/New_York:20250727T130000
DTSTAMP:20260424T043059
CREATED:20250326T231949Z
LAST-MODIFIED:20250418T175708Z
UID:10001120-1753614000-1753621200@pawsafe.org
SUMMARY:Adoptions - Eastford
DESCRIPTION:Applications suggested but not required.
URL:https://pawsafe.org/event/adoptions-eastford-148-2/2025-07-27/
LOCATION:Eastford CT Shelter\, 348 Old Colony Rd\, Eastford\, CT\, 06242\, United States
CATEGORIES:CT Eastford Shelter
ATTACH;FMTTYPE=image/png:https://pawsafe.org/wp-content/uploads/2025/03/Visit-our-shelter-348-Old-Colony-Rd-Eastford-CT-Wed-4-630pm-Thurs-Sat-Sun-1130am-123opm-Stormville-NY-location-is-foster-based4.png
END:VEVENT
BEGIN:VEVENT
DTSTART;TZID=America/New_York:20250726T110000
DTEND;TZID=America/New_York:20250726T130000
DTSTAMP:20260424T043059
CREATED:20250326T231849Z
LAST-MODIFIED:20250418T175953Z
UID:10001072-1753527600-1753534800@pawsafe.org
SUMMARY:Adoptions - Eastford
DESCRIPTION:Applications suggested but not required
URL:https://pawsafe.org/event/adoptions-eastford-147-2-2/2025-07-26/
LOCATION:Eastford CT Shelter\, 348 Old Colony Rd\, Eastford\, CT\, 06242\, United States
CATEGORIES:CT Eastford Shelter
ATTACH;FMTTYPE=image/png:https://pawsafe.org/wp-content/uploads/2025/03/Visit-our-shelter-348-Old-Colony-Rd-Eastford-CT-Wed-4-630pm-Thurs-Sat-Sun-1130am-123opm-Stormville-NY-location-is-foster-based4.png
END:VEVENT
BEGIN:VEVENT
DTSTART;TZID=America/New_York:20250726T090000
DTEND;TZID=America/New_York:20250726T140000
DTSTAMP:20260424T043059
CREATED:20250709T150545Z
LAST-MODIFIED:20250710T191747Z
UID:10001175-1753520400-1753538400@pawsafe.org
SUMMARY:NY Adoptions @ Peekskill Farmers Market
DESCRIPTION:
URL:https://pawsafe.org/event/ny-adoptions-peekskill-farmers-market-4/
LOCATION:Peekskill Farmers Market\, 1 Bank Street\, Peekskill\, NY\, 10566\, United States
CATEGORIES:NY Off-Site event
ATTACH;FMTTYPE=image/jpeg:https://pawsafe.org/wp-content/uploads/2025/07/Peekskill-2025.jpg
END:VEVENT
BEGIN:VEVENT
DTSTART;TZID=America/New_York:20250724T153000
DTEND;TZID=America/New_York:20250724T173000
DTSTAMP:20260424T043059
CREATED:20250617T153957Z
LAST-MODIFIED:20250617T153957Z
UID:10001166-1753371000-1753378200@pawsafe.org
SUMMARY:Adoptions at Putnam Farmers Market (CT)
DESCRIPTION:Swing by and meet some amazing puppies and dogs hoping to win your heart!
URL:https://pawsafe.org/event/adoptions-at-putnam-farmers-market-ct-2/
LOCATION:Putnam Farmers Market (CT)\, 18 Kennedy drive\, Putnam\, CT\, 06260\, United States
CATEGORIES:CT Off-site event
END:VEVENT
BEGIN:VEVENT
DTSTART;TZID=America/New_York:20250724T103000
DTEND;TZID=America/New_York:20250724T123000
DTSTAMP:20260424T043059
CREATED:20250326T231635Z
LAST-MODIFIED:20250909T190519Z
UID:10000673-1753353000-1753360200@pawsafe.org
SUMMARY:Adoptions - Eastford
DESCRIPTION:Application preferred but not required
URL:https://pawsafe.org/event/adoptions-eastford-146-2-2-2/2025-07-24/
LOCATION:Eastford CT Shelter\, 348 Old Colony Rd\, Eastford\, CT\, 06242\, United States
CATEGORIES:CT Eastford Shelter
ATTACH;FMTTYPE=image/png:https://pawsafe.org/wp-content/uploads/2025/03/Visit-our-shelter-348-Old-Colony-Rd-Eastford-CT-Wed-4-630pm-Thurs-Sat-Sun-1130am-123opm-Stormville-NY-location-is-foster-based4.png
END:VEVENT
BEGIN:VEVENT
DTSTART;TZID=America/New_York:20250723T160000
DTEND;TZID=America/New_York:20250723T183000
DTSTAMP:20260424T043059
CREATED:20250326T231455Z
LAST-MODIFIED:20250418T175916Z
UID:10001050-1753286400-1753295400@pawsafe.org
SUMMARY:Adoptions - Eastford
DESCRIPTION:Applications suggested but not required
URL:https://pawsafe.org/event/adoptions-eastford-150/2025-07-23/
LOCATION:Eastford CT Shelter\, 348 Old Colony Rd\, Eastford\, CT\, 06242\, United States
CATEGORIES:CT Eastford Shelter
ATTACH;FMTTYPE=image/png:https://pawsafe.org/wp-content/uploads/2025/03/Visit-our-shelter-348-Old-Colony-Rd-Eastford-CT-Wed-4-630pm-Thurs-Sat-Sun-1130am-123opm-Stormville-NY-location-is-foster-based4.png
END:VEVENT
BEGIN:VEVENT
DTSTART;TZID=America/New_York:20250720T110000
DTEND;TZID=America/New_York:20250720T130000
DTSTAMP:20260424T043059
CREATED:20250326T231949Z
LAST-MODIFIED:20250418T175708Z
UID:10001119-1753009200-1753016400@pawsafe.org
SUMMARY:Adoptions - Eastford
DESCRIPTION:Applications suggested but not required.
URL:https://pawsafe.org/event/adoptions-eastford-148-2/2025-07-20/
LOCATION:Eastford CT Shelter\, 348 Old Colony Rd\, Eastford\, CT\, 06242\, United States
CATEGORIES:CT Eastford Shelter
ATTACH;FMTTYPE=image/png:https://pawsafe.org/wp-content/uploads/2025/03/Visit-our-shelter-348-Old-Colony-Rd-Eastford-CT-Wed-4-630pm-Thurs-Sat-Sun-1130am-123opm-Stormville-NY-location-is-foster-based4.png
END:VEVENT
BEGIN:VEVENT
DTSTART;TZID=America/New_York:20250720T100000
DTEND;TZID=America/New_York:20250720T120000
DTSTAMP:20260424T043059
CREATED:20250617T154233Z
LAST-MODIFIED:20250617T154233Z
UID:10001169-1753005600-1753012800@pawsafe.org
SUMMARY:Adoptions at Ashford Farmers Market (CT)
DESCRIPTION:All welcome!
URL:https://pawsafe.org/event/adoptions-at-ashford-farmers-market-ct/
LOCATION:Ashford Farmers Market (CT)\, 25 Tremko Lane\, Pompey Hollow Park\, Ashford\, CT\, 06278\, United States
CATEGORIES:CT Off-site event
END:VEVENT
BEGIN:VEVENT
DTSTART;TZID=America/New_York:20250719T110000
DTEND;TZID=America/New_York:20250719T130000
DTSTAMP:20260424T043059
CREATED:20250326T231849Z
LAST-MODIFIED:20250418T175953Z
UID:10001071-1752922800-1752930000@pawsafe.org
SUMMARY:Adoptions - Eastford
DESCRIPTION:Applications suggested but not required
URL:https://pawsafe.org/event/adoptions-eastford-147-2-2/2025-07-19/
LOCATION:Eastford CT Shelter\, 348 Old Colony Rd\, Eastford\, CT\, 06242\, United States
CATEGORIES:CT Eastford Shelter
ATTACH;FMTTYPE=image/png:https://pawsafe.org/wp-content/uploads/2025/03/Visit-our-shelter-348-Old-Colony-Rd-Eastford-CT-Wed-4-630pm-Thurs-Sat-Sun-1130am-123opm-Stormville-NY-location-is-foster-based4.png
END:VEVENT
BEGIN:VEVENT
DTSTART;TZID=America/New_York:20250719T100000
DTEND;TZID=America/New_York:20250719T140000
DTSTAMP:20260424T043059
CREATED:20250709T150249Z
LAST-MODIFIED:20250709T150249Z
UID:10001174-1752919200-1752933600@pawsafe.org
SUMMARY:NY Adoptions @ Kent Farmers Market Pet Day
DESCRIPTION:
URL:https://pawsafe.org/event/ny-adoptions-kent-farmers-market-pet-day-2/
LOCATION:Kent Town Center\, 25 Sybil's Crossing\, Kent Lakes\, NY\, 10512\, United States
CATEGORIES:NY Off-Site event
ATTACH;FMTTYPE=image/jpeg:https://pawsafe.org/wp-content/uploads/2025/07/kent-2025.jpg
END:VEVENT
BEGIN:VEVENT
DTSTART;TZID=America/New_York:20250717T103000
DTEND;TZID=America/New_York:20250717T123000
DTSTAMP:20260424T043059
CREATED:20250326T231635Z
LAST-MODIFIED:20250909T190519Z
UID:10000672-1752748200-1752755400@pawsafe.org
SUMMARY:Adoptions - Eastford
DESCRIPTION:Application preferred but not required
URL:https://pawsafe.org/event/adoptions-eastford-146-2-2-2/2025-07-17/
LOCATION:Eastford CT Shelter\, 348 Old Colony Rd\, Eastford\, CT\, 06242\, United States
CATEGORIES:CT Eastford Shelter
ATTACH;FMTTYPE=image/png:https://pawsafe.org/wp-content/uploads/2025/03/Visit-our-shelter-348-Old-Colony-Rd-Eastford-CT-Wed-4-630pm-Thurs-Sat-Sun-1130am-123opm-Stormville-NY-location-is-foster-based4.png
END:VEVENT
BEGIN:VEVENT
DTSTART;TZID=America/New_York:20250716T160000
DTEND;TZID=America/New_York:20250716T183000
DTSTAMP:20260424T043059
CREATED:20250326T231455Z
LAST-MODIFIED:20250418T175916Z
UID:10001049-1752681600-1752690600@pawsafe.org
SUMMARY:Adoptions - Eastford
DESCRIPTION:Applications suggested but not required
URL:https://pawsafe.org/event/adoptions-eastford-150/2025-07-16/
LOCATION:Eastford CT Shelter\, 348 Old Colony Rd\, Eastford\, CT\, 06242\, United States
CATEGORIES:CT Eastford Shelter
ATTACH;FMTTYPE=image/png:https://pawsafe.org/wp-content/uploads/2025/03/Visit-our-shelter-348-Old-Colony-Rd-Eastford-CT-Wed-4-630pm-Thurs-Sat-Sun-1130am-123opm-Stormville-NY-location-is-foster-based4.png
END:VEVENT
BEGIN:VEVENT
DTSTART;TZID=America/New_York:20250713T110000
DTEND;TZID=America/New_York:20250713T130000
DTSTAMP:20260424T043059
CREATED:20250326T231949Z
LAST-MODIFIED:20250418T175708Z
UID:10001118-1752404400-1752411600@pawsafe.org
SUMMARY:Adoptions - Eastford
DESCRIPTION:Applications suggested but not required.
URL:https://pawsafe.org/event/adoptions-eastford-148-2/2025-07-13/
LOCATION:Eastford CT Shelter\, 348 Old Colony Rd\, Eastford\, CT\, 06242\, United States
CATEGORIES:CT Eastford Shelter
ATTACH;FMTTYPE=image/png:https://pawsafe.org/wp-content/uploads/2025/03/Visit-our-shelter-348-Old-Colony-Rd-Eastford-CT-Wed-4-630pm-Thurs-Sat-Sun-1130am-123opm-Stormville-NY-location-is-foster-based4.png
END:VEVENT
BEGIN:VEVENT
DTSTART;TZID=America/New_York:20250712T110000
DTEND;TZID=America/New_York:20250712T130000
DTSTAMP:20260424T043059
CREATED:20250706T233439Z
LAST-MODIFIED:20250706T233440Z
UID:10001173-1752318000-1752325200@pawsafe.org
SUMMARY:CT Adoptions at Worthington Vineyard and Winery
DESCRIPTION:No appointments needed – pass by and meet some cute puppies!
URL:https://pawsafe.org/event/ct-adoptions-at-worthington-vineyard-and-winery/
LOCATION:Worthington Vineyard and Winery (CT)\, 359 Mountain Rd\, Somers\, CT\, 06071\, United States
CATEGORIES:CT Off-site event
END:VEVENT
BEGIN:VEVENT
DTSTART;TZID=America/New_York:20250712T110000
DTEND;TZID=America/New_York:20250712T130000
DTSTAMP:20260424T043059
CREATED:20250326T231849Z
LAST-MODIFIED:20250418T175953Z
UID:10001070-1752318000-1752325200@pawsafe.org
SUMMARY:Adoptions - Eastford
DESCRIPTION:Applications suggested but not required
URL:https://pawsafe.org/event/adoptions-eastford-147-2-2/2025-07-12/
LOCATION:Eastford CT Shelter\, 348 Old Colony Rd\, Eastford\, CT\, 06242\, United States
CATEGORIES:CT Eastford Shelter
ATTACH;FMTTYPE=image/png:https://pawsafe.org/wp-content/uploads/2025/03/Visit-our-shelter-348-Old-Colony-Rd-Eastford-CT-Wed-4-630pm-Thurs-Sat-Sun-1130am-123opm-Stormville-NY-location-is-foster-based4.png
END:VEVENT
BEGIN:VEVENT
DTSTART;TZID=America/New_York:20250710T153000
DTEND;TZID=America/New_York:20250710T173000
DTSTAMP:20260424T043059
CREATED:20250617T153920Z
LAST-MODIFIED:20250617T153920Z
UID:10001165-1752161400-1752168600@pawsafe.org
SUMMARY:Adoptions at Putnam Farmers Market (CT)
DESCRIPTION:Swing by and meet some amazing puppies and dogs hoping to win your heart!
URL:https://pawsafe.org/event/adoptions-at-putnam-farmers-market-ct/
LOCATION:Putnam Farmers Market (CT)\, 18 Kennedy drive\, Putnam\, CT\, 06260\, United States
CATEGORIES:CT Off-site event
END:VEVENT
BEGIN:VEVENT
DTSTART;TZID=America/New_York:20250710T103000
DTEND;TZID=America/New_York:20250710T123000
DTSTAMP:20260424T043059
CREATED:20250326T231635Z
LAST-MODIFIED:20250909T190519Z
UID:10000671-1752143400-1752150600@pawsafe.org
SUMMARY:Adoptions - Eastford
DESCRIPTION:Application preferred but not required
URL:https://pawsafe.org/event/adoptions-eastford-146-2-2-2/2025-07-10/
LOCATION:Eastford CT Shelter\, 348 Old Colony Rd\, Eastford\, CT\, 06242\, United States
CATEGORIES:CT Eastford Shelter
ATTACH;FMTTYPE=image/png:https://pawsafe.org/wp-content/uploads/2025/03/Visit-our-shelter-348-Old-Colony-Rd-Eastford-CT-Wed-4-630pm-Thurs-Sat-Sun-1130am-123opm-Stormville-NY-location-is-foster-based4.png
END:VEVENT
BEGIN:VEVENT
DTSTART;TZID=America/New_York:20250709T160000
DTEND;TZID=America/New_York:20250709T183000
DTSTAMP:20260424T043059
CREATED:20250326T231455Z
LAST-MODIFIED:20250418T175916Z
UID:10001048-1752076800-1752085800@pawsafe.org
SUMMARY:Adoptions - Eastford
DESCRIPTION:Applications suggested but not required
URL:https://pawsafe.org/event/adoptions-eastford-150/2025-07-09/
LOCATION:Eastford CT Shelter\, 348 Old Colony Rd\, Eastford\, CT\, 06242\, United States
CATEGORIES:CT Eastford Shelter
ATTACH;FMTTYPE=image/png:https://pawsafe.org/wp-content/uploads/2025/03/Visit-our-shelter-348-Old-Colony-Rd-Eastford-CT-Wed-4-630pm-Thurs-Sat-Sun-1130am-123opm-Stormville-NY-location-is-foster-based4.png
END:VEVENT
BEGIN:VEVENT
DTSTART;TZID=America/New_York:20250706T110000
DTEND;TZID=America/New_York:20250706T130000
DTSTAMP:20260424T043059
CREATED:20250326T231949Z
LAST-MODIFIED:20250418T175708Z
UID:10001117-1751799600-1751806800@pawsafe.org
SUMMARY:Adoptions - Eastford
DESCRIPTION:Applications suggested but not required.
URL:https://pawsafe.org/event/adoptions-eastford-148-2/2025-07-06/
LOCATION:Eastford CT Shelter\, 348 Old Colony Rd\, Eastford\, CT\, 06242\, United States
CATEGORIES:CT Eastford Shelter
ATTACH;FMTTYPE=image/png:https://pawsafe.org/wp-content/uploads/2025/03/Visit-our-shelter-348-Old-Colony-Rd-Eastford-CT-Wed-4-630pm-Thurs-Sat-Sun-1130am-123opm-Stormville-NY-location-is-foster-based4.png
END:VEVENT
END:VCALENDAR