BEGIN:VCALENDAR
VERSION:2.0
PRODID:-//PawSafeAnimal Rescue - ECPv6.15.20//NONSGML v1.0//EN
CALSCALE:GREGORIAN
METHOD:PUBLISH
X-WR-CALNAME:PawSafeAnimal Rescue
X-ORIGINAL-URL:https://pawsafe.org
X-WR-CALDESC:Events for PawSafeAnimal Rescue
REFRESH-INTERVAL;VALUE=DURATION:PT1H
X-Robots-Tag:noindex
X-PUBLISHED-TTL:PT1H
BEGIN:VTIMEZONE
TZID:America/New_York
BEGIN:DAYLIGHT
TZOFFSETFROM:-0500
TZOFFSETTO:-0400
TZNAME:EDT
DTSTART:20240310T070000
END:DAYLIGHT
BEGIN:STANDARD
TZOFFSETFROM:-0400
TZOFFSETTO:-0500
TZNAME:EST
DTSTART:20241103T060000
END:STANDARD
BEGIN:DAYLIGHT
TZOFFSETFROM:-0500
TZOFFSETTO:-0400
TZNAME:EDT
DTSTART:20250309T070000
END:DAYLIGHT
BEGIN:STANDARD
TZOFFSETFROM:-0400
TZOFFSETTO:-0500
TZNAME:EST
DTSTART:20251102T060000
END:STANDARD
BEGIN:DAYLIGHT
TZOFFSETFROM:-0500
TZOFFSETTO:-0400
TZNAME:EDT
DTSTART:20260308T070000
END:DAYLIGHT
BEGIN:STANDARD
TZOFFSETFROM:-0400
TZOFFSETTO:-0500
TZNAME:EST
DTSTART:20261101T060000
END:STANDARD
END:VTIMEZONE
BEGIN:VEVENT
DTSTART;TZID=America/New_York:20250608T110000
DTEND;TZID=America/New_York:20250608T130000
DTSTAMP:20260424T121442
CREATED:20250326T231949Z
LAST-MODIFIED:20250418T175708Z
UID:10001113-1749380400-1749387600@pawsafe.org
SUMMARY:Adoptions - Eastford
DESCRIPTION:Applications suggested but not required.
URL:https://pawsafe.org/event/adoptions-eastford-148-2/2025-06-08/
LOCATION:Eastford CT Shelter\, 348 Old Colony Rd\, Eastford\, CT\, 06242\, United States
CATEGORIES:CT Eastford Shelter
ATTACH;FMTTYPE=image/png:https://pawsafe.org/wp-content/uploads/2025/03/Visit-our-shelter-348-Old-Colony-Rd-Eastford-CT-Wed-4-630pm-Thurs-Sat-Sun-1130am-123opm-Stormville-NY-location-is-foster-based4.png
END:VEVENT
BEGIN:VEVENT
DTSTART;TZID=America/New_York:20250607T110000
DTEND;TZID=America/New_York:20250607T130000
DTSTAMP:20260424T121442
CREATED:20250326T231849Z
LAST-MODIFIED:20250418T175953Z
UID:10001065-1749294000-1749301200@pawsafe.org
SUMMARY:Adoptions - Eastford
DESCRIPTION:Applications suggested but not required
URL:https://pawsafe.org/event/adoptions-eastford-147-2-2/2025-06-07/
LOCATION:Eastford CT Shelter\, 348 Old Colony Rd\, Eastford\, CT\, 06242\, United States
CATEGORIES:CT Eastford Shelter
ATTACH;FMTTYPE=image/png:https://pawsafe.org/wp-content/uploads/2025/03/Visit-our-shelter-348-Old-Colony-Rd-Eastford-CT-Wed-4-630pm-Thurs-Sat-Sun-1130am-123opm-Stormville-NY-location-is-foster-based4.png
END:VEVENT
BEGIN:VEVENT
DTSTART;TZID=America/New_York:20250607T090000
DTEND;TZID=America/New_York:20250607T120000
DTSTAMP:20260424T121442
CREATED:20250519T000104Z
LAST-MODIFIED:20250519T000104Z
UID:10001160-1749286800-1749297600@pawsafe.org
SUMMARY:CT Adoption Event at Ellington Farmers Market
DESCRIPTION:Join us at Ellington Farmers Market’s Puppy Love event!
URL:https://pawsafe.org/event/ct-adoption-event-at-ellington-farmers-market/
LOCATION:Ellington CT Farmers Market\, 72 Maple Street\, Ellington\, CT\, 06076\, United States
CATEGORIES:CT Off-site event
ATTACH;FMTTYPE=image/png:https://pawsafe.org/wp-content/uploads/2025/05/scrnli_pOMJlg49lbicEw.png
END:VEVENT
BEGIN:VEVENT
DTSTART;TZID=America/New_York:20250605T103000
DTEND;TZID=America/New_York:20250605T123000
DTSTAMP:20260424T121442
CREATED:20250326T231635Z
LAST-MODIFIED:20250909T190519Z
UID:10000666-1749119400-1749126600@pawsafe.org
SUMMARY:Adoptions - Eastford
DESCRIPTION:Application preferred but not required
URL:https://pawsafe.org/event/adoptions-eastford-146-2-2-2/2025-06-05/
LOCATION:Eastford CT Shelter\, 348 Old Colony Rd\, Eastford\, CT\, 06242\, United States
CATEGORIES:CT Eastford Shelter
ATTACH;FMTTYPE=image/png:https://pawsafe.org/wp-content/uploads/2025/03/Visit-our-shelter-348-Old-Colony-Rd-Eastford-CT-Wed-4-630pm-Thurs-Sat-Sun-1130am-123opm-Stormville-NY-location-is-foster-based4.png
END:VEVENT
BEGIN:VEVENT
DTSTART;TZID=America/New_York:20250604T160000
DTEND;TZID=America/New_York:20250604T183000
DTSTAMP:20260424T121442
CREATED:20250326T231455Z
LAST-MODIFIED:20250418T175916Z
UID:10001043-1749052800-1749061800@pawsafe.org
SUMMARY:Adoptions - Eastford
DESCRIPTION:Applications suggested but not required
URL:https://pawsafe.org/event/adoptions-eastford-150/2025-06-04/
LOCATION:Eastford CT Shelter\, 348 Old Colony Rd\, Eastford\, CT\, 06242\, United States
CATEGORIES:CT Eastford Shelter
ATTACH;FMTTYPE=image/png:https://pawsafe.org/wp-content/uploads/2025/03/Visit-our-shelter-348-Old-Colony-Rd-Eastford-CT-Wed-4-630pm-Thurs-Sat-Sun-1130am-123opm-Stormville-NY-location-is-foster-based4.png
END:VEVENT
BEGIN:VEVENT
DTSTART;TZID=America/New_York:20250601T110000
DTEND;TZID=America/New_York:20250601T130000
DTSTAMP:20260424T121442
CREATED:20250326T231949Z
LAST-MODIFIED:20250418T175708Z
UID:10001112-1748775600-1748782800@pawsafe.org
SUMMARY:Adoptions - Eastford
DESCRIPTION:Applications suggested but not required.
URL:https://pawsafe.org/event/adoptions-eastford-148-2/2025-06-01/
LOCATION:Eastford CT Shelter\, 348 Old Colony Rd\, Eastford\, CT\, 06242\, United States
CATEGORIES:CT Eastford Shelter
ATTACH;FMTTYPE=image/png:https://pawsafe.org/wp-content/uploads/2025/03/Visit-our-shelter-348-Old-Colony-Rd-Eastford-CT-Wed-4-630pm-Thurs-Sat-Sun-1130am-123opm-Stormville-NY-location-is-foster-based4.png
END:VEVENT
BEGIN:VEVENT
DTSTART;TZID=America/New_York:20250531T140000
DTEND;TZID=America/New_York:20250531T160000
DTSTAMP:20260424T121442
CREATED:20250528T112913Z
LAST-MODIFIED:20250529T174748Z
UID:10001162-1748700000-1748707200@pawsafe.org
SUMMARY:NY Adoptions @ Relay for Life of Eastern Putnam *** Moved to Henry H Wells Middle School
DESCRIPTION:The event had to be moved indoors due to the weather. They have moved PawSafe to the front of Henry H Wells Middle School.
URL:https://pawsafe.org/event/ny-adoptions-relay-for-life-of-eastern-putnam-2/
LOCATION:Brewster High School\, 50 Foggintown Road\, Brewster\, NY\, 10509\, United States
CATEGORIES:NY Off-Site event
END:VEVENT
BEGIN:VEVENT
DTSTART;TZID=America/New_York:20250531T110000
DTEND;TZID=America/New_York:20250531T130000
DTSTAMP:20260424T121442
CREATED:20250326T231849Z
LAST-MODIFIED:20250418T175953Z
UID:10001064-1748689200-1748696400@pawsafe.org
SUMMARY:Adoptions - Eastford
DESCRIPTION:Applications suggested but not required
URL:https://pawsafe.org/event/adoptions-eastford-147-2-2/2025-05-31/
LOCATION:Eastford CT Shelter\, 348 Old Colony Rd\, Eastford\, CT\, 06242\, United States
CATEGORIES:CT Eastford Shelter
ATTACH;FMTTYPE=image/png:https://pawsafe.org/wp-content/uploads/2025/03/Visit-our-shelter-348-Old-Colony-Rd-Eastford-CT-Wed-4-630pm-Thurs-Sat-Sun-1130am-123opm-Stormville-NY-location-is-foster-based4.png
END:VEVENT
BEGIN:VEVENT
DTSTART;TZID=America/New_York:20250529T103000
DTEND;TZID=America/New_York:20250529T123000
DTSTAMP:20260424T121442
CREATED:20250326T231635Z
LAST-MODIFIED:20250909T190519Z
UID:10000665-1748514600-1748521800@pawsafe.org
SUMMARY:Adoptions - Eastford
DESCRIPTION:Application preferred but not required
URL:https://pawsafe.org/event/adoptions-eastford-146-2-2-2/2025-05-29/
LOCATION:Eastford CT Shelter\, 348 Old Colony Rd\, Eastford\, CT\, 06242\, United States
CATEGORIES:CT Eastford Shelter
ATTACH;FMTTYPE=image/png:https://pawsafe.org/wp-content/uploads/2025/03/Visit-our-shelter-348-Old-Colony-Rd-Eastford-CT-Wed-4-630pm-Thurs-Sat-Sun-1130am-123opm-Stormville-NY-location-is-foster-based4.png
END:VEVENT
BEGIN:VEVENT
DTSTART;TZID=America/New_York:20250528T160000
DTEND;TZID=America/New_York:20250528T183000
DTSTAMP:20260424T121442
CREATED:20250326T231455Z
LAST-MODIFIED:20250418T175916Z
UID:10001042-1748448000-1748457000@pawsafe.org
SUMMARY:Adoptions - Eastford
DESCRIPTION:Applications suggested but not required
URL:https://pawsafe.org/event/adoptions-eastford-150/2025-05-28/
LOCATION:Eastford CT Shelter\, 348 Old Colony Rd\, Eastford\, CT\, 06242\, United States
CATEGORIES:CT Eastford Shelter
ATTACH;FMTTYPE=image/png:https://pawsafe.org/wp-content/uploads/2025/03/Visit-our-shelter-348-Old-Colony-Rd-Eastford-CT-Wed-4-630pm-Thurs-Sat-Sun-1130am-123opm-Stormville-NY-location-is-foster-based4.png
END:VEVENT
BEGIN:VEVENT
DTSTART;TZID=America/New_York:20250525T110000
DTEND;TZID=America/New_York:20250525T130000
DTSTAMP:20260424T121442
CREATED:20250326T231949Z
LAST-MODIFIED:20250418T175708Z
UID:10001111-1748170800-1748178000@pawsafe.org
SUMMARY:Adoptions - Eastford
DESCRIPTION:Applications suggested but not required.
URL:https://pawsafe.org/event/adoptions-eastford-148-2/2025-05-25/
LOCATION:Eastford CT Shelter\, 348 Old Colony Rd\, Eastford\, CT\, 06242\, United States
CATEGORIES:CT Eastford Shelter
ATTACH;FMTTYPE=image/png:https://pawsafe.org/wp-content/uploads/2025/03/Visit-our-shelter-348-Old-Colony-Rd-Eastford-CT-Wed-4-630pm-Thurs-Sat-Sun-1130am-123opm-Stormville-NY-location-is-foster-based4.png
END:VEVENT
BEGIN:VEVENT
DTSTART;TZID=America/New_York:20250524T120000
DTEND;TZID=America/New_York:20250524T150000
DTSTAMP:20260424T121442
CREATED:20250518T235502Z
LAST-MODIFIED:20250518T235502Z
UID:10001159-1748088000-1748098800@pawsafe.org
SUMMARY:CT Adoption Event at  Stafford Chrysler Dodge Jeep Ram
DESCRIPTION:Applications suggested but not required!
URL:https://pawsafe.org/event/ct-adoption-event-at-stafford-chrysler-dodge-jeep-ram/
LOCATION:Stafford Chrysler Dodge Jeep Ram\, 121A West Stafford St\, Stafford\, CT\, 06076\, United States
CATEGORIES:CT Off-site event
ATTACH;FMTTYPE=image/jpeg:https://pawsafe.org/wp-content/uploads/2025/05/Stafford-Chrysler-Dodge-Jeep-Ram.jpg
END:VEVENT
BEGIN:VEVENT
DTSTART;TZID=America/New_York:20250524T110000
DTEND;TZID=America/New_York:20250524T130000
DTSTAMP:20260424T121442
CREATED:20250326T231849Z
LAST-MODIFIED:20250418T175953Z
UID:10001063-1748084400-1748091600@pawsafe.org
SUMMARY:Adoptions - Eastford
DESCRIPTION:Applications suggested but not required
URL:https://pawsafe.org/event/adoptions-eastford-147-2-2/2025-05-24/
LOCATION:Eastford CT Shelter\, 348 Old Colony Rd\, Eastford\, CT\, 06242\, United States
CATEGORIES:CT Eastford Shelter
ATTACH;FMTTYPE=image/png:https://pawsafe.org/wp-content/uploads/2025/03/Visit-our-shelter-348-Old-Colony-Rd-Eastford-CT-Wed-4-630pm-Thurs-Sat-Sun-1130am-123opm-Stormville-NY-location-is-foster-based4.png
END:VEVENT
BEGIN:VEVENT
DTSTART;TZID=America/New_York:20250522T103000
DTEND;TZID=America/New_York:20250522T123000
DTSTAMP:20260424T121442
CREATED:20250326T231635Z
LAST-MODIFIED:20250909T190519Z
UID:10000664-1747909800-1747917000@pawsafe.org
SUMMARY:Adoptions - Eastford
DESCRIPTION:Application preferred but not required
URL:https://pawsafe.org/event/adoptions-eastford-146-2-2-2/2025-05-22/
LOCATION:Eastford CT Shelter\, 348 Old Colony Rd\, Eastford\, CT\, 06242\, United States
CATEGORIES:CT Eastford Shelter
ATTACH;FMTTYPE=image/png:https://pawsafe.org/wp-content/uploads/2025/03/Visit-our-shelter-348-Old-Colony-Rd-Eastford-CT-Wed-4-630pm-Thurs-Sat-Sun-1130am-123opm-Stormville-NY-location-is-foster-based4.png
END:VEVENT
BEGIN:VEVENT
DTSTART;TZID=America/New_York:20250521T160000
DTEND;TZID=America/New_York:20250521T183000
DTSTAMP:20260424T121442
CREATED:20250326T231455Z
LAST-MODIFIED:20250418T175916Z
UID:10001041-1747843200-1747852200@pawsafe.org
SUMMARY:Adoptions - Eastford
DESCRIPTION:Applications suggested but not required
URL:https://pawsafe.org/event/adoptions-eastford-150/2025-05-21/
LOCATION:Eastford CT Shelter\, 348 Old Colony Rd\, Eastford\, CT\, 06242\, United States
CATEGORIES:CT Eastford Shelter
ATTACH;FMTTYPE=image/png:https://pawsafe.org/wp-content/uploads/2025/03/Visit-our-shelter-348-Old-Colony-Rd-Eastford-CT-Wed-4-630pm-Thurs-Sat-Sun-1130am-123opm-Stormville-NY-location-is-foster-based4.png
END:VEVENT
BEGIN:VEVENT
DTSTART;TZID=America/New_York:20250518T110000
DTEND;TZID=America/New_York:20250518T130000
DTSTAMP:20260424T121442
CREATED:20250326T231949Z
LAST-MODIFIED:20250418T175708Z
UID:10001110-1747566000-1747573200@pawsafe.org
SUMMARY:Adoptions - Eastford
DESCRIPTION:Applications suggested but not required.
URL:https://pawsafe.org/event/adoptions-eastford-148-2/2025-05-18/
LOCATION:Eastford CT Shelter\, 348 Old Colony Rd\, Eastford\, CT\, 06242\, United States
CATEGORIES:CT Eastford Shelter
ATTACH;FMTTYPE=image/png:https://pawsafe.org/wp-content/uploads/2025/03/Visit-our-shelter-348-Old-Colony-Rd-Eastford-CT-Wed-4-630pm-Thurs-Sat-Sun-1130am-123opm-Stormville-NY-location-is-foster-based4.png
END:VEVENT
BEGIN:VEVENT
DTSTART;TZID=America/New_York:20250517T110000
DTEND;TZID=America/New_York:20250517T130000
DTSTAMP:20260424T121442
CREATED:20250326T231849Z
LAST-MODIFIED:20250418T175953Z
UID:10001062-1747479600-1747486800@pawsafe.org
SUMMARY:Adoptions - Eastford
DESCRIPTION:Applications suggested but not required
URL:https://pawsafe.org/event/adoptions-eastford-147-2-2/2025-05-17/
LOCATION:Eastford CT Shelter\, 348 Old Colony Rd\, Eastford\, CT\, 06242\, United States
CATEGORIES:CT Eastford Shelter
ATTACH;FMTTYPE=image/png:https://pawsafe.org/wp-content/uploads/2025/03/Visit-our-shelter-348-Old-Colony-Rd-Eastford-CT-Wed-4-630pm-Thurs-Sat-Sun-1130am-123opm-Stormville-NY-location-is-foster-based4.png
END:VEVENT
BEGIN:VEVENT
DTSTART;TZID=America/New_York:20250517T100000
DTEND;TZID=America/New_York:20250517T140000
DTSTAMP:20260424T121442
CREATED:20250503T220944Z
LAST-MODIFIED:20250503T220944Z
UID:10001158-1747476000-1747490400@pawsafe.org
SUMMARY:NY Adoptions @ Kent Farmers Market Pet Day
DESCRIPTION:
URL:https://pawsafe.org/event/ny-adoptions-kent-farmers-market-pet-day/
LOCATION:Kent Town Center\, 25 Sybil's Crossing\, Kent Lakes\, NY\, 10512\, United States
CATEGORIES:NY Off-Site event
ATTACH;FMTTYPE=image/jpeg:https://pawsafe.org/wp-content/uploads/2025/05/farmers_market-2024-edited.jpg
END:VEVENT
BEGIN:VEVENT
DTSTART;TZID=America/New_York:20250515T103000
DTEND;TZID=America/New_York:20250515T123000
DTSTAMP:20260424T121442
CREATED:20250326T231635Z
LAST-MODIFIED:20250909T190519Z
UID:10000663-1747305000-1747312200@pawsafe.org
SUMMARY:Adoptions - Eastford
DESCRIPTION:Application preferred but not required
URL:https://pawsafe.org/event/adoptions-eastford-146-2-2-2/2025-05-15/
LOCATION:Eastford CT Shelter\, 348 Old Colony Rd\, Eastford\, CT\, 06242\, United States
CATEGORIES:CT Eastford Shelter
ATTACH;FMTTYPE=image/png:https://pawsafe.org/wp-content/uploads/2025/03/Visit-our-shelter-348-Old-Colony-Rd-Eastford-CT-Wed-4-630pm-Thurs-Sat-Sun-1130am-123opm-Stormville-NY-location-is-foster-based4.png
END:VEVENT
BEGIN:VEVENT
DTSTART;TZID=America/New_York:20250514T160000
DTEND;TZID=America/New_York:20250514T183000
DTSTAMP:20260424T121442
CREATED:20250326T231455Z
LAST-MODIFIED:20250418T175916Z
UID:10001040-1747238400-1747247400@pawsafe.org
SUMMARY:Adoptions - Eastford
DESCRIPTION:Applications suggested but not required
URL:https://pawsafe.org/event/adoptions-eastford-150/2025-05-14/
LOCATION:Eastford CT Shelter\, 348 Old Colony Rd\, Eastford\, CT\, 06242\, United States
CATEGORIES:CT Eastford Shelter
ATTACH;FMTTYPE=image/png:https://pawsafe.org/wp-content/uploads/2025/03/Visit-our-shelter-348-Old-Colony-Rd-Eastford-CT-Wed-4-630pm-Thurs-Sat-Sun-1130am-123opm-Stormville-NY-location-is-foster-based4.png
END:VEVENT
BEGIN:VEVENT
DTSTART;TZID=America/New_York:20250511T110000
DTEND;TZID=America/New_York:20250511T130000
DTSTAMP:20260424T121442
CREATED:20250326T231949Z
LAST-MODIFIED:20250418T175708Z
UID:10001109-1746961200-1746968400@pawsafe.org
SUMMARY:Adoptions - Eastford
DESCRIPTION:Applications suggested but not required.
URL:https://pawsafe.org/event/adoptions-eastford-148-2/2025-05-11/
LOCATION:Eastford CT Shelter\, 348 Old Colony Rd\, Eastford\, CT\, 06242\, United States
CATEGORIES:CT Eastford Shelter
ATTACH;FMTTYPE=image/png:https://pawsafe.org/wp-content/uploads/2025/03/Visit-our-shelter-348-Old-Colony-Rd-Eastford-CT-Wed-4-630pm-Thurs-Sat-Sun-1130am-123opm-Stormville-NY-location-is-foster-based4.png
END:VEVENT
BEGIN:VEVENT
DTSTART;TZID=America/New_York:20250511T100000
DTEND;TZID=America/New_York:20250511T130000
DTSTAMP:20260424T121442
CREATED:20250427T124257Z
LAST-MODIFIED:20250427T124257Z
UID:10001155-1746957600-1746968400@pawsafe.org
SUMMARY:Ashford Farmers Market Adoption Event
DESCRIPTION:Applications preferred but not required
URL:https://pawsafe.org/event/ashford-farmers-market-adoption-event/
LOCATION:Ashford Farmers Market (CT)\, 25 Tremko Lane\, Pompey Hollow Park\, Ashford\, CT\, 06278\, United States
CATEGORIES:CT Off-site event
END:VEVENT
BEGIN:VEVENT
DTSTART;TZID=America/New_York:20250510T110000
DTEND;TZID=America/New_York:20250510T130000
DTSTAMP:20260424T121442
CREATED:20250326T231849Z
LAST-MODIFIED:20250418T175953Z
UID:10001061-1746874800-1746882000@pawsafe.org
SUMMARY:Adoptions - Eastford
DESCRIPTION:Applications suggested but not required
URL:https://pawsafe.org/event/adoptions-eastford-147-2-2/2025-05-10/
LOCATION:Eastford CT Shelter\, 348 Old Colony Rd\, Eastford\, CT\, 06242\, United States
CATEGORIES:CT Eastford Shelter
ATTACH;FMTTYPE=image/png:https://pawsafe.org/wp-content/uploads/2025/03/Visit-our-shelter-348-Old-Colony-Rd-Eastford-CT-Wed-4-630pm-Thurs-Sat-Sun-1130am-123opm-Stormville-NY-location-is-foster-based4.png
END:VEVENT
BEGIN:VEVENT
DTSTART;TZID=America/New_York:20250510T103000
DTEND;TZID=America/New_York:20250510T120000
DTSTAMP:20260424T121442
CREATED:20250503T220134Z
LAST-MODIFIED:20250503T220134Z
UID:10001157-1746873000-1746878400@pawsafe.org
SUMMARY:NY Adoptions @ Tractor Supply Patterson
DESCRIPTION:
URL:https://pawsafe.org/event/ny-adoptions-tractor-supply-patterson-7/
LOCATION:Tractor Supply Patterson NY\, 1253 Route 311\, Patterson\, NY\, 12563\, United States
CATEGORIES:NY Off-Site event
ATTACH;FMTTYPE=image/jpeg:https://pawsafe.org/wp-content/uploads/2025/02/Tractor-Supply-Patterson.jpg
END:VEVENT
BEGIN:VEVENT
DTSTART;TZID=America/New_York:20250510T100000
DTEND;TZID=America/New_York:20250510T140000
DTSTAMP:20260424T121442
CREATED:20250427T123807Z
LAST-MODIFIED:20250427T123943Z
UID:10001154-1746871200-1746885600@pawsafe.org
SUMMARY:Experience Eastford Adoption Event
DESCRIPTION:Featuring PawSafe puppies\, vendors\, exhibits\, food\, music\, events\, and more!
URL:https://pawsafe.org/event/experience-eastford-adoption-event/
LOCATION:Eastford Elementary School\, 12 Westford Rd\, Eastford\, CT\, 06242\, United States
CATEGORIES:CT Off-site event
ATTACH;FMTTYPE=image/jpeg:https://pawsafe.org/wp-content/uploads/2025/04/experience_eastford_flyer_2025.jpg
END:VEVENT
BEGIN:VEVENT
DTSTART;TZID=America/New_York:20250508T103000
DTEND;TZID=America/New_York:20250508T123000
DTSTAMP:20260424T121442
CREATED:20250326T231635Z
LAST-MODIFIED:20250909T190519Z
UID:10000662-1746700200-1746707400@pawsafe.org
SUMMARY:Adoptions - Eastford
DESCRIPTION:Application preferred but not required
URL:https://pawsafe.org/event/adoptions-eastford-146-2-2-2/2025-05-08/
LOCATION:Eastford CT Shelter\, 348 Old Colony Rd\, Eastford\, CT\, 06242\, United States
CATEGORIES:CT Eastford Shelter
ATTACH;FMTTYPE=image/png:https://pawsafe.org/wp-content/uploads/2025/03/Visit-our-shelter-348-Old-Colony-Rd-Eastford-CT-Wed-4-630pm-Thurs-Sat-Sun-1130am-123opm-Stormville-NY-location-is-foster-based4.png
END:VEVENT
BEGIN:VEVENT
DTSTART;TZID=America/New_York:20250507T160000
DTEND;TZID=America/New_York:20250507T183000
DTSTAMP:20260424T121442
CREATED:20250326T231455Z
LAST-MODIFIED:20250418T175916Z
UID:10001039-1746633600-1746642600@pawsafe.org
SUMMARY:Adoptions - Eastford
DESCRIPTION:Applications suggested but not required
URL:https://pawsafe.org/event/adoptions-eastford-150/2025-05-07/
LOCATION:Eastford CT Shelter\, 348 Old Colony Rd\, Eastford\, CT\, 06242\, United States
CATEGORIES:CT Eastford Shelter
ATTACH;FMTTYPE=image/png:https://pawsafe.org/wp-content/uploads/2025/03/Visit-our-shelter-348-Old-Colony-Rd-Eastford-CT-Wed-4-630pm-Thurs-Sat-Sun-1130am-123opm-Stormville-NY-location-is-foster-based4.png
END:VEVENT
BEGIN:VEVENT
DTSTART;TZID=America/New_York:20250504T110000
DTEND;TZID=America/New_York:20250504T130000
DTSTAMP:20260424T121442
CREATED:20250326T231949Z
LAST-MODIFIED:20250418T175708Z
UID:10001108-1746356400-1746363600@pawsafe.org
SUMMARY:Adoptions - Eastford
DESCRIPTION:Applications suggested but not required.
URL:https://pawsafe.org/event/adoptions-eastford-148-2/2025-05-04/
LOCATION:Eastford CT Shelter\, 348 Old Colony Rd\, Eastford\, CT\, 06242\, United States
CATEGORIES:CT Eastford Shelter
ATTACH;FMTTYPE=image/png:https://pawsafe.org/wp-content/uploads/2025/03/Visit-our-shelter-348-Old-Colony-Rd-Eastford-CT-Wed-4-630pm-Thurs-Sat-Sun-1130am-123opm-Stormville-NY-location-is-foster-based4.png
END:VEVENT
BEGIN:VEVENT
DTSTART;TZID=America/New_York:20250504T090000
DTEND;TZID=America/New_York:20250504T130000
DTSTAMP:20260424T121442
CREATED:20250428T180156Z
LAST-MODIFIED:20250428T180156Z
UID:10001156-1746349200-1746363600@pawsafe.org
SUMMARY:NY Adoptions @ Carmel Farmer's Market - Michael Geary Memorial Roller Hockey Rink
DESCRIPTION:
URL:https://pawsafe.org/event/ny-adoptions-carmel-farmers-market-michael-geary-memorial-roller-hockey-rink/
LOCATION:Michael Geary Memorial Roller Hockey Rink\, 740 US 6\, Mahopac\, NY\, 10541\, United States
CATEGORIES:NY Off-Site event
ATTACH;FMTTYPE=image/jpeg:https://pawsafe.org/wp-content/uploads/2025/04/Farmers-Market-Photo.f.jpg
END:VEVENT
BEGIN:VEVENT
DTSTART;TZID=America/New_York:20250503T110000
DTEND;TZID=America/New_York:20250503T140000
DTSTAMP:20260424T121442
CREATED:20250320T180844Z
LAST-MODIFIED:20250323T120036Z
UID:10001021-1746270000-1746280800@pawsafe.org
SUMMARY:Cropley's Adoption Event
DESCRIPTION:No reservations needed!
URL:https://pawsafe.org/event/cropleys-adoption-event-2/
LOCATION:Cropley’s Garden Center\, 1262 Boston Turnpike\, Bolton\, 06043\, United States
CATEGORIES:CT Off-site event
ATTACH;FMTTYPE=image/jpeg:https://pawsafe.org/wp-content/uploads/2025/03/Spring-Festival-2025-cropleys.jpg
END:VEVENT
END:VCALENDAR