BEGIN:VCALENDAR
VERSION:2.0
PRODID:-//PawSafeAnimal Rescue - ECPv6.15.20//NONSGML v1.0//EN
CALSCALE:GREGORIAN
METHOD:PUBLISH
X-ORIGINAL-URL:https://pawsafe.org
X-WR-CALDESC:Events for PawSafeAnimal Rescue
REFRESH-INTERVAL;VALUE=DURATION:PT1H
X-Robots-Tag:noindex
X-PUBLISHED-TTL:PT1H
BEGIN:VTIMEZONE
TZID:America/New_York
BEGIN:DAYLIGHT
TZOFFSETFROM:-0500
TZOFFSETTO:-0400
TZNAME:EDT
DTSTART:20230312T070000
END:DAYLIGHT
BEGIN:STANDARD
TZOFFSETFROM:-0400
TZOFFSETTO:-0500
TZNAME:EST
DTSTART:20231105T060000
END:STANDARD
BEGIN:DAYLIGHT
TZOFFSETFROM:-0500
TZOFFSETTO:-0400
TZNAME:EDT
DTSTART:20240310T070000
END:DAYLIGHT
BEGIN:STANDARD
TZOFFSETFROM:-0400
TZOFFSETTO:-0500
TZNAME:EST
DTSTART:20241103T060000
END:STANDARD
BEGIN:DAYLIGHT
TZOFFSETFROM:-0500
TZOFFSETTO:-0400
TZNAME:EDT
DTSTART:20250309T070000
END:DAYLIGHT
BEGIN:STANDARD
TZOFFSETFROM:-0400
TZOFFSETTO:-0500
TZNAME:EST
DTSTART:20251102T060000
END:STANDARD
END:VTIMEZONE
BEGIN:VTIMEZONE
TZID:UTC
BEGIN:STANDARD
TZOFFSETFROM:+0000
TZOFFSETTO:+0000
TZNAME:UTC
DTSTART:20230101T000000
END:STANDARD
END:VTIMEZONE
BEGIN:VEVENT
DTSTART;TZID=America/New_York:20241027T110000
DTEND;TZID=America/New_York:20241027T130000
DTSTAMP:20260425T165524
CREATED:20240921T004510Z
LAST-MODIFIED:20241020T002419Z
UID:10000481-1730026800-1730034000@pawsafe.org
SUMMARY:Adoptions – Ellington CT
DESCRIPTION:Application and Appointments requested but not required!
URL:https://pawsafe.org/event/adoptions-ellington-ct-2/
LOCATION:Ellington CT Shelter\, 110 Sandy Beach Rd\, Ellington\, CT\, 06029\, United States
CATEGORIES:CT Ellington Shelter
ATTACH;FMTTYPE=image/png:https://pawsafe.org/wp-content/uploads/2024/09/ellington-adoptions.png
END:VEVENT
BEGIN:VEVENT
DTSTART;TZID=America/New_York:20241027T110000
DTEND;TZID=America/New_York:20241027T130000
DTSTAMP:20260425T165524
CREATED:20240921T002912Z
LAST-MODIFIED:20241029T001646Z
UID:10000559-1730026800-1730034000@pawsafe.org
SUMMARY:Adoptions - Eastford
DESCRIPTION:Application and Appointments requested but not required!
URL:https://pawsafe.org/event/adoptions-eastford-123-2-2/2024-10-27/
LOCATION:Eastford CT Shelter\, 348 Old Colony Rd\, Eastford\, CT\, 06242\, United States
CATEGORIES:CT Eastford Shelter
ATTACH;FMTTYPE=image/png:https://pawsafe.org/wp-content/uploads/2024/06/Oct-2.png
END:VEVENT
BEGIN:VEVENT
DTSTART;TZID=America/New_York:20241026T110000
DTEND;TZID=America/New_York:20241026T130000
DTSTAMP:20260425T165524
CREATED:20240921T001635Z
LAST-MODIFIED:20241020T002346Z
UID:10000419-1729940400-1729947600@pawsafe.org
SUMMARY:Adoptions – Ellington CT
DESCRIPTION:Application and Appointments requested but not required!
URL:https://pawsafe.org/event/adoptions-eastford-135/
LOCATION:Ellington CT Shelter\, 110 Sandy Beach Rd\, Ellington\, CT\, 06029\, United States
CATEGORIES:CT Ellington Shelter
ATTACH;FMTTYPE=image/png:https://pawsafe.org/wp-content/uploads/2024/09/ellington-adoptions.png
END:VEVENT
BEGIN:VEVENT
DTSTART;TZID=America/New_York:20241024T110000
DTEND;TZID=America/New_York:20241024T130000
DTSTAMP:20260425T165524
CREATED:20240921T005235Z
LAST-MODIFIED:20241020T002316Z
UID:10000484-1729767600-1729774800@pawsafe.org
SUMMARY:Adoptions – Ellington CT
DESCRIPTION:Application and Appointments requested but not required!
URL:https://pawsafe.org/event/adoptions-ellington-ct/
LOCATION:Ellington CT Shelter\, 110 Sandy Beach Rd\, Ellington\, CT\, 06029\, United States
CATEGORIES:CT Ellington Shelter
ATTACH;FMTTYPE=image/png:https://pawsafe.org/wp-content/uploads/2024/09/ellington-adoptions.png
END:VEVENT
BEGIN:VEVENT
DTSTART;TZID=UTC:20241024T110000
DTEND;TZID=UTC:20241024T130000
DTSTAMP:20260425T165524
CREATED:20240921T003433Z
LAST-MODIFIED:20241029T002208Z
UID:10000560-1729767600-1729774800@pawsafe.org
SUMMARY:Adoptions - Eastford
DESCRIPTION:Application and Appointments requested but not required!
URL:https://pawsafe.org/event/adoptions-eastford-127-2/2024-10-24/
LOCATION:Eastford CT Shelter\, 348 Old Colony Rd\, Eastford\, CT\, 06242\, United States
CATEGORIES:CT Eastford Shelter
ATTACH;FMTTYPE=image/png:https://pawsafe.org/wp-content/uploads/2024/06/Oct-2.png
END:VEVENT
BEGIN:VEVENT
DTSTART;TZID=America/New_York:20241023T153000
DTEND;TZID=America/New_York:20241023T190000
DTSTAMP:20260425T165524
CREATED:20240921T004048Z
LAST-MODIFIED:20240921T012235Z
UID:10000424-1729697400-1729710000@pawsafe.org
SUMMARY:Adoptions – Ellington
DESCRIPTION:Application and Appointments requested but not required!
URL:https://pawsafe.org/event/adoptions-ellington-19/
LOCATION:Ellington CT Shelter\, 110 Sandy Beach Rd\, Ellington\, CT\, 06029\, United States
CATEGORIES:CT Ellington Shelter
ATTACH;FMTTYPE=image/png:https://pawsafe.org/wp-content/uploads/2024/09/ellington-adoptions.png
END:VEVENT
BEGIN:VEVENT
DTSTART;TZID=America/New_York:20241020T110000
DTEND;TZID=America/New_York:20241020T130000
DTSTAMP:20260425T165524
CREATED:20240921T004737Z
LAST-MODIFIED:20241020T002222Z
UID:10000483-1729422000-1729429200@pawsafe.org
SUMMARY:Adoptions – Ellington CT
DESCRIPTION:Application and Appointments requested but not required!
URL:https://pawsafe.org/event/adoptions-ellington-ct-4/
LOCATION:Ellington CT Shelter\, 110 Sandy Beach Rd\, Ellington\, CT\, 06029\, United States
CATEGORIES:CT Ellington Shelter
ATTACH;FMTTYPE=image/png:https://pawsafe.org/wp-content/uploads/2024/09/ellington-adoptions.png
END:VEVENT
BEGIN:VEVENT
DTSTART;TZID=America/New_York:20241020T110000
DTEND;TZID=America/New_York:20241020T130000
DTSTAMP:20260425T165524
CREATED:20240921T002912Z
LAST-MODIFIED:20241029T001646Z
UID:10000558-1729422000-1729429200@pawsafe.org
SUMMARY:Adoptions - Eastford
DESCRIPTION:Application and Appointments requested but not required!
URL:https://pawsafe.org/event/adoptions-eastford-123-2-2/2024-10-20/
LOCATION:Eastford CT Shelter\, 348 Old Colony Rd\, Eastford\, CT\, 06242\, United States
CATEGORIES:CT Eastford Shelter
ATTACH;FMTTYPE=image/png:https://pawsafe.org/wp-content/uploads/2024/06/Oct-2.png
END:VEVENT
BEGIN:VEVENT
DTSTART;TZID=America/New_York:20241019T100000
DTEND;TZID=America/New_York:20241019T140000
DTSTAMP:20260425T165524
CREATED:20240921T002054Z
LAST-MODIFIED:20240921T002403Z
UID:10000420-1729332000-1729346400@pawsafe.org
SUMMARY:CT Adoption Event at Somers Farmers and Crafters Market
DESCRIPTION:Visit us at the Annual Farmers & Crafters Market held at the Four Town Fairgrounds in Somers CT.\nApplications helpful but not required.  All welcome.
URL:https://pawsafe.org/event/ct-adoption-event-at-somers-farmers-and-crafters-market/
LOCATION:Four Town Fair in Somers CT\, 56 Egypt Rd\, Somers\, CT\, 06071\, United States
CATEGORIES:CT Off-site event
END:VEVENT
BEGIN:VEVENT
DTSTART;TZID=America/New_York:20241019T090000
DTEND;TZID=America/New_York:20241019T140000
DTSTAMP:20260425T165524
CREATED:20240603T175116Z
LAST-MODIFIED:20240730T135203Z
UID:10000228-1729328400-1729346400@pawsafe.org
SUMMARY:NY Adoptions @ Outhouse Orchards
DESCRIPTION:
URL:https://pawsafe.org/event/ny-adoptions-outhouse-orchards/
LOCATION:Outhouse Orchards\, 139 Hardscrabble Road\, North Salem\, NY\, 10560\, United States
CATEGORIES:NY Off-Site event
ATTACH;FMTTYPE=image/jpeg:https://pawsafe.org/wp-content/uploads/2024/06/Outhouse-New.jpg
END:VEVENT
BEGIN:VEVENT
DTSTART;TZID=UTC:20241017T110000
DTEND;TZID=UTC:20241017T130000
DTSTAMP:20260425T165524
CREATED:20240921T003433Z
LAST-MODIFIED:20241029T002208Z
UID:10000321-1729162800-1729170000@pawsafe.org
SUMMARY:Adoptions - Eastford
DESCRIPTION:Application and Appointments requested but not required!
URL:https://pawsafe.org/event/adoptions-eastford-127-2/2024-10-17/
LOCATION:Eastford CT Shelter\, 348 Old Colony Rd\, Eastford\, CT\, 06242\, United States
CATEGORIES:CT Eastford Shelter
ATTACH;FMTTYPE=image/png:https://pawsafe.org/wp-content/uploads/2024/06/Oct-2.png
END:VEVENT
BEGIN:VEVENT
DTSTART;TZID=America/New_York:20241016T153000
DTEND;TZID=America/New_York:20241016T190000
DTSTAMP:20260425T165524
CREATED:20240921T003845Z
LAST-MODIFIED:20240921T003845Z
UID:10000423-1729092600-1729105200@pawsafe.org
SUMMARY:Adoptions – Eastford
DESCRIPTION:Application and Appointments requested but not required!
URL:https://pawsafe.org/event/adoptions-eastford-138/
LOCATION:Eastford CT Shelter\, 348 Old Colony Rd\, Eastford\, CT\, 06242\, United States
CATEGORIES:CT Eastford Shelter
ATTACH;FMTTYPE=image/png:https://pawsafe.org/wp-content/uploads/2024/06/Oct-2.png
END:VEVENT
BEGIN:VEVENT
DTSTART;TZID=America/New_York:20241013T110000
DTEND;TZID=America/New_York:20241013T150000
DTSTAMP:20260425T165524
CREATED:20240603T174406Z
LAST-MODIFIED:20240730T135227Z
UID:10000227-1728817200-1728831600@pawsafe.org
SUMMARY:NY Adoptions @ Yorktown Chamber Fall Fest & Car Show
DESCRIPTION:
URL:https://pawsafe.org/event/ny-adoptions-yorktown-chamber-fall-fest-car-show/
LOCATION:Jefferson Valley Mall\, 650 Lee Boulevard\, Yorktown Heights\, NY\, 10598\, United States
CATEGORIES:NY Off-Site event
ATTACH;FMTTYPE=image/jpeg:https://pawsafe.org/wp-content/uploads/2024/06/Yorktown-Fall-Fest-2024-Use.jpeg
END:VEVENT
BEGIN:VEVENT
DTSTART;TZID=America/New_York:20241013T110000
DTEND;TZID=America/New_York:20241013T130000
DTSTAMP:20260425T165524
CREATED:20240921T002912Z
LAST-MODIFIED:20241029T001646Z
UID:10000395-1728817200-1728824400@pawsafe.org
SUMMARY:Adoptions - Eastford
DESCRIPTION:Application and Appointments requested but not required!
URL:https://pawsafe.org/event/adoptions-eastford-123-2-2/2024-10-13/
LOCATION:Eastford CT Shelter\, 348 Old Colony Rd\, Eastford\, CT\, 06242\, United States
CATEGORIES:CT Eastford Shelter
ATTACH;FMTTYPE=image/png:https://pawsafe.org/wp-content/uploads/2024/06/Oct-2.png
END:VEVENT
BEGIN:VEVENT
DTSTART;TZID=America/New_York:20241013T100000
DTEND;TZID=America/New_York:20241013T140000
DTSTAMP:20260425T165524
CREATED:20240921T131301Z
LAST-MODIFIED:20240921T131333Z
UID:10000556-1728813600-1728828000@pawsafe.org
SUMMARY:Adoptions at Cropley's Garden Center
DESCRIPTION:PawSafe Pet Adoptions!  Games\, vendors and more!
URL:https://pawsafe.org/event/adoptions-at-cropleys-garden-center/
LOCATION:Cropley’s Garden Center\, 1262 Boston Turnpike\, Bolton\, 06043\, United States
CATEGORIES:CT Off-site event
ATTACH;FMTTYPE=image/jpeg:https://pawsafe.org/wp-content/uploads/2024/09/Fall_Festival_2024_updated_8.13.jpg
END:VEVENT
BEGIN:VEVENT
DTSTART;TZID=America/New_York:20241012T110000
DTEND;TZID=America/New_York:20241012T130000
DTSTAMP:20260425T165524
CREATED:20240921T001554Z
LAST-MODIFIED:20240921T001554Z
UID:10000418-1728730800-1728738000@pawsafe.org
SUMMARY:Adoptions – Eastford
DESCRIPTION:Application and Appointments requested but not required!
URL:https://pawsafe.org/event/adoptions-eastford-134/
LOCATION:Eastford CT Shelter\, 348 Old Colony Rd\, Eastford\, CT\, 06242\, United States
CATEGORIES:CT Eastford Shelter
ATTACH;FMTTYPE=image/png:https://pawsafe.org/wp-content/uploads/2024/06/Oct-2.png
END:VEVENT
BEGIN:VEVENT
DTSTART;TZID=UTC:20241010T110000
DTEND;TZID=UTC:20241010T130000
DTSTAMP:20260425T165524
CREATED:20240921T003433Z
LAST-MODIFIED:20241029T002208Z
UID:10000320-1728558000-1728565200@pawsafe.org
SUMMARY:Adoptions - Eastford
DESCRIPTION:Application and Appointments requested but not required!
URL:https://pawsafe.org/event/adoptions-eastford-127-2/2024-10-10/
LOCATION:Eastford CT Shelter\, 348 Old Colony Rd\, Eastford\, CT\, 06242\, United States
CATEGORIES:CT Eastford Shelter
ATTACH;FMTTYPE=image/png:https://pawsafe.org/wp-content/uploads/2024/06/Oct-2.png
END:VEVENT
BEGIN:VEVENT
DTSTART;TZID=America/New_York:20241009T153000
DTEND;TZID=America/New_York:20241009T190000
DTSTAMP:20260425T165524
CREATED:20240921T003805Z
LAST-MODIFIED:20240921T003805Z
UID:10000422-1728487800-1728500400@pawsafe.org
SUMMARY:Adoptions – Eastford
DESCRIPTION:Application and Appointments requested but not required!
URL:https://pawsafe.org/event/adoptions-eastford-137/
LOCATION:Eastford CT Shelter\, 348 Old Colony Rd\, Eastford\, CT\, 06242\, United States
CATEGORIES:CT Eastford Shelter
ATTACH;FMTTYPE=image/png:https://pawsafe.org/wp-content/uploads/2024/06/Oct-2.png
END:VEVENT
BEGIN:VEVENT
DTSTART;TZID=America/New_York:20241006T120000
DTEND;TZID=America/New_York:20241006T160000
DTSTAMP:20260425T165524
CREATED:20240909T151736Z
LAST-MODIFIED:20240909T161716Z
UID:10000409-1728216000-1728230400@pawsafe.org
SUMMARY:NY Adoptions @ East Fishkill Fire District HQ Open House
DESCRIPTION:
URL:https://pawsafe.org/event/ny-adoptions-east-fishkill-fire-district-hq-open-house/
LOCATION:East Fishkill Fire District HQ\, 2502 NY-52\, Hopewell Junction\, 12533\, United States
CATEGORIES:NY Off-Site event
ATTACH;FMTTYPE=image/jpeg:https://pawsafe.org/wp-content/uploads/2024/09/Photo-Sep-09-2024-11-06-27-AM.jpg
END:VEVENT
BEGIN:VEVENT
DTSTART;TZID=America/New_York:20241006T110000
DTEND;TZID=America/New_York:20241006T130000
DTSTAMP:20260425T165524
CREATED:20240921T002912Z
LAST-MODIFIED:20241029T001646Z
UID:10000394-1728212400-1728219600@pawsafe.org
SUMMARY:Adoptions - Eastford
DESCRIPTION:Application and Appointments requested but not required!
URL:https://pawsafe.org/event/adoptions-eastford-123-2-2/2024-10-06/
LOCATION:Eastford CT Shelter\, 348 Old Colony Rd\, Eastford\, CT\, 06242\, United States
CATEGORIES:CT Eastford Shelter
ATTACH;FMTTYPE=image/png:https://pawsafe.org/wp-content/uploads/2024/06/Oct-2.png
END:VEVENT
BEGIN:VEVENT
DTSTART;TZID=America/New_York:20241005T110000
DTEND;TZID=America/New_York:20241005T130000
DTSTAMP:20260425T165524
CREATED:20240921T001242Z
LAST-MODIFIED:20240921T001242Z
UID:10000417-1728126000-1728133200@pawsafe.org
SUMMARY:Adoptions – Eastford
DESCRIPTION:Application and Appointments requested but not required!
URL:https://pawsafe.org/event/adoptions-eastford-133/
LOCATION:Eastford CT Shelter\, 348 Old Colony Rd\, Eastford\, CT\, 06242\, United States
CATEGORIES:CT Eastford Shelter
ATTACH;FMTTYPE=image/png:https://pawsafe.org/wp-content/uploads/2024/06/Oct-2.png
END:VEVENT
BEGIN:VEVENT
DTSTART;TZID=UTC:20241003T110000
DTEND;TZID=UTC:20241003T130000
DTSTAMP:20260425T165524
CREATED:20240921T003433Z
LAST-MODIFIED:20241029T002208Z
UID:10000319-1727953200-1727960400@pawsafe.org
SUMMARY:Adoptions - Eastford
DESCRIPTION:Application and Appointments requested but not required!
URL:https://pawsafe.org/event/adoptions-eastford-127-2/2024-10-03/
LOCATION:Eastford CT Shelter\, 348 Old Colony Rd\, Eastford\, CT\, 06242\, United States
CATEGORIES:CT Eastford Shelter
ATTACH;FMTTYPE=image/png:https://pawsafe.org/wp-content/uploads/2024/06/Oct-2.png
END:VEVENT
BEGIN:VEVENT
DTSTART;TZID=America/New_York:20241002T153000
DTEND;TZID=America/New_York:20241002T190000
DTSTAMP:20260425T165524
CREATED:20240921T003721Z
LAST-MODIFIED:20240921T003721Z
UID:10000421-1727883000-1727895600@pawsafe.org
SUMMARY:Adoptions – Eastford
DESCRIPTION:Application and Appointments requested but not required!
URL:https://pawsafe.org/event/adoptions-eastford-136/
LOCATION:Eastford CT Shelter\, 348 Old Colony Rd\, Eastford\, CT\, 06242\, United States
CATEGORIES:CT Eastford Shelter
ATTACH;FMTTYPE=image/png:https://pawsafe.org/wp-content/uploads/2024/06/Oct-2.png
END:VEVENT
BEGIN:VEVENT
DTSTART;TZID=America/New_York:20240929T130000
DTEND;TZID=America/New_York:20240929T160000
DTSTAMP:20260425T165524
CREATED:20240919T141935Z
LAST-MODIFIED:20240919T143019Z
UID:10000412-1727614800-1727625600@pawsafe.org
SUMMARY:NY Adoptions @ Woofstock Poundridge
DESCRIPTION:
URL:https://pawsafe.org/event/ny-adoptions-woofstock-poundridge/
LOCATION:Pound Ridge Community Church\, 3 Pound Ridge Road\, Pound Ridge\, 10576\, United States
CATEGORIES:NY Off-Site event
ATTACH;FMTTYPE=image/png:https://pawsafe.org/wp-content/uploads/2024/09/Woofstock-2024.png
END:VEVENT
BEGIN:VEVENT
DTSTART;TZID=America/New_York:20240929T110000
DTEND;TZID=America/New_York:20240929T150000
DTSTAMP:20260425T165524
CREATED:20240919T141254Z
LAST-MODIFIED:20240919T141254Z
UID:10000411-1727607600-1727622000@pawsafe.org
SUMMARY:NY Adoption @ Carmel Fire Department Open House
DESCRIPTION:
URL:https://pawsafe.org/event/ny-adoption-carmel-fire-department-open-house/
LOCATION:Carmel Fire Department\, 94 Gleneida Ave\, Carmel\, NY\, 10512\, United States
CATEGORIES:NY Off-Site event
ATTACH;FMTTYPE=image/jpeg:https://pawsafe.org/wp-content/uploads/2024/09/Carmel-FD-9-29-2024.jpg
END:VEVENT
BEGIN:VEVENT
DTSTART;TZID=America/New_York:20240929T110000
DTEND;TZID=America/New_York:20240929T130000
DTSTAMP:20260425T165524
CREATED:20240921T002912Z
LAST-MODIFIED:20241029T001646Z
UID:10000393-1727607600-1727614800@pawsafe.org
SUMMARY:Adoptions - Eastford
DESCRIPTION:Application and Appointments requested but not required!
URL:https://pawsafe.org/event/adoptions-eastford-123-2-2/2024-09-29/
LOCATION:Eastford CT Shelter\, 348 Old Colony Rd\, Eastford\, CT\, 06242\, United States
CATEGORIES:CT Eastford Shelter
ATTACH;FMTTYPE=image/png:https://pawsafe.org/wp-content/uploads/2024/06/Oct-2.png
END:VEVENT
BEGIN:VEVENT
DTSTART;TZID=America/New_York:20240928T130000
DTEND;TZID=America/New_York:20240928T160000
DTSTAMP:20260425T165524
CREATED:20240919T150504Z
LAST-MODIFIED:20240919T150704Z
UID:10000413-1727528400-1727539200@pawsafe.org
SUMMARY:NY Adoptions @ Peekskill Dog Park Barktober Fest 2024
DESCRIPTION:
URL:https://pawsafe.org/event/ny-adoptions-peekskill-dog-park-barktober-fest-2024/
LOCATION:Peekskill Dog Park\, 1795 Main Street\, Peekskill\, NY\, 10566\, United States
CATEGORIES:NY Off-Site event
ATTACH;FMTTYPE=image/jpeg:https://pawsafe.org/wp-content/uploads/2024/09/Peekskill-Barktober-Fest.jpg
END:VEVENT
BEGIN:VEVENT
DTSTART;TZID=America/New_York:20240928T110000
DTEND;TZID=America/New_York:20240928T130000
DTSTAMP:20260425T165524
CREATED:20240919T182928Z
LAST-MODIFIED:20240919T182928Z
UID:10000416-1727521200-1727528400@pawsafe.org
SUMMARY:Adoptions – Eastford
DESCRIPTION:Application and Appointments requested but not required!
URL:https://pawsafe.org/event/adoptions-eastford-132/
LOCATION:Eastford CT Shelter\, 348 Old Colony Rd\, Eastford\, CT\, 06242\, United States
CATEGORIES:CT Eastford Shelter
ATTACH;FMTTYPE=image/png:https://pawsafe.org/wp-content/uploads/2024/06/Oct-2.png
END:VEVENT
BEGIN:VEVENT
DTSTART;TZID=America/New_York:20240928T100000
DTEND;TZID=America/New_York:20240928T140000
DTSTAMP:20260425T165524
CREATED:20240921T125600Z
LAST-MODIFIED:20240921T125600Z
UID:10000555-1727517600-1727532000@pawsafe.org
SUMMARY:Adoptions at Enfield Fall Festival and Walk
DESCRIPTION:Family Friendly Activities\, live music\, FOOD\, face painting\, Vendors and PUPPIES!
URL:https://pawsafe.org/event/adoptions-at-enfield-fall-festival-and-walk/
LOCATION:Enfield Town Green\, 81-199 N Main Street\, Enfield\, CT\, 06082\, United States
CATEGORIES:CT Off-site event
ATTACH;FMTTYPE=image/jpeg:https://pawsafe.org/wp-content/uploads/2024/09/2024_flyer_for_vendors.jpg
END:VEVENT
BEGIN:VEVENT
DTSTART;TZID=UTC:20240926T110000
DTEND;TZID=UTC:20240926T130000
DTSTAMP:20260425T165524
CREATED:20240921T003433Z
LAST-MODIFIED:20241029T002208Z
UID:10000318-1727348400-1727355600@pawsafe.org
SUMMARY:Adoptions - Eastford
DESCRIPTION:Application and Appointments requested but not required!
URL:https://pawsafe.org/event/adoptions-eastford-127-2/2024-09-26/
LOCATION:Eastford CT Shelter\, 348 Old Colony Rd\, Eastford\, CT\, 06242\, United States
CATEGORIES:CT Eastford Shelter
ATTACH;FMTTYPE=image/png:https://pawsafe.org/wp-content/uploads/2024/06/Oct-2.png
END:VEVENT
END:VCALENDAR