BEGIN:VCALENDAR
VERSION:2.0
PRODID:-//PawSafeAnimal Rescue - ECPv6.15.20//NONSGML v1.0//EN
CALSCALE:GREGORIAN
METHOD:PUBLISH
X-ORIGINAL-URL:https://pawsafe.org
X-WR-CALDESC:Events for PawSafeAnimal Rescue
REFRESH-INTERVAL;VALUE=DURATION:PT1H
X-Robots-Tag:noindex
X-PUBLISHED-TTL:PT1H
BEGIN:VTIMEZONE
TZID:America/New_York
BEGIN:DAYLIGHT
TZOFFSETFROM:-0500
TZOFFSETTO:-0400
TZNAME:EDT
DTSTART:20250309T070000
END:DAYLIGHT
BEGIN:STANDARD
TZOFFSETFROM:-0400
TZOFFSETTO:-0500
TZNAME:EST
DTSTART:20251102T060000
END:STANDARD
BEGIN:DAYLIGHT
TZOFFSETFROM:-0500
TZOFFSETTO:-0400
TZNAME:EDT
DTSTART:20260308T070000
END:DAYLIGHT
BEGIN:STANDARD
TZOFFSETFROM:-0400
TZOFFSETTO:-0500
TZNAME:EST
DTSTART:20261101T060000
END:STANDARD
BEGIN:DAYLIGHT
TZOFFSETFROM:-0500
TZOFFSETTO:-0400
TZNAME:EDT
DTSTART:20270314T070000
END:DAYLIGHT
BEGIN:STANDARD
TZOFFSETFROM:-0400
TZOFFSETTO:-0500
TZNAME:EST
DTSTART:20271107T060000
END:STANDARD
END:VTIMEZONE
BEGIN:VEVENT
DTSTART;TZID=America/New_York:20260411T110000
DTEND;TZID=America/New_York:20260411T130000
DTSTAMP:20260423T152912
CREATED:20260401T012326Z
LAST-MODIFIED:20260401T012326Z
UID:10001435-1775905200-1775912400@pawsafe.org
SUMMARY:Adoptions - Eastford
DESCRIPTION:Applications preferred but not required
URL:https://pawsafe.org/event/adoptions-eastford-166/
LOCATION:Eastford CT Shelter\, 348 Old Colony Rd\, Eastford\, CT\, 06242\, United States
CATEGORIES:CT Eastford Shelter
ATTACH;FMTTYPE=image/png:https://pawsafe.org/wp-content/uploads/2026/01/hours26.png
END:VEVENT
BEGIN:VEVENT
DTSTART;TZID=America/New_York:20260412T110000
DTEND;TZID=America/New_York:20260412T130000
DTSTAMP:20260423T152912
CREATED:20260401T012347Z
LAST-MODIFIED:20260401T012347Z
UID:10001436-1775991600-1775998800@pawsafe.org
SUMMARY:Adoptions - Eastford
DESCRIPTION:Applications preferred but not required
URL:https://pawsafe.org/event/adoptions-eastford-167/
LOCATION:Eastford CT Shelter\, 348 Old Colony Rd\, Eastford\, CT\, 06242\, United States
CATEGORIES:CT Eastford Shelter
ATTACH;FMTTYPE=image/png:https://pawsafe.org/wp-content/uploads/2026/01/hours26.png
END:VEVENT
BEGIN:VEVENT
DTSTART;TZID=America/New_York:20260415T160000
DTEND;TZID=America/New_York:20260415T183000
DTSTAMP:20260423T152912
CREATED:20260102T121109Z
LAST-MODIFIED:20260102T121109Z
UID:10001234-1776268800-1776277800@pawsafe.org
SUMMARY:Adoptions - Eastford
DESCRIPTION:Applications preferred but not required
URL:https://pawsafe.org/event/adoptions-eastford-152-2-2/2026-04-15/
LOCATION:Eastford CT Shelter\, 348 Old Colony Rd\, Eastford\, CT\, 06242\, United States
CATEGORIES:CT Eastford Shelter
ATTACH;FMTTYPE=image/png:https://pawsafe.org/wp-content/uploads/2026/01/hours26.png
END:VEVENT
BEGIN:VEVENT
DTSTART;TZID=America/New_York:20260416T103000
DTEND;TZID=America/New_York:20260416T123000
DTSTAMP:20260423T152912
CREATED:20260401T012617Z
LAST-MODIFIED:20260401T012617Z
UID:10001441-1776335400-1776342600@pawsafe.org
SUMMARY:Adoptions - Eastford
DESCRIPTION:Applications preferred but not required
URL:https://pawsafe.org/event/adoptions-eastford-172/
LOCATION:Eastford CT Shelter\, 348 Old Colony Rd\, Eastford\, CT\, 06242\, United States
CATEGORIES:CT Eastford Shelter
ATTACH;FMTTYPE=image/png:https://pawsafe.org/wp-content/uploads/2026/01/hours26.png
END:VEVENT
BEGIN:VEVENT
DTSTART;TZID=America/New_York:20260418T100000
DTEND;TZID=America/New_York:20260418T120000
DTSTAMP:20260423T152912
CREATED:20260417T141748Z
LAST-MODIFIED:20260417T141748Z
UID:10001449-1776506400-1776513600@pawsafe.org
SUMMARY:NY Adoptions @ Tractor Supply Patterson
DESCRIPTION:Pups that are listed for the adoption event on this day cannot be met or adopted until this event. \n  \nPups that are listed in foster homes\, for example: NY Max (Foster in Pawling) – these dogs can be met outsdie of event days by emailing info@pawsafe.org to set up an appoinment at the foster home on weekdays/evenings and non event days.
URL:https://pawsafe.org/event/ny-adoptions-tractor-supply-patterson-19/
LOCATION:Tractor Supply Patterson NY\, 1253 Route 311\, Patterson\, NY\, 12563\, United States
CATEGORIES:NY Off-Site event
ATTACH;FMTTYPE=image/jpeg:https://pawsafe.org/wp-content/uploads/2025/02/Tractor-Supply-Patterson.jpg
END:VEVENT
BEGIN:VEVENT
DTSTART;TZID=America/New_York:20260418T110000
DTEND;TZID=America/New_York:20260418T130000
DTSTAMP:20260423T152912
CREATED:20260401T012409Z
LAST-MODIFIED:20260401T012409Z
UID:10001437-1776510000-1776517200@pawsafe.org
SUMMARY:Adoptions - Eastford
DESCRIPTION:Applications preferred but not required
URL:https://pawsafe.org/event/adoptions-eastford-168/
LOCATION:Eastford CT Shelter\, 348 Old Colony Rd\, Eastford\, CT\, 06242\, United States
CATEGORIES:CT Eastford Shelter
ATTACH;FMTTYPE=image/png:https://pawsafe.org/wp-content/uploads/2026/01/hours26.png
END:VEVENT
BEGIN:VEVENT
DTSTART;TZID=America/New_York:20260419T110000
DTEND;TZID=America/New_York:20260419T130000
DTSTAMP:20260423T152912
CREATED:20260401T012430Z
LAST-MODIFIED:20260401T012430Z
UID:10001438-1776596400-1776603600@pawsafe.org
SUMMARY:Adoptions - Eastford
DESCRIPTION:Applications preferred but not required
URL:https://pawsafe.org/event/adoptions-eastford-169/
LOCATION:Eastford CT Shelter\, 348 Old Colony Rd\, Eastford\, CT\, 06242\, United States
CATEGORIES:CT Eastford Shelter
ATTACH;FMTTYPE=image/png:https://pawsafe.org/wp-content/uploads/2026/01/hours26.png
END:VEVENT
BEGIN:VEVENT
DTSTART;TZID=America/New_York:20260422T160000
DTEND;TZID=America/New_York:20260422T183000
DTSTAMP:20260423T152912
CREATED:20260102T121109Z
LAST-MODIFIED:20260102T121109Z
UID:10001235-1776873600-1776882600@pawsafe.org
SUMMARY:Adoptions - Eastford
DESCRIPTION:Applications preferred but not required
URL:https://pawsafe.org/event/adoptions-eastford-152-2-2/2026-04-22/
LOCATION:Eastford CT Shelter\, 348 Old Colony Rd\, Eastford\, CT\, 06242\, United States
CATEGORIES:CT Eastford Shelter
ATTACH;FMTTYPE=image/png:https://pawsafe.org/wp-content/uploads/2026/01/hours26.png
END:VEVENT
BEGIN:VEVENT
DTSTART;TZID=America/New_York:20260423T103000
DTEND;TZID=America/New_York:20260423T123000
DTSTAMP:20260423T152912
CREATED:20260401T012637Z
LAST-MODIFIED:20260401T012637Z
UID:10001442-1776940200-1776947400@pawsafe.org
SUMMARY:Adoptions - Eastford
DESCRIPTION:Applications preferred but not required
URL:https://pawsafe.org/event/adoptions-eastford-173/
LOCATION:Eastford CT Shelter\, 348 Old Colony Rd\, Eastford\, CT\, 06242\, United States
CATEGORIES:CT Eastford Shelter
ATTACH;FMTTYPE=image/png:https://pawsafe.org/wp-content/uploads/2026/01/hours26.png
END:VEVENT
BEGIN:VEVENT
DTSTART;TZID=America/New_York:20260424T180000
DTEND;TZID=America/New_York:20260424T210000
DTSTAMP:20260423T152912
CREATED:20260419T232839Z
LAST-MODIFIED:20260419T232839Z
UID:10001452-1777053600-1777064400@pawsafe.org
SUMMARY:Pints & Paws: Puppy Snuggle Fundraiser
DESCRIPTION:[vc_row][vc_column][vc_column_text css_animation=”zoomIn” css=””]Join us at Powder Hollow Brewery for a fun evening of pints and puppy snuggles. \nhttps://www.facebook.com/share/186squPK1C/[/vc_column_text][/vc_column][/vc_row]
URL:https://pawsafe.org/event/pints-paws-puppy-snuggle-fundraiser/
LOCATION:Powder Hollow Brewery\, 504 Hazard Ave\, Enfield\, CT\, 06082\, United States
CATEGORIES:CT Off-site event
ATTACH;FMTTYPE=image/jpeg:https://pawsafe.org/wp-content/uploads/2026/04/645495562_950359177648245_3927273886417706947_n.jpg
END:VEVENT
BEGIN:VEVENT
DTSTART;TZID=America/New_York:20260425T100000
DTEND;TZID=America/New_York:20260425T120000
DTSTAMP:20260423T152912
CREATED:20260417T141820Z
LAST-MODIFIED:20260417T141820Z
UID:10001450-1777111200-1777118400@pawsafe.org
SUMMARY:NY Adoptions @ Tractor Supply Patterson
DESCRIPTION:Pups that are listed for the adoption event on this day cannot be met or adopted until this event. \n  \nPups that are listed in foster homes\, for example: NY Max (Foster in Pawling) – these dogs can be met outsdie of event days by emailing info@pawsafe.org to set up an appoinment at the foster home on weekdays/evenings and non event days.
URL:https://pawsafe.org/event/ny-adoptions-tractor-supply-patterson-20/
LOCATION:Tractor Supply Patterson NY\, 1253 Route 311\, Patterson\, NY\, 12563\, United States
CATEGORIES:NY Off-Site event
ATTACH;FMTTYPE=image/jpeg:https://pawsafe.org/wp-content/uploads/2025/02/Tractor-Supply-Patterson.jpg
END:VEVENT
BEGIN:VEVENT
DTSTART;TZID=America/New_York:20260425T100000
DTEND;TZID=America/New_York:20260425T140000
DTSTAMP:20260423T152912
CREATED:20260419T221541Z
LAST-MODIFIED:20260419T221541Z
UID:10001451-1777111200-1777125600@pawsafe.org
SUMMARY:Earth Day (ELLINGTON CT) Adoption Event
DESCRIPTION:Applications helpful but not required.
URL:https://pawsafe.org/event/earth-day-ellington-ct-adoption-event-3/
LOCATION:Ellington CT Town Green\, 72 Maple St\, Ellington\, 06029\, United States
CATEGORIES:CT Off-site event
ATTACH;FMTTYPE=image/png:https://pawsafe.org/wp-content/uploads/2025/03/ellington-earth-day.png
END:VEVENT
BEGIN:VEVENT
DTSTART;TZID=America/New_York:20260425T110000
DTEND;TZID=America/New_York:20260425T130000
DTSTAMP:20260423T152912
CREATED:20260401T012737Z
LAST-MODIFIED:20260401T012737Z
UID:10001444-1777114800-1777122000@pawsafe.org
SUMMARY:Adoptions - Eastford
DESCRIPTION:Applications preferred but not required
URL:https://pawsafe.org/event/adoptions-eastford-175/
LOCATION:Eastford CT Shelter\, 348 Old Colony Rd\, Eastford\, CT\, 06242\, United States
CATEGORIES:CT Eastford Shelter
ATTACH;FMTTYPE=image/png:https://pawsafe.org/wp-content/uploads/2026/01/hours26.png
END:VEVENT
BEGIN:VEVENT
DTSTART;TZID=America/New_York:20260426T110000
DTEND;TZID=America/New_York:20260426T130000
DTSTAMP:20260423T152912
CREATED:20260401T012448Z
LAST-MODIFIED:20260401T012516Z
UID:10001439-1777201200-1777208400@pawsafe.org
SUMMARY:Adoptions - Eastford
DESCRIPTION:Applications preferred but not required
URL:https://pawsafe.org/event/adoptions-eastford-170/
LOCATION:Eastford CT Shelter\, 348 Old Colony Rd\, Eastford\, CT\, 06242\, United States
CATEGORIES:CT Eastford Shelter
ATTACH;FMTTYPE=image/png:https://pawsafe.org/wp-content/uploads/2026/01/hours26.png
END:VEVENT
BEGIN:VEVENT
DTSTART;TZID=America/New_York:20260429T160000
DTEND;TZID=America/New_York:20260429T183000
DTSTAMP:20260423T152912
CREATED:20260102T121109Z
LAST-MODIFIED:20260102T121109Z
UID:10001236-1777478400-1777487400@pawsafe.org
SUMMARY:Adoptions - Eastford
DESCRIPTION:Applications preferred but not required
URL:https://pawsafe.org/event/adoptions-eastford-152-2-2/2026-04-29/
LOCATION:Eastford CT Shelter\, 348 Old Colony Rd\, Eastford\, CT\, 06242\, United States
CATEGORIES:CT Eastford Shelter
ATTACH;FMTTYPE=image/png:https://pawsafe.org/wp-content/uploads/2026/01/hours26.png
END:VEVENT
BEGIN:VEVENT
DTSTART;TZID=America/New_York:20260430T103000
DTEND;TZID=America/New_York:20260430T123000
DTSTAMP:20260423T152912
CREATED:20260401T012707Z
LAST-MODIFIED:20260401T012707Z
UID:10001443-1777545000-1777552200@pawsafe.org
SUMMARY:Adoptions - Eastford
DESCRIPTION:Applications preferred but not required
URL:https://pawsafe.org/event/adoptions-eastford-174/
LOCATION:Eastford CT Shelter\, 348 Old Colony Rd\, Eastford\, CT\, 06242\, United States
CATEGORIES:CT Eastford Shelter
ATTACH;FMTTYPE=image/png:https://pawsafe.org/wp-content/uploads/2026/01/hours26.png
END:VEVENT
BEGIN:VEVENT
DTSTART;TZID=America/New_York:20260502T190000
DTEND;TZID=America/New_York:20260502T210000
DTSTAMP:20260423T152912
CREATED:20260404T173732Z
LAST-MODIFIED:20260404T182059Z
UID:10001445-1777748400-1777755600@pawsafe.org
SUMMARY:NY PawSafe/Wooffstock Fundraising Event
DESCRIPTION:Wooffstock is a one-of-a-kind fundraiser bringing together the community for an evening of live jazz\, an art sale\, fine wine\, a bourbon bar\, cigar aficionado\, hors-d’oeuvres\, and a silent auction — all in support of local animal rescues. \nThis year’s event will be held at the Waccabuc Country Club Carriage House\, and is your chance to enjoy a wonderful night out while making a real difference in the lives of animals who need our help. \nTo purchase tickets: https://www.wooffstockpress.com/
URL:https://pawsafe.org/event/ny-pawsafe-wooffstock-fundraising-event/
LOCATION:Waccabuc Country Club\, 90 Meade Street\, Waccabuc\, NY\, 10597\, United States
CATEGORIES:NY Off-Site event
ATTACH;FMTTYPE=image/jpeg:https://pawsafe.org/wp-content/uploads/2026/04/Photo-Apr-04-2026-1-22-11-PM.jpg
END:VEVENT
BEGIN:VEVENT
DTSTART;TZID=America/New_York:20260506T160000
DTEND;TZID=America/New_York:20260506T183000
DTSTAMP:20260423T152912
CREATED:20260102T121109Z
LAST-MODIFIED:20260102T121109Z
UID:10001237-1778083200-1778092200@pawsafe.org
SUMMARY:Adoptions - Eastford
DESCRIPTION:Applications preferred but not required
URL:https://pawsafe.org/event/adoptions-eastford-152-2-2/2026-05-06/
LOCATION:Eastford CT Shelter\, 348 Old Colony Rd\, Eastford\, CT\, 06242\, United States
CATEGORIES:CT Eastford Shelter
ATTACH;FMTTYPE=image/png:https://pawsafe.org/wp-content/uploads/2026/01/hours26.png
END:VEVENT
BEGIN:VEVENT
DTSTART;TZID=America/New_York:20260513T160000
DTEND;TZID=America/New_York:20260513T183000
DTSTAMP:20260423T152912
CREATED:20260102T121109Z
LAST-MODIFIED:20260102T121109Z
UID:10001238-1778688000-1778697000@pawsafe.org
SUMMARY:Adoptions - Eastford
DESCRIPTION:Applications preferred but not required
URL:https://pawsafe.org/event/adoptions-eastford-152-2-2/2026-05-13/
LOCATION:Eastford CT Shelter\, 348 Old Colony Rd\, Eastford\, CT\, 06242\, United States
CATEGORIES:CT Eastford Shelter
ATTACH;FMTTYPE=image/png:https://pawsafe.org/wp-content/uploads/2026/01/hours26.png
END:VEVENT
BEGIN:VEVENT
DTSTART;TZID=America/New_York:20260520T160000
DTEND;TZID=America/New_York:20260520T183000
DTSTAMP:20260423T152912
CREATED:20260102T121109Z
LAST-MODIFIED:20260102T121109Z
UID:10001239-1779292800-1779301800@pawsafe.org
SUMMARY:Adoptions - Eastford
DESCRIPTION:Applications preferred but not required
URL:https://pawsafe.org/event/adoptions-eastford-152-2-2/2026-05-20/
LOCATION:Eastford CT Shelter\, 348 Old Colony Rd\, Eastford\, CT\, 06242\, United States
CATEGORIES:CT Eastford Shelter
ATTACH;FMTTYPE=image/png:https://pawsafe.org/wp-content/uploads/2026/01/hours26.png
END:VEVENT
BEGIN:VEVENT
DTSTART;TZID=America/New_York:20260527T160000
DTEND;TZID=America/New_York:20260527T183000
DTSTAMP:20260423T152912
CREATED:20260102T121109Z
LAST-MODIFIED:20260102T121109Z
UID:10001240-1779897600-1779906600@pawsafe.org
SUMMARY:Adoptions - Eastford
DESCRIPTION:Applications preferred but not required
URL:https://pawsafe.org/event/adoptions-eastford-152-2-2/2026-05-27/
LOCATION:Eastford CT Shelter\, 348 Old Colony Rd\, Eastford\, CT\, 06242\, United States
CATEGORIES:CT Eastford Shelter
ATTACH;FMTTYPE=image/png:https://pawsafe.org/wp-content/uploads/2026/01/hours26.png
END:VEVENT
BEGIN:VEVENT
DTSTART;TZID=America/New_York:20260530T100000
DTEND;TZID=America/New_York:20260530T130000
DTSTAMP:20260423T152912
CREATED:20260404T175551Z
LAST-MODIFIED:20260404T182048Z
UID:10001446-1780135200-1780146000@pawsafe.org
SUMMARY:NY Adoptions @ Wabeeka Family Campground
DESCRIPTION:
URL:https://pawsafe.org/event/ny-adoptions-wabeeka-family-campground/
LOCATION:Wabeeka Family Campground\, 133 Farm Road\, Copake\, NY\, 12516\, United States
CATEGORIES:NY Off-Site event
ATTACH;FMTTYPE=image/jpeg:https://pawsafe.org/wp-content/uploads/2026/04/Photo-Apr-04-2026-1-51-20-PM.jpg
END:VEVENT
BEGIN:VEVENT
DTSTART;TZID=America/New_York:20260603T160000
DTEND;TZID=America/New_York:20260603T183000
DTSTAMP:20260423T152912
CREATED:20260102T121109Z
LAST-MODIFIED:20260102T121109Z
UID:10001241-1780502400-1780511400@pawsafe.org
SUMMARY:Adoptions - Eastford
DESCRIPTION:Applications preferred but not required
URL:https://pawsafe.org/event/adoptions-eastford-152-2-2/2026-06-03/
LOCATION:Eastford CT Shelter\, 348 Old Colony Rd\, Eastford\, CT\, 06242\, United States
CATEGORIES:CT Eastford Shelter
ATTACH;FMTTYPE=image/png:https://pawsafe.org/wp-content/uploads/2026/01/hours26.png
END:VEVENT
BEGIN:VEVENT
DTSTART;TZID=America/New_York:20260606T143000
DTEND;TZID=America/New_York:20260606T180000
DTSTAMP:20260423T152912
CREATED:20260404T182023Z
LAST-MODIFIED:20260404T182023Z
UID:10001448-1780756200-1780768800@pawsafe.org
SUMMARY:NY Adoptions @ Relay for Life - Brewster High School
DESCRIPTION:Ny Adoptions @
URL:https://pawsafe.org/event/ny-adoptions-relay-for-life-brewster-high-school/
LOCATION:Brewster High School\, 50 Foggintown Road\, Brewster\, NY\, 10509\, United States
CATEGORIES:NY Off-Site event
ATTACH;FMTTYPE=image/jpeg:https://pawsafe.org/wp-content/uploads/2026/04/Photo-Apr-04-2026-2-17-09-PM.jpg
END:VEVENT
BEGIN:VEVENT
DTSTART;TZID=America/New_York:20260610T160000
DTEND;TZID=America/New_York:20260610T183000
DTSTAMP:20260423T152912
CREATED:20260102T121109Z
LAST-MODIFIED:20260102T121109Z
UID:10001242-1781107200-1781116200@pawsafe.org
SUMMARY:Adoptions - Eastford
DESCRIPTION:Applications preferred but not required
URL:https://pawsafe.org/event/adoptions-eastford-152-2-2/2026-06-10/
LOCATION:Eastford CT Shelter\, 348 Old Colony Rd\, Eastford\, CT\, 06242\, United States
CATEGORIES:CT Eastford Shelter
ATTACH;FMTTYPE=image/png:https://pawsafe.org/wp-content/uploads/2026/01/hours26.png
END:VEVENT
BEGIN:VEVENT
DTSTART;TZID=America/New_York:20260614T150000
DTEND;TZID=America/New_York:20260614T193000
DTSTAMP:20260423T152912
CREATED:20260404T181102Z
LAST-MODIFIED:20260404T182036Z
UID:10001447-1781449200-1781465400@pawsafe.org
SUMMARY:NY PawSafe Pocketbook Bingo
DESCRIPTION:
URL:https://pawsafe.org/event/ny-pawsafe-pocketbook-bingo/
LOCATION:Anthony’s Lake Club\, 10 Chrsitopher Columbus Avenue\, Danbury\, CT\, 06810\, United States
CATEGORIES:NY Off-Site event
ATTACH;FMTTYPE=image/jpeg:https://pawsafe.org/wp-content/uploads/2026/04/Photo-Mar-28-2026-6-09-39-PM.jpg
ORGANIZER;CN="Sharon":MAILTO:sharon@pawsafe.org
END:VEVENT
BEGIN:VEVENT
DTSTART;TZID=America/New_York:20260617T160000
DTEND;TZID=America/New_York:20260617T183000
DTSTAMP:20260423T152912
CREATED:20260102T121109Z
LAST-MODIFIED:20260102T121109Z
UID:10001243-1781712000-1781721000@pawsafe.org
SUMMARY:Adoptions - Eastford
DESCRIPTION:Applications preferred but not required
URL:https://pawsafe.org/event/adoptions-eastford-152-2-2/2026-06-17/
LOCATION:Eastford CT Shelter\, 348 Old Colony Rd\, Eastford\, CT\, 06242\, United States
CATEGORIES:CT Eastford Shelter
ATTACH;FMTTYPE=image/png:https://pawsafe.org/wp-content/uploads/2026/01/hours26.png
END:VEVENT
BEGIN:VEVENT
DTSTART;TZID=America/New_York:20260624T160000
DTEND;TZID=America/New_York:20260624T183000
DTSTAMP:20260423T152912
CREATED:20260102T121109Z
LAST-MODIFIED:20260102T121109Z
UID:10001244-1782316800-1782325800@pawsafe.org
SUMMARY:Adoptions - Eastford
DESCRIPTION:Applications preferred but not required
URL:https://pawsafe.org/event/adoptions-eastford-152-2-2/2026-06-24/
LOCATION:Eastford CT Shelter\, 348 Old Colony Rd\, Eastford\, CT\, 06242\, United States
CATEGORIES:CT Eastford Shelter
ATTACH;FMTTYPE=image/png:https://pawsafe.org/wp-content/uploads/2026/01/hours26.png
END:VEVENT
BEGIN:VEVENT
DTSTART;TZID=America/New_York:20260701T160000
DTEND;TZID=America/New_York:20260701T183000
DTSTAMP:20260423T152912
CREATED:20260102T121109Z
LAST-MODIFIED:20260102T121109Z
UID:10001245-1782921600-1782930600@pawsafe.org
SUMMARY:Adoptions - Eastford
DESCRIPTION:Applications preferred but not required
URL:https://pawsafe.org/event/adoptions-eastford-152-2-2/2026-07-01/
LOCATION:Eastford CT Shelter\, 348 Old Colony Rd\, Eastford\, CT\, 06242\, United States
CATEGORIES:CT Eastford Shelter
ATTACH;FMTTYPE=image/png:https://pawsafe.org/wp-content/uploads/2026/01/hours26.png
END:VEVENT
BEGIN:VEVENT
DTSTART;TZID=America/New_York:20260708T160000
DTEND;TZID=America/New_York:20260708T183000
DTSTAMP:20260423T152912
CREATED:20260102T121109Z
LAST-MODIFIED:20260102T121109Z
UID:10001246-1783526400-1783535400@pawsafe.org
SUMMARY:Adoptions - Eastford
DESCRIPTION:Applications preferred but not required
URL:https://pawsafe.org/event/adoptions-eastford-152-2-2/2026-07-08/
LOCATION:Eastford CT Shelter\, 348 Old Colony Rd\, Eastford\, CT\, 06242\, United States
CATEGORIES:CT Eastford Shelter
ATTACH;FMTTYPE=image/png:https://pawsafe.org/wp-content/uploads/2026/01/hours26.png
END:VEVENT
END:VCALENDAR