BEGIN:VCALENDAR
VERSION:2.0
PRODID:-//PawSafeAnimal Rescue - ECPv6.15.20//NONSGML v1.0//EN
CALSCALE:GREGORIAN
METHOD:PUBLISH
X-ORIGINAL-URL:https://pawsafe.org
X-WR-CALDESC:Events for PawSafeAnimal Rescue
REFRESH-INTERVAL;VALUE=DURATION:PT1H
X-Robots-Tag:noindex
X-PUBLISHED-TTL:PT1H
BEGIN:VTIMEZONE
TZID:America/New_York
BEGIN:DAYLIGHT
TZOFFSETFROM:-0500
TZOFFSETTO:-0400
TZNAME:EDT
DTSTART:20250309T070000
END:DAYLIGHT
BEGIN:STANDARD
TZOFFSETFROM:-0400
TZOFFSETTO:-0500
TZNAME:EST
DTSTART:20251102T060000
END:STANDARD
BEGIN:DAYLIGHT
TZOFFSETFROM:-0500
TZOFFSETTO:-0400
TZNAME:EDT
DTSTART:20260308T070000
END:DAYLIGHT
BEGIN:STANDARD
TZOFFSETFROM:-0400
TZOFFSETTO:-0500
TZNAME:EST
DTSTART:20261101T060000
END:STANDARD
BEGIN:DAYLIGHT
TZOFFSETFROM:-0500
TZOFFSETTO:-0400
TZNAME:EDT
DTSTART:20270314T070000
END:DAYLIGHT
BEGIN:STANDARD
TZOFFSETFROM:-0400
TZOFFSETTO:-0500
TZNAME:EST
DTSTART:20271107T060000
END:STANDARD
END:VTIMEZONE
BEGIN:VEVENT
DTSTART;TZID=America/New_York:20261209T160000
DTEND;TZID=America/New_York:20261209T183000
DTSTAMP:20260423T203346
CREATED:20260102T121109Z
LAST-MODIFIED:20260102T121109Z
UID:10001268-1796832000-1796841000@pawsafe.org
SUMMARY:Adoptions - Eastford
DESCRIPTION:Applications preferred but not required
URL:https://pawsafe.org/event/adoptions-eastford-152-2-2/2026-12-09/
LOCATION:Eastford CT Shelter\, 348 Old Colony Rd\, Eastford\, CT\, 06242\, United States
CATEGORIES:CT Eastford Shelter
ATTACH;FMTTYPE=image/png:https://pawsafe.org/wp-content/uploads/2026/01/hours26.png
END:VEVENT
BEGIN:VEVENT
DTSTART;TZID=America/New_York:20261216T160000
DTEND;TZID=America/New_York:20261216T183000
DTSTAMP:20260423T203346
CREATED:20260102T121109Z
LAST-MODIFIED:20260102T121109Z
UID:10001269-1797436800-1797445800@pawsafe.org
SUMMARY:Adoptions - Eastford
DESCRIPTION:Applications preferred but not required
URL:https://pawsafe.org/event/adoptions-eastford-152-2-2/2026-12-16/
LOCATION:Eastford CT Shelter\, 348 Old Colony Rd\, Eastford\, CT\, 06242\, United States
CATEGORIES:CT Eastford Shelter
ATTACH;FMTTYPE=image/png:https://pawsafe.org/wp-content/uploads/2026/01/hours26.png
END:VEVENT
BEGIN:VEVENT
DTSTART;TZID=America/New_York:20261223T160000
DTEND;TZID=America/New_York:20261223T183000
DTSTAMP:20260423T203346
CREATED:20260102T121109Z
LAST-MODIFIED:20260102T121109Z
UID:10001270-1798041600-1798050600@pawsafe.org
SUMMARY:Adoptions - Eastford
DESCRIPTION:Applications preferred but not required
URL:https://pawsafe.org/event/adoptions-eastford-152-2-2/2026-12-23/
LOCATION:Eastford CT Shelter\, 348 Old Colony Rd\, Eastford\, CT\, 06242\, United States
CATEGORIES:CT Eastford Shelter
ATTACH;FMTTYPE=image/png:https://pawsafe.org/wp-content/uploads/2026/01/hours26.png
END:VEVENT
BEGIN:VEVENT
DTSTART;TZID=America/New_York:20261230T160000
DTEND;TZID=America/New_York:20261230T183000
DTSTAMP:20260423T203346
CREATED:20260102T121109Z
LAST-MODIFIED:20260102T121109Z
UID:10001271-1798646400-1798655400@pawsafe.org
SUMMARY:Adoptions - Eastford
DESCRIPTION:Applications preferred but not required
URL:https://pawsafe.org/event/adoptions-eastford-152-2-2/2026-12-30/
LOCATION:Eastford CT Shelter\, 348 Old Colony Rd\, Eastford\, CT\, 06242\, United States
CATEGORIES:CT Eastford Shelter
ATTACH;FMTTYPE=image/png:https://pawsafe.org/wp-content/uploads/2026/01/hours26.png
END:VEVENT
END:VCALENDAR