BEGIN:VCALENDAR
VERSION:2.0
PRODID:-//PawSafeAnimal Rescue - ECPv6.15.20//NONSGML v1.0//EN
CALSCALE:GREGORIAN
METHOD:PUBLISH
X-ORIGINAL-URL:https://pawsafe.org
X-WR-CALDESC:Events for PawSafeAnimal Rescue
REFRESH-INTERVAL;VALUE=DURATION:PT1H
X-Robots-Tag:noindex
X-PUBLISHED-TTL:PT1H
BEGIN:VTIMEZONE
TZID:UTC
BEGIN:STANDARD
TZOFFSETFROM:+0000
TZOFFSETTO:+0000
TZNAME:UTC
DTSTART:20220101T000000
END:STANDARD
END:VTIMEZONE
BEGIN:VEVENT
DTSTART;TZID=UTC:20230624T100000
DTEND;TZID=UTC:20230624T123000
DTSTAMP:20260423T173719
CREATED:20230615T231728Z
LAST-MODIFIED:20230616T000334Z
UID:10000077-1687600800-1687609800@pawsafe.org
SUMMARY:Choice Pet NY Adoption Event
DESCRIPTION:Applications requested but not required
URL:https://pawsafe.org/event/choice-pet-ny-adoption-event-10/
LOCATION:Choice Pet Patterson NY\, 3101 NY 22\, Patterson\, NY\, 12563\, United States
CATEGORIES:NY Off-Site event
ORGANIZER;CN="Sharon":MAILTO:sharon@pawsafe.org
END:VEVENT
END:VCALENDAR