BEGIN:VCALENDAR
VERSION:2.0
PRODID:-//PawSafeAnimal Rescue - ECPv6.15.20//NONSGML v1.0//EN
CALSCALE:GREGORIAN
METHOD:PUBLISH
X-ORIGINAL-URL:https://pawsafe.org
X-WR-CALDESC:Events for PawSafeAnimal Rescue
REFRESH-INTERVAL;VALUE=DURATION:PT1H
X-Robots-Tag:noindex
X-PUBLISHED-TTL:PT1H
BEGIN:VTIMEZONE
TZID:America/New_York
BEGIN:DAYLIGHT
TZOFFSETFROM:-0500
TZOFFSETTO:-0400
TZNAME:EDT
DTSTART:20230312T070000
END:DAYLIGHT
BEGIN:STANDARD
TZOFFSETFROM:-0400
TZOFFSETTO:-0500
TZNAME:EST
DTSTART:20231105T060000
END:STANDARD
BEGIN:DAYLIGHT
TZOFFSETFROM:-0500
TZOFFSETTO:-0400
TZNAME:EDT
DTSTART:20240310T070000
END:DAYLIGHT
BEGIN:STANDARD
TZOFFSETFROM:-0400
TZOFFSETTO:-0500
TZNAME:EST
DTSTART:20241103T060000
END:STANDARD
BEGIN:DAYLIGHT
TZOFFSETFROM:-0500
TZOFFSETTO:-0400
TZNAME:EDT
DTSTART:20250309T070000
END:DAYLIGHT
BEGIN:STANDARD
TZOFFSETFROM:-0400
TZOFFSETTO:-0500
TZNAME:EST
DTSTART:20251102T060000
END:STANDARD
BEGIN:DAYLIGHT
TZOFFSETFROM:-0500
TZOFFSETTO:-0400
TZNAME:EDT
DTSTART:20260308T070000
END:DAYLIGHT
BEGIN:STANDARD
TZOFFSETFROM:-0400
TZOFFSETTO:-0500
TZNAME:EST
DTSTART:20261101T060000
END:STANDARD
END:VTIMEZONE
BEGIN:VEVENT
DTSTART;TZID=America/New_York:20250531T140000
DTEND;TZID=America/New_York:20250531T160000
DTSTAMP:20260423T182709
CREATED:20250528T112913Z
LAST-MODIFIED:20250529T174748Z
UID:10001162-1748700000-1748707200@pawsafe.org
SUMMARY:NY Adoptions @ Relay for Life of Eastern Putnam *** Moved to Henry H Wells Middle School
DESCRIPTION:The event had to be moved indoors due to the weather. They have moved PawSafe to the front of Henry H Wells Middle School.
URL:https://pawsafe.org/event/ny-adoptions-relay-for-life-of-eastern-putnam-2/
LOCATION:Brewster High School\, 50 Foggintown Road\, Brewster\, NY\, 10509\, United States
CATEGORIES:NY Off-Site event
END:VEVENT
BEGIN:VEVENT
DTSTART;TZID=America/New_York:20240608T150000
DTEND;TZID=America/New_York:20240608T180000
DTSTAMP:20260423T182709
CREATED:20240503T160233Z
LAST-MODIFIED:20240603T145317Z
UID:10000206-1717858800-1717869600@pawsafe.org
SUMMARY:NY Adoptions @ Relay for Life of Eastern Putnam
DESCRIPTION:
URL:https://pawsafe.org/event/ny-adoptions-relay-for-life-of-eastern-putnam/
LOCATION:Brewster High School\, 50 Foggintown Road\, Brewster\, NY\, 10509\, United States
CATEGORIES:NY Off-Site event
ATTACH;FMTTYPE=image/jpeg:https://pawsafe.org/wp-content/uploads/2024/05/Relay-for-Life-2024.jpg
END:VEVENT
END:VCALENDAR