BEGIN:VCALENDAR
VERSION:2.0
PRODID:-//PawSafeAnimal Rescue - ECPv6.15.20//NONSGML v1.0//EN
CALSCALE:GREGORIAN
METHOD:PUBLISH
X-WR-CALNAME:PawSafeAnimal Rescue
X-ORIGINAL-URL:https://pawsafe.org
X-WR-CALDESC:Events for PawSafeAnimal Rescue
REFRESH-INTERVAL;VALUE=DURATION:PT1H
X-Robots-Tag:noindex
X-PUBLISHED-TTL:PT1H
BEGIN:VTIMEZONE
TZID:America/New_York
BEGIN:DAYLIGHT
TZOFFSETFROM:-0500
TZOFFSETTO:-0400
TZNAME:EDT
DTSTART:20230312T070000
END:DAYLIGHT
BEGIN:STANDARD
TZOFFSETFROM:-0400
TZOFFSETTO:-0500
TZNAME:EST
DTSTART:20231105T060000
END:STANDARD
BEGIN:DAYLIGHT
TZOFFSETFROM:-0500
TZOFFSETTO:-0400
TZNAME:EDT
DTSTART:20240310T070000
END:DAYLIGHT
BEGIN:STANDARD
TZOFFSETFROM:-0400
TZOFFSETTO:-0500
TZNAME:EST
DTSTART:20241103T060000
END:STANDARD
BEGIN:DAYLIGHT
TZOFFSETFROM:-0500
TZOFFSETTO:-0400
TZNAME:EDT
DTSTART:20250309T070000
END:DAYLIGHT
BEGIN:STANDARD
TZOFFSETFROM:-0400
TZOFFSETTO:-0500
TZNAME:EST
DTSTART:20251102T060000
END:STANDARD
END:VTIMEZONE
BEGIN:VEVENT
DTSTART;TZID=America/New_York:20241214T110000
DTEND;TZID=America/New_York:20241214T140000
DTSTAMP:20260423T200755
CREATED:20241211T181324Z
LAST-MODIFIED:20241211T181407Z
UID:10000642-1734174000-1734184800@pawsafe.org
SUMMARY:NY Adoptions @ Camp Herrlich Holiday Market
DESCRIPTION:
URL:https://pawsafe.org/event/ny-adoptions-camp-herrlich-holiday-market/
LOCATION:Camp Herrlich\, 101 Deacon Smith Hill Road\, Patterson\, NY\, 12563\, United States
CATEGORIES:NY Off-Site event
ATTACH;FMTTYPE=image/jpeg:https://pawsafe.org/wp-content/uploads/2024/12/IMG_5850.jpg
END:VEVENT
BEGIN:VEVENT
DTSTART;TZID=America/New_York:20240703T180000
DTEND;TZID=America/New_York:20240703T210000
DTSTAMP:20260423T200755
CREATED:20240603T150547Z
LAST-MODIFIED:20240709T204007Z
UID:10000222-1720029600-1720040400@pawsafe.org
SUMMARY:7/3/2024 NY Adoptions @ Camp Herrlich Community Day
DESCRIPTION:
URL:https://pawsafe.org/event/ny-adoptions-camp-herrlich-community-day/
LOCATION:Camp Herrlich\, 101 Deacon Smith Hill Road\, Patterson\, NY\, 12563\, United States
CATEGORIES:NY Off-Site event
ATTACH;FMTTYPE=image/jpeg:https://pawsafe.org/wp-content/uploads/2024/06/Camp-Herrlich-July-3rd.jpg
END:VEVENT
BEGIN:VEVENT
DTSTART;TZID=America/New_York:20240511T100000
DTEND;TZID=America/New_York:20240511T140000
DTSTAMP:20260423T200755
CREATED:20240506T204655Z
LAST-MODIFIED:20240506T205015Z
UID:10000208-1715421600-1715436000@pawsafe.org
SUMMARY:NY Adoptions @ Camp Herrlich Spring Fling Market
DESCRIPTION:
URL:https://pawsafe.org/event/ny-adoptions-camp-herrlich-spring-fling-market/
LOCATION:Camp Herrlich\, 101 Deacon Smith Hill Road\, Patterson\, NY\, 12563\, United States
CATEGORIES:NY Off-Site event
END:VEVENT
END:VCALENDAR