BEGIN:VCALENDAR
VERSION:2.0
PRODID:-//PawSafeAnimal Rescue - ECPv6.15.20//NONSGML v1.0//EN
CALSCALE:GREGORIAN
METHOD:PUBLISH
X-WR-CALNAME:PawSafeAnimal Rescue
X-ORIGINAL-URL:https://pawsafe.org
X-WR-CALDESC:Events for PawSafeAnimal Rescue
REFRESH-INTERVAL;VALUE=DURATION:PT1H
X-Robots-Tag:noindex
X-PUBLISHED-TTL:PT1H
BEGIN:VTIMEZONE
TZID:America/New_York
BEGIN:DAYLIGHT
TZOFFSETFROM:-0500
TZOFFSETTO:-0400
TZNAME:EDT
DTSTART:20230312T070000
END:DAYLIGHT
BEGIN:STANDARD
TZOFFSETFROM:-0400
TZOFFSETTO:-0500
TZNAME:EST
DTSTART:20231105T060000
END:STANDARD
BEGIN:DAYLIGHT
TZOFFSETFROM:-0500
TZOFFSETTO:-0400
TZNAME:EDT
DTSTART:20240310T070000
END:DAYLIGHT
BEGIN:STANDARD
TZOFFSETFROM:-0400
TZOFFSETTO:-0500
TZNAME:EST
DTSTART:20241103T060000
END:STANDARD
BEGIN:DAYLIGHT
TZOFFSETFROM:-0500
TZOFFSETTO:-0400
TZNAME:EDT
DTSTART:20250309T070000
END:DAYLIGHT
BEGIN:STANDARD
TZOFFSETFROM:-0400
TZOFFSETTO:-0500
TZNAME:EST
DTSTART:20251102T060000
END:STANDARD
END:VTIMEZONE
BEGIN:VEVENT
DTSTART;TZID=America/New_York:20240518T120000
DTEND;TZID=America/New_York:20240518T160000
DTSTAMP:20260423T192905
CREATED:20240502T210619Z
LAST-MODIFIED:20240502T210918Z
UID:10000203-1716033600-1716048000@pawsafe.org
SUMMARY:NY Adoptions @ Mahopac-Carmel Spring Street Fair
DESCRIPTION:
URL:https://pawsafe.org/event/ny-adoptions-mahopac-carmel-spring-street-fair/
LOCATION:Carmel Diner\, 63 Gleneida Avenue\, Carmel\, Putnam County\, 10512\, United States
CATEGORIES:NY Off-Site event
ORGANIZER;CN="Sharon":MAILTO:sharon@pawsafe.org
END:VEVENT
END:VCALENDAR