BEGIN:VCALENDAR
VERSION:2.0
PRODID:-//PawSafeAnimal Rescue - ECPv6.15.20//NONSGML v1.0//EN
CALSCALE:GREGORIAN
METHOD:PUBLISH
X-WR-CALNAME:PawSafeAnimal Rescue
X-ORIGINAL-URL:https://pawsafe.org
X-WR-CALDESC:Events for PawSafeAnimal Rescue
REFRESH-INTERVAL;VALUE=DURATION:PT1H
X-Robots-Tag:noindex
X-PUBLISHED-TTL:PT1H
BEGIN:VTIMEZONE
TZID:UTC
BEGIN:STANDARD
TZOFFSETFROM:+0000
TZOFFSETTO:+0000
TZNAME:UTC
DTSTART:20220101T000000
END:STANDARD
END:VTIMEZONE
BEGIN:VEVENT
DTSTART;TZID=UTC:20230801T180000
DTEND;TZID=UTC:20230801T210000
DTSTAMP:20260424T024321
CREATED:20230601T230154Z
LAST-MODIFIED:20230601T230154Z
UID:10000065-1690912800-1690923600@pawsafe.org
SUMMARY:Carmel Police Dept – National Night Out
DESCRIPTION:Applications preferred but not required!
URL:https://pawsafe.org/event/carmel-police-dept-national-night-out/
LOCATION:Carmel Police Dept\, 953 South Lake Blvd\, Mahopac\, NY\, 10541\, United States
CATEGORIES:NY Off-Site event
END:VEVENT
END:VCALENDAR