BEGIN:VCALENDAR
VERSION:2.0
PRODID:-//PawSafeAnimal Rescue - ECPv6.15.20//NONSGML v1.0//EN
CALSCALE:GREGORIAN
METHOD:PUBLISH
X-WR-CALNAME:PawSafeAnimal Rescue
X-ORIGINAL-URL:https://pawsafe.org
X-WR-CALDESC:Events for PawSafeAnimal Rescue
REFRESH-INTERVAL;VALUE=DURATION:PT1H
X-Robots-Tag:noindex
X-PUBLISHED-TTL:PT1H
BEGIN:VTIMEZONE
TZID:America/New_York
BEGIN:DAYLIGHT
TZOFFSETFROM:-0500
TZOFFSETTO:-0400
TZNAME:EDT
DTSTART:20240310T070000
END:DAYLIGHT
BEGIN:STANDARD
TZOFFSETFROM:-0400
TZOFFSETTO:-0500
TZNAME:EST
DTSTART:20241103T060000
END:STANDARD
BEGIN:DAYLIGHT
TZOFFSETFROM:-0500
TZOFFSETTO:-0400
TZNAME:EDT
DTSTART:20250309T070000
END:DAYLIGHT
BEGIN:STANDARD
TZOFFSETFROM:-0400
TZOFFSETTO:-0500
TZNAME:EST
DTSTART:20251102T060000
END:STANDARD
BEGIN:DAYLIGHT
TZOFFSETFROM:-0500
TZOFFSETTO:-0400
TZNAME:EDT
DTSTART:20260308T070000
END:DAYLIGHT
BEGIN:STANDARD
TZOFFSETFROM:-0400
TZOFFSETTO:-0500
TZNAME:EST
DTSTART:20261101T060000
END:STANDARD
END:VTIMEZONE
BEGIN:VTIMEZONE
TZID:UTC
BEGIN:STANDARD
TZOFFSETFROM:+0000
TZOFFSETTO:+0000
TZNAME:UTC
DTSTART:20220101T000000
END:STANDARD
END:VTIMEZONE
BEGIN:VEVENT
DTSTART;TZID=America/New_York:20250308T100000
DTEND;TZID=America/New_York:20250308T103000
DTSTAMP:20260423T193847
CREATED:20250308T233917Z
LAST-MODIFIED:20250308T234019Z
UID:10001016-1741428000-1741429800@pawsafe.org
SUMMARY:NY Italian Desert Puppies @ Choice Pet Carmel\, NY
DESCRIPTION:
URL:https://pawsafe.org/event/ny-italian-desert-puppies-choice-pet-carmel-ny/
LOCATION:Choice Pet Carmel NY\, 1920 US-6\, Carmel\, NY\, 10512\, United States
CATEGORIES:NY Off-Site event
END:VEVENT
BEGIN:VEVENT
DTSTART;TZID=UTC:20240406T103000
DTEND;TZID=UTC:20240406T123000
DTSTAMP:20260423T193847
CREATED:20240304T213248Z
LAST-MODIFIED:20240304T213332Z
UID:10000176-1712399400-1712406600@pawsafe.org
SUMMARY:Choice Pet Adoption Event (NY)
DESCRIPTION:Applications preferred!
URL:https://pawsafe.org/event/choice-pet-adoption-event-ny-6/
LOCATION:Choice Pet Carmel NY\, 1920 US-6\, Carmel\, NY\, 10512\, United States
CATEGORIES:NY Off-Site event
ORGANIZER;CN="Sharon":MAILTO:sharon@pawsafe.org
END:VEVENT
BEGIN:VEVENT
DTSTART;TZID=UTC:20240316T103000
DTEND;TZID=UTC:20240316T123000
DTSTAMP:20260423T193847
CREATED:20240304T193722Z
LAST-MODIFIED:20240304T193722Z
UID:10000175-1710585000-1710592200@pawsafe.org
SUMMARY:Choice Pet Adoption Event (NY)
DESCRIPTION:Applications preferred!
URL:https://pawsafe.org/event/choice-pet-adoption-event-ny-5/
LOCATION:Choice Pet Carmel NY\, 1920 US-6\, Carmel\, NY\, 10512\, United States
CATEGORIES:NY Off-Site event
ORGANIZER;CN="Sharon":MAILTO:sharon@pawsafe.org
END:VEVENT
BEGIN:VEVENT
DTSTART;TZID=UTC:20240309T103000
DTEND;TZID=UTC:20240309T123000
DTSTAMP:20260423T193847
CREATED:20240301T194215Z
LAST-MODIFIED:20240301T194224Z
UID:10000172-1709980200-1709987400@pawsafe.org
SUMMARY:Choice Pet Adoption Event (NY)
DESCRIPTION:Applications preferred!
URL:https://pawsafe.org/event/choice-pet-adoption-event-ny-4/
LOCATION:Choice Pet Carmel NY\, 1920 US-6\, Carmel\, NY\, 10512\, United States
CATEGORIES:NY Off-Site event
ORGANIZER;CN="Sharon":MAILTO:sharon@pawsafe.org
END:VEVENT
BEGIN:VEVENT
DTSTART;TZID=UTC:20240302T103000
DTEND;TZID=UTC:20240302T123000
DTSTAMP:20260423T193847
CREATED:20240221T054456Z
LAST-MODIFIED:20240221T054456Z
UID:10000169-1709375400-1709382600@pawsafe.org
SUMMARY:Choice Pet Adoption Event (NY)
DESCRIPTION:Applications preferred!
URL:https://pawsafe.org/event/choice-pet-adoption-event-ny-3/
LOCATION:Choice Pet Carmel NY\, 1920 US-6\, Carmel\, NY\, 10512\, United States
CATEGORIES:NY Off-Site event
ORGANIZER;CN="Sharon":MAILTO:sharon@pawsafe.org
END:VEVENT
BEGIN:VEVENT
DTSTART;TZID=UTC:20240210T100000
DTEND;TZID=UTC:20240210T123000
DTSTAMP:20260423T193847
CREATED:20240128T193341Z
LAST-MODIFIED:20240128T193341Z
UID:10000159-1707559200-1707568200@pawsafe.org
SUMMARY:Choice Pet Adoption Event (NY)
DESCRIPTION:Applications preferred!
URL:https://pawsafe.org/event/choice-pet-adoption-event-ny-2/
LOCATION:Choice Pet Carmel NY\, 1920 US-6\, Carmel\, NY\, 10512\, United States
CATEGORIES:NY Off-Site event
ORGANIZER;CN="Sharon":MAILTO:sharon@pawsafe.org
END:VEVENT
BEGIN:VEVENT
DTSTART;TZID=UTC:20240113T100000
DTEND;TZID=UTC:20240113T123000
DTSTAMP:20260423T193847
CREATED:20240105T023755Z
LAST-MODIFIED:20240105T024308Z
UID:10000153-1705140000-1705149000@pawsafe.org
SUMMARY:Choice Pet Adoption Event (NY)
DESCRIPTION:Applications preferred!
URL:https://pawsafe.org/event/choice-pet-adoption-event-ny/
LOCATION:Choice Pet Carmel NY\, 1920 US-6\, Carmel\, NY\, 10512\, United States
CATEGORIES:NY Off-Site event
ORGANIZER;CN="Sharon":MAILTO:sharon@pawsafe.org
END:VEVENT
BEGIN:VEVENT
DTSTART;TZID=UTC:20231021T100000
DTEND;TZID=UTC:20231021T120000
DTSTAMP:20260423T193847
CREATED:20230515T000434Z
LAST-MODIFIED:20231020T191836Z
UID:10000056-1697882400-1697889600@pawsafe.org
SUMMARY:Choice Pet Adoption Event (NY)
DESCRIPTION:Applications preferred!
URL:https://pawsafe.org/event/outhouse-orchards-adoption-event-ny/
LOCATION:Choice Pet Carmel NY\, 1920 US-6\, Carmel\, NY\, 10512\, United States
CATEGORIES:NY Off-Site event
ORGANIZER;CN="Sharon":MAILTO:sharon@pawsafe.org
END:VEVENT
BEGIN:VEVENT
DTSTART;TZID=UTC:20230603T093000
DTEND;TZID=UTC:20230603T120000
DTSTAMP:20260423T193847
CREATED:20230518T033430Z
LAST-MODIFIED:20230518T033430Z
UID:10000059-1685784600-1685793600@pawsafe.org
SUMMARY:Choice Pet (NY) Adoption Event
DESCRIPTION:Application and Appointments are needed for this event.  Please visit our website at www.pawsafe.org for an application.
URL:https://pawsafe.org/event/choice-pet-ny-adoption-event-8/
LOCATION:Choice Pet Carmel NY\, 1920 US-6\, Carmel\, NY\, 10512\, United States
CATEGORIES:NY Off-Site event
END:VEVENT
BEGIN:VEVENT
DTSTART;TZID=UTC:20230531T190000
DTEND;TZID=UTC:20230531T200000
DTSTAMP:20260423T193847
CREATED:20230527T150426Z
LAST-MODIFIED:20230527T150426Z
UID:10000062-1685559600-1685563200@pawsafe.org
SUMMARY:Choice Pet (NY) Adoption Event
DESCRIPTION:Application and Appointments are needed for this event.  Please visit our website at www.pawsafe.org for an application.
URL:https://pawsafe.org/event/choice-pet-ny-adoption-event-9/
LOCATION:Choice Pet Carmel NY\, 1920 US-6\, Carmel\, NY\, 10512\, United States
CATEGORIES:NY Off-Site event
END:VEVENT
BEGIN:VEVENT
DTSTART;TZID=UTC:20230517T190000
DTEND;TZID=UTC:20230517T200000
DTSTAMP:20260423T193847
CREATED:20230515T043015Z
LAST-MODIFIED:20230515T043015Z
UID:10000057-1684350000-1684353600@pawsafe.org
SUMMARY:Choice Pet (NY) Adoption Event
DESCRIPTION:Application and Appointments are needed for this event.  Please visit our website at www.pawsafe.org for an application.
URL:https://pawsafe.org/event/choice-pet-ny-adoption-event-7/
LOCATION:Choice Pet Carmel NY\, 1920 US-6\, Carmel\, NY\, 10512\, United States
CATEGORIES:NY Off-Site event
END:VEVENT
BEGIN:VEVENT
DTSTART;TZID=UTC:20230513T100000
DTEND;TZID=UTC:20230513T120000
DTSTAMP:20260423T193847
CREATED:20230511T053857Z
LAST-MODIFIED:20230511T053857Z
UID:10000048-1683972000-1683979200@pawsafe.org
SUMMARY:Choice Pet (NY) Adoption Event
DESCRIPTION:Application and Appointments are needed for this event.  Please visit our website at www.pawsafe.org for an application.
URL:https://pawsafe.org/event/choice-pet-ny-adoption-event-6/
LOCATION:Choice Pet Carmel NY\, 1920 US-6\, Carmel\, NY\, 10512\, United States
CATEGORIES:NY Off-Site event
END:VEVENT
BEGIN:VEVENT
DTSTART;TZID=UTC:20230506T100000
DTEND;TZID=UTC:20230506T113000
DTSTAMP:20260423T193847
CREATED:20230412T220952Z
LAST-MODIFIED:20230412T220952Z
UID:10000044-1683367200-1683372600@pawsafe.org
SUMMARY:Choice Pet (NY) Adoption Event
DESCRIPTION:Application and Appointments are needed for this event.  Please visit our website at www.pawsafe.org for an application.
URL:https://pawsafe.org/event/choice-pet-ny-adoption-event-5/
LOCATION:Choice Pet Carmel NY\, 1920 US-6\, Carmel\, NY\, 10512\, United States
CATEGORIES:NY Off-Site event
END:VEVENT
BEGIN:VEVENT
DTSTART;TZID=UTC:20230408T100000
DTEND;TZID=UTC:20230408T113000
DTSTAMP:20260423T193847
CREATED:20230315T215716Z
LAST-MODIFIED:20230315T215716Z
UID:10000030-1680948000-1680953400@pawsafe.org
SUMMARY:Choice Pet (NY) Adoption Event
DESCRIPTION:Application and Appointments are needed for this event.  Please visit our website at www.pawsafe.org for an application.
URL:https://pawsafe.org/event/choice-pet-ny-adoption-event-4/
LOCATION:Choice Pet Carmel NY\, 1920 US-6\, Carmel\, NY\, 10512\, United States
CATEGORIES:NY Off-Site event
END:VEVENT
BEGIN:VEVENT
DTSTART;TZID=UTC:20230325T100000
DTEND;TZID=UTC:20230325T113000
DTSTAMP:20260423T193847
CREATED:20230315T215620Z
LAST-MODIFIED:20230315T215620Z
UID:10000029-1679738400-1679743800@pawsafe.org
SUMMARY:Choice Pet (NY) Adoption Event
DESCRIPTION:Application and Appointments are needed for this event.  Please visit our website at www.pawsafe.org for an application.
URL:https://pawsafe.org/event/choice-pet-ny-adoption-event-3/
LOCATION:Choice Pet Carmel NY\, 1920 US-6\, Carmel\, NY\, 10512\, United States
CATEGORIES:NY Off-Site event
END:VEVENT
BEGIN:VEVENT
DTSTART;TZID=UTC:20230311T100000
DTEND;TZID=UTC:20230311T120000
DTSTAMP:20260423T193847
CREATED:20230221T012200Z
LAST-MODIFIED:20230221T012200Z
UID:10000014-1678528800-1678536000@pawsafe.org
SUMMARY:Choice Pet (NY) Adoption Event
DESCRIPTION:Application and Appointments are needed for this event.  Please visit our website at www.pawsafe.org for an application.
URL:https://pawsafe.org/event/choice-pet-ny-adoption-event-2/
LOCATION:Choice Pet Carmel NY\, 1920 US-6\, Carmel\, NY\, 10512\, United States
CATEGORIES:NY Off-Site event
END:VEVENT
BEGIN:VEVENT
DTSTART;TZID=UTC:20230218T100000
DTEND;TZID=UTC:20230218T120000
DTSTAMP:20260423T193847
CREATED:20230214T003226Z
LAST-MODIFIED:20230214T023046Z
UID:10000003-1676714400-1676721600@pawsafe.org
SUMMARY:Choice Pet (NY) Adoption Event
DESCRIPTION:Applications and appointments requested\, but not required.  Families with appointments are helped first.
URL:https://pawsafe.org/event/choice-pet-ny-adoption-event/
LOCATION:Choice Pet Carmel NY\, 1920 US-6\, Carmel\, NY\, 10512\, United States
CATEGORIES:NY Off-Site event
ATTACH;FMTTYPE=image/jpeg:https://pawsafe.org/wp-content/uploads/2023/02/20230206141854.jpg
END:VEVENT
END:VCALENDAR