BEGIN:VCALENDAR
VERSION:2.0
PRODID:-//PawSafeAnimal Rescue - ECPv6.15.20//NONSGML v1.0//EN
CALSCALE:GREGORIAN
METHOD:PUBLISH
X-WR-CALNAME:PawSafeAnimal Rescue
X-ORIGINAL-URL:https://pawsafe.org
X-WR-CALDESC:Events for PawSafeAnimal Rescue
REFRESH-INTERVAL;VALUE=DURATION:PT1H
X-Robots-Tag:noindex
X-PUBLISHED-TTL:PT1H
BEGIN:VTIMEZONE
TZID:America/New_York
BEGIN:DAYLIGHT
TZOFFSETFROM:-0500
TZOFFSETTO:-0400
TZNAME:EDT
DTSTART:20240310T070000
END:DAYLIGHT
BEGIN:STANDARD
TZOFFSETFROM:-0400
TZOFFSETTO:-0500
TZNAME:EST
DTSTART:20241103T060000
END:STANDARD
BEGIN:DAYLIGHT
TZOFFSETFROM:-0500
TZOFFSETTO:-0400
TZNAME:EDT
DTSTART:20250309T070000
END:DAYLIGHT
BEGIN:STANDARD
TZOFFSETFROM:-0400
TZOFFSETTO:-0500
TZNAME:EST
DTSTART:20251102T060000
END:STANDARD
BEGIN:DAYLIGHT
TZOFFSETFROM:-0500
TZOFFSETTO:-0400
TZNAME:EDT
DTSTART:20260308T070000
END:DAYLIGHT
BEGIN:STANDARD
TZOFFSETFROM:-0400
TZOFFSETTO:-0500
TZNAME:EST
DTSTART:20261101T060000
END:STANDARD
END:VTIMEZONE
BEGIN:VEVENT
DTSTART;TZID=America/New_York:20251130T103000
DTEND;TZID=America/New_York:20251130T133000
DTSTAMP:20260423T193118
CREATED:20251121T140744Z
LAST-MODIFIED:20251121T140744Z
UID:10001284-1764498600-1764509400@pawsafe.org
SUMMARY:NY Adoptions @ Carmel Choice Pet
DESCRIPTION:
URL:https://pawsafe.org/event/ny-adoptions-carmel-choice-pet-4/
LOCATION:Choice Pet Carmel New Location\, 1874 US 6\, Carmel\, Putnam County\, 10512\, United States
CATEGORIES:NY Off-Site event
ATTACH;FMTTYPE=image/jpeg:https://pawsafe.org/wp-content/uploads/2025/10/New-Choice-Pets.jpg
END:VEVENT
BEGIN:VEVENT
DTSTART;TZID=America/New_York:20251123T100000
DTEND;TZID=America/New_York:20251123T130000
DTSTAMP:20260423T193118
CREATED:20251113T233217Z
LAST-MODIFIED:20251118T011859Z
UID:10001283-1763892000-1763902800@pawsafe.org
SUMMARY:NY Adoptions @ Carmel Choice Pet
DESCRIPTION:
URL:https://pawsafe.org/event/ny-adoptions-carmel-choice-pet-3/
LOCATION:Choice Pet Carmel New Location\, 1874 US 6\, Carmel\, Putnam County\, 10512\, United States
CATEGORIES:NY Off-Site event
ATTACH;FMTTYPE=image/jpeg:https://pawsafe.org/wp-content/uploads/2025/10/New-Choice-Pets.jpg
END:VEVENT
BEGIN:VEVENT
DTSTART;TZID=America/New_York:20251116T100000
DTEND;TZID=America/New_York:20251116T113000
DTSTAMP:20260423T193118
CREATED:20251113T233129Z
LAST-MODIFIED:20251113T233129Z
UID:10001282-1763287200-1763292600@pawsafe.org
SUMMARY:NY Adoptions @ Carmel Choice Pet
DESCRIPTION:
URL:https://pawsafe.org/event/ny-adoptions-carmel-choice-pet-2/
LOCATION:Choice Pet Carmel New Location\, 1874 US 6\, Carmel\, Putnam County\, 10512\, United States
CATEGORIES:NY Off-Site event
ATTACH;FMTTYPE=image/jpeg:https://pawsafe.org/wp-content/uploads/2025/10/New-Choice-Pets.jpg
END:VEVENT
BEGIN:VEVENT
DTSTART;TZID=America/New_York:20251108T113000
DTEND;TZID=America/New_York:20251108T133000
DTSTAMP:20260423T193118
CREATED:20251015T211517Z
LAST-MODIFIED:20251022T194558Z
UID:10001276-1762601400-1762608600@pawsafe.org
SUMMARY:NY Adoptions @ Carmel Choice Pet
DESCRIPTION:
URL:https://pawsafe.org/event/ny-adoptions-carmel-choice-pet/
LOCATION:Choice Pet Carmel New Location\, 1874 US 6\, Carmel\, Putnam County\, 10512\, United States
CATEGORIES:NY Off-Site event
ATTACH;FMTTYPE=image/jpeg:https://pawsafe.org/wp-content/uploads/2025/10/New-Choice-Pets.jpg
END:VEVENT
BEGIN:VEVENT
DTSTART;TZID=America/New_York:20250628T100000
DTEND;TZID=America/New_York:20250628T140000
DTSTAMP:20260423T193118
CREATED:20250622T132745Z
LAST-MODIFIED:20250622T132745Z
UID:10001172-1751104800-1751119200@pawsafe.org
SUMMARY:NY Adoptions @ Choice Pet Carmel Grand Opening
DESCRIPTION:
URL:https://pawsafe.org/event/ny-adoptions-choice-pet-carmel-grand-opening-2/
LOCATION:Choice Pet Carmel New Location\, 1874 US 6\, Carmel\, Putnam County\, 10512\, United States
ATTACH;FMTTYPE=image/jpeg:https://pawsafe.org/wp-content/uploads/2025/06/Choice-Pet-Grand-Opening.jpg
ORGANIZER;CN="Sharon":MAILTO:sharon@pawsafe.org
END:VEVENT
END:VCALENDAR