BEGIN:VCALENDAR
VERSION:2.0
PRODID:-//PawSafeAnimal Rescue - ECPv6.15.20//NONSGML v1.0//EN
CALSCALE:GREGORIAN
METHOD:PUBLISH
X-ORIGINAL-URL:https://pawsafe.org
X-WR-CALDESC:Events for PawSafeAnimal Rescue
REFRESH-INTERVAL;VALUE=DURATION:PT1H
X-Robots-Tag:noindex
X-PUBLISHED-TTL:PT1H
BEGIN:VTIMEZONE
TZID:America/New_York
BEGIN:DAYLIGHT
TZOFFSETFROM:-0500
TZOFFSETTO:-0400
TZNAME:EDT
DTSTART:20230312T070000
END:DAYLIGHT
BEGIN:STANDARD
TZOFFSETFROM:-0400
TZOFFSETTO:-0500
TZNAME:EST
DTSTART:20231105T060000
END:STANDARD
BEGIN:DAYLIGHT
TZOFFSETFROM:-0500
TZOFFSETTO:-0400
TZNAME:EDT
DTSTART:20240310T070000
END:DAYLIGHT
BEGIN:STANDARD
TZOFFSETFROM:-0400
TZOFFSETTO:-0500
TZNAME:EST
DTSTART:20241103T060000
END:STANDARD
BEGIN:DAYLIGHT
TZOFFSETFROM:-0500
TZOFFSETTO:-0400
TZNAME:EDT
DTSTART:20250309T070000
END:DAYLIGHT
BEGIN:STANDARD
TZOFFSETFROM:-0400
TZOFFSETTO:-0500
TZNAME:EST
DTSTART:20251102T060000
END:STANDARD
BEGIN:DAYLIGHT
TZOFFSETFROM:-0500
TZOFFSETTO:-0400
TZNAME:EDT
DTSTART:20260308T070000
END:DAYLIGHT
BEGIN:STANDARD
TZOFFSETFROM:-0400
TZOFFSETTO:-0500
TZNAME:EST
DTSTART:20261101T060000
END:STANDARD
END:VTIMEZONE
BEGIN:VTIMEZONE
TZID:UTC
BEGIN:STANDARD
TZOFFSETFROM:+0000
TZOFFSETTO:+0000
TZNAME:UTC
DTSTART:20230101T000000
END:STANDARD
END:VTIMEZONE
BEGIN:VEVENT
DTSTART;TZID=America/New_York:20250309T100000
DTEND;TZID=America/New_York:20250309T103000
DTSTAMP:20260423T193130
CREATED:20250308T234230Z
LAST-MODIFIED:20250308T234230Z
UID:10001017-1741514400-1741516200@pawsafe.org
SUMMARY:NY Italian Dessert Adoptions @ Choice Pet Carmel NY
DESCRIPTION:
URL:https://pawsafe.org/event/ny-italian-dessert-adoptions-choice-pet-carmel-ny/
LOCATION:Choice Pet – Carmel NY\, 1920 US-6\, Carmel\, NY\, 10512\, United States
CATEGORIES:NY Off-Site event
ORGANIZER;CN="Sharon":MAILTO:sharon@pawsafe.org
END:VEVENT
BEGIN:VEVENT
DTSTART;TZID=America/New_York:20240504T100000
DTEND;TZID=America/New_York:20240504T120000
DTSTAMP:20260423T193130
CREATED:20240502T211216Z
LAST-MODIFIED:20240502T221821Z
UID:10000204-1714816800-1714824000@pawsafe.org
SUMMARY:NY Adoptions @ Choice Pet Carmel
DESCRIPTION:
URL:https://pawsafe.org/event/ny-adoptions-choice-pet-carmel/
LOCATION:Choice Pet – Carmel NY\, 1920 US-6\, Carmel\, NY\, 10512\, United States
CATEGORIES:NY Off-Site event
END:VEVENT
BEGIN:VEVENT
DTSTART;TZID=UTC:20240309T103000
DTEND;TZID=UTC:20240309T123000
DTSTAMP:20260423T193130
CREATED:20240309T210410Z
LAST-MODIFIED:20240309T210410Z
UID:10000177-1709980200-1709987400@pawsafe.org
SUMMARY:Choice Pet Adoption Event (NY)
DESCRIPTION:
URL:https://pawsafe.org/event/choice-pet-adoption-event-ny-7/
LOCATION:Choice Pet – Carmel NY\, 1920 US-6\, Carmel\, NY\, 10512\, United States
CATEGORIES:NY Off-Site event
END:VEVENT
END:VCALENDAR