BEGIN:VCALENDAR
VERSION:2.0
PRODID:-//PawSafeAnimal Rescue - ECPv6.15.20//NONSGML v1.0//EN
CALSCALE:GREGORIAN
METHOD:PUBLISH
X-ORIGINAL-URL:https://pawsafe.org
X-WR-CALDESC:Events for PawSafeAnimal Rescue
REFRESH-INTERVAL;VALUE=DURATION:PT1H
X-Robots-Tag:noindex
X-PUBLISHED-TTL:PT1H
BEGIN:VTIMEZONE
TZID:UTC
BEGIN:STANDARD
TZOFFSETFROM:+0000
TZOFFSETTO:+0000
TZNAME:UTC
DTSTART:20220101T000000
END:STANDARD
END:VTIMEZONE
BEGIN:VEVENT
DTSTART;TZID=UTC:20240526T100000
DTEND;TZID=UTC:20240526T140000
DTSTAMP:20260423T231540
CREATED:20240417T142656Z
LAST-MODIFIED:20240520T213005Z
UID:10000196-1716717600-1716732000@pawsafe.org
SUMMARY:Love of Dogs Adoption Event - CT Valley Brewing
DESCRIPTION:Application requested but not required!
URL:https://pawsafe.org/event/love-of-dogs-adoption-event-ct-valley-brewing/
LOCATION:Connecticut Valley Brewing Company\, 765 Sullivan Ave\, South Windsor\, CT\, 06074\, United States
CATEGORIES:CT Off-site event
ATTACH;FMTTYPE=image/jpeg:https://pawsafe.org/wp-content/uploads/2024/04/fortheloveofdogs.jpg
END:VEVENT
BEGIN:VEVENT
DTSTART;TZID=UTC:20230513T103000
DTEND;TZID=UTC:20230513T123000
DTSTAMP:20260423T231540
CREATED:20230508T183426Z
LAST-MODIFIED:20230508T183504Z
UID:10000046-1683973800-1683981000@pawsafe.org
SUMMARY:Adoptions at Connecticut Valley Brewing/Birdhouse Coffee!
DESCRIPTION:Come and meet some of our puppies for adoption!  Applications preferred but no appointment needed.  First come/first serve
URL:https://pawsafe.org/event/adoptions-at-connecticut-valley-brewing-birdhouse-coffee/
LOCATION:Connecticut Valley Brewing Company\, 765 Sullivan Ave\, South Windsor\, CT\, 06074\, United States
CATEGORIES:CT Off-site event
END:VEVENT
END:VCALENDAR