BEGIN:VCALENDAR
VERSION:2.0
PRODID:-//PawSafeAnimal Rescue - ECPv6.15.20//NONSGML v1.0//EN
CALSCALE:GREGORIAN
METHOD:PUBLISH
X-WR-CALNAME:PawSafeAnimal Rescue
X-ORIGINAL-URL:https://pawsafe.org
X-WR-CALDESC:Events for PawSafeAnimal Rescue
REFRESH-INTERVAL;VALUE=DURATION:PT1H
X-Robots-Tag:noindex
X-PUBLISHED-TTL:PT1H
BEGIN:VTIMEZONE
TZID:UTC
BEGIN:STANDARD
TZOFFSETFROM:+0000
TZOFFSETTO:+0000
TZNAME:UTC
DTSTART:20220101T000000
END:STANDARD
END:VTIMEZONE
BEGIN:VEVENT
DTSTART;TZID=UTC:20230813T100000
DTEND;TZID=UTC:20230813T120000
DTSTAMP:20260423T222748
CREATED:20230810T151504Z
LAST-MODIFIED:20230810T151504Z
UID:10000093-1691920800-1691928000@pawsafe.org
SUMMARY:NY Adoptions @ Market on the River - Cortlandt Waterfront
DESCRIPTION:Applications preferred but no appointment needed.  First come/first serve
URL:https://pawsafe.org/event/ny-adoptions-market-on-the-river-cortlandt-waterfront/
LOCATION:Cortlandt Waterfront\, 77 Riverview Avenue\, Verplanck\, NY\, 10701\, United States
CATEGORIES:NY Off-Site event
END:VEVENT
END:VCALENDAR