BEGIN:VCALENDAR
VERSION:2.0
PRODID:-//PawSafeAnimal Rescue - ECPv6.15.20//NONSGML v1.0//EN
CALSCALE:GREGORIAN
METHOD:PUBLISH
X-ORIGINAL-URL:https://pawsafe.org
X-WR-CALDESC:Events for PawSafeAnimal Rescue
REFRESH-INTERVAL;VALUE=DURATION:PT1H
X-Robots-Tag:noindex
X-PUBLISHED-TTL:PT1H
BEGIN:VTIMEZONE
TZID:America/New_York
BEGIN:DAYLIGHT
TZOFFSETFROM:-0500
TZOFFSETTO:-0400
TZNAME:EDT
DTSTART:20230312T070000
END:DAYLIGHT
BEGIN:STANDARD
TZOFFSETFROM:-0400
TZOFFSETTO:-0500
TZNAME:EST
DTSTART:20231105T060000
END:STANDARD
BEGIN:DAYLIGHT
TZOFFSETFROM:-0500
TZOFFSETTO:-0400
TZNAME:EDT
DTSTART:20240310T070000
END:DAYLIGHT
BEGIN:STANDARD
TZOFFSETFROM:-0400
TZOFFSETTO:-0500
TZNAME:EST
DTSTART:20241103T060000
END:STANDARD
BEGIN:DAYLIGHT
TZOFFSETFROM:-0500
TZOFFSETTO:-0400
TZNAME:EDT
DTSTART:20250309T070000
END:DAYLIGHT
BEGIN:STANDARD
TZOFFSETFROM:-0400
TZOFFSETTO:-0500
TZNAME:EST
DTSTART:20251102T060000
END:STANDARD
BEGIN:DAYLIGHT
TZOFFSETFROM:-0500
TZOFFSETTO:-0400
TZNAME:EDT
DTSTART:20260308T070000
END:DAYLIGHT
BEGIN:STANDARD
TZOFFSETFROM:-0400
TZOFFSETTO:-0500
TZNAME:EST
DTSTART:20261101T060000
END:STANDARD
END:VTIMEZONE
BEGIN:VEVENT
DTSTART;TZID=America/New_York:20251221T110000
DTEND;TZID=America/New_York:20251221T140000
DTSTAMP:20260423T175922
CREATED:20251110T115200Z
LAST-MODIFIED:20251110T120056Z
UID:10001277-1766314800-1766325600@pawsafe.org
SUMMARY:CT ADOPTION EVENT at Cropley's Garden Center
DESCRIPTION:
URL:https://pawsafe.org/event/ct-adoption-event-at-cropleys-garden-center/
LOCATION:Cropley’s Garden Center\, 1262 Boston Turnpike\, Bolton\, 06043\, United States
CATEGORIES:CT Off-site event
ATTACH;FMTTYPE=image/jpeg:https://pawsafe.org/wp-content/uploads/2025/11/Christmas-Puppy-Adoption.jpg
END:VEVENT
BEGIN:VEVENT
DTSTART;TZID=America/New_York:20251004T100000
DTEND;TZID=America/New_York:20251004T140000
DTSTAMP:20260423T175922
CREATED:20250810T000935Z
LAST-MODIFIED:20250810T001015Z
UID:10001179-1759572000-1759586400@pawsafe.org
SUMMARY:Cropley's Adoption Event
DESCRIPTION:Come meet some of our amazing dogs and puppies from 10am – 2pm
URL:https://pawsafe.org/event/cropleys-adoption-event-3/
LOCATION:Cropley’s Garden Center\, 1262 Boston Turnpike\, Bolton\, 06043\, United States
CATEGORIES:CT Off-site event
ATTACH;FMTTYPE=image/jpeg:https://pawsafe.org/wp-content/uploads/2025/08/thumbnail_Fall-Festival-2025-Not-Sized.jpg
END:VEVENT
BEGIN:VEVENT
DTSTART;TZID=America/New_York:20250503T110000
DTEND;TZID=America/New_York:20250503T140000
DTSTAMP:20260423T175922
CREATED:20250320T180844Z
LAST-MODIFIED:20250323T120036Z
UID:10001021-1746270000-1746280800@pawsafe.org
SUMMARY:Cropley's Adoption Event
DESCRIPTION:No reservations needed!
URL:https://pawsafe.org/event/cropleys-adoption-event-2/
LOCATION:Cropley’s Garden Center\, 1262 Boston Turnpike\, Bolton\, 06043\, United States
CATEGORIES:CT Off-site event
ATTACH;FMTTYPE=image/jpeg:https://pawsafe.org/wp-content/uploads/2025/03/Spring-Festival-2025-cropleys.jpg
END:VEVENT
BEGIN:VEVENT
DTSTART;TZID=America/New_York:20250215T110000
DTEND;TZID=America/New_York:20250215T140000
DTSTAMP:20260423T175922
CREATED:20250215T142904Z
LAST-MODIFIED:20250215T142904Z
UID:10001010-1739617200-1739628000@pawsafe.org
SUMMARY:Cropley's Adoption Event
DESCRIPTION:No reservations needed!
URL:https://pawsafe.org/event/cropleys-adoption-event/
LOCATION:Cropley’s Garden Center\, 1262 Boston Turnpike\, Bolton\, 06043\, United States
CATEGORIES:CT Off-site event
END:VEVENT
BEGIN:VEVENT
DTSTART;TZID=America/New_York:20241117T110000
DTEND;TZID=America/New_York:20241117T130000
DTSTAMP:20260423T175922
CREATED:20241110T130354Z
LAST-MODIFIED:20241110T130354Z
UID:10000633-1731841200-1731848400@pawsafe.org
SUMMARY:Adoptions at Cropley's Garden Center
DESCRIPTION:PawSafe Pet Adoptions!
URL:https://pawsafe.org/event/adoptions-at-cropleys-garden-center-2/
LOCATION:Cropley’s Garden Center\, 1262 Boston Turnpike\, Bolton\, 06043\, United States
CATEGORIES:CT Off-site event
END:VEVENT
BEGIN:VEVENT
DTSTART;TZID=America/New_York:20241013T100000
DTEND;TZID=America/New_York:20241013T140000
DTSTAMP:20260423T175922
CREATED:20240921T131301Z
LAST-MODIFIED:20240921T131333Z
UID:10000556-1728813600-1728828000@pawsafe.org
SUMMARY:Adoptions at Cropley's Garden Center
DESCRIPTION:PawSafe Pet Adoptions!  Games\, vendors and more!
URL:https://pawsafe.org/event/adoptions-at-cropleys-garden-center/
LOCATION:Cropley’s Garden Center\, 1262 Boston Turnpike\, Bolton\, 06043\, United States
CATEGORIES:CT Off-site event
ATTACH;FMTTYPE=image/jpeg:https://pawsafe.org/wp-content/uploads/2024/09/Fall_Festival_2024_updated_8.13.jpg
END:VEVENT
END:VCALENDAR