BEGIN:VCALENDAR
VERSION:2.0
PRODID:-//PawSafeAnimal Rescue - ECPv6.15.20//NONSGML v1.0//EN
CALSCALE:GREGORIAN
METHOD:PUBLISH
X-WR-CALNAME:PawSafeAnimal Rescue
X-ORIGINAL-URL:https://pawsafe.org
X-WR-CALDESC:Events for PawSafeAnimal Rescue
REFRESH-INTERVAL;VALUE=DURATION:PT1H
X-Robots-Tag:noindex
X-PUBLISHED-TTL:PT1H
BEGIN:VTIMEZONE
TZID:America/New_York
BEGIN:DAYLIGHT
TZOFFSETFROM:-0500
TZOFFSETTO:-0400
TZNAME:EDT
DTSTART:20240310T070000
END:DAYLIGHT
BEGIN:STANDARD
TZOFFSETFROM:-0400
TZOFFSETTO:-0500
TZNAME:EST
DTSTART:20241103T060000
END:STANDARD
BEGIN:DAYLIGHT
TZOFFSETFROM:-0500
TZOFFSETTO:-0400
TZNAME:EDT
DTSTART:20250309T070000
END:DAYLIGHT
BEGIN:STANDARD
TZOFFSETFROM:-0400
TZOFFSETTO:-0500
TZNAME:EST
DTSTART:20251102T060000
END:STANDARD
BEGIN:DAYLIGHT
TZOFFSETFROM:-0500
TZOFFSETTO:-0400
TZNAME:EDT
DTSTART:20260308T070000
END:DAYLIGHT
BEGIN:STANDARD
TZOFFSETFROM:-0400
TZOFFSETTO:-0500
TZNAME:EST
DTSTART:20261101T060000
END:STANDARD
END:VTIMEZONE
BEGIN:VTIMEZONE
TZID:UTC
BEGIN:STANDARD
TZOFFSETFROM:+0000
TZOFFSETTO:+0000
TZNAME:UTC
DTSTART:20220101T000000
END:STANDARD
END:VTIMEZONE
BEGIN:VEVENT
DTSTART;TZID=America/New_York:20250426T100000
DTEND;TZID=America/New_York:20250426T140000
DTSTAMP:20260423T155414
CREATED:20250320T180500Z
LAST-MODIFIED:20250418T175452Z
UID:10001020-1745661600-1745676000@pawsafe.org
SUMMARY:Earth Day (ELLINGTON CT) Adoption Event
DESCRIPTION:Applications helpful but not required.
URL:https://pawsafe.org/event/earth-day-ellington-ct-adoption-event-2/
LOCATION:Ellington CT Town Green\, 72 Maple St\, Ellington\, 06029\, United States
CATEGORIES:CT Off-site event
ATTACH;FMTTYPE=image/png:https://pawsafe.org/wp-content/uploads/2025/03/ellington-earth-day.png
END:VEVENT
BEGIN:VEVENT
DTSTART;TZID=UTC:20230422T100000
DTEND;TZID=UTC:20230422T140000
DTSTAMP:20260423T155414
CREATED:20230315T220823Z
LAST-MODIFIED:20230315T220823Z
UID:10000032-1682157600-1682172000@pawsafe.org
SUMMARY:Ellington Town Green Earth Day Adoption Event
DESCRIPTION:Application preferred but no appointments needed.  Off-site events are first come/first served. \n 
URL:https://pawsafe.org/event/ellington-town-green-earth-day-adoption-event/
LOCATION:Ellington CT Town Green\, 72 Maple St\, Ellington\, 06029\, United States
CATEGORIES:CT Off-site event
END:VEVENT
END:VCALENDAR