BEGIN:VCALENDAR
VERSION:2.0
PRODID:-//PawSafeAnimal Rescue - ECPv6.15.20//NONSGML v1.0//EN
CALSCALE:GREGORIAN
METHOD:PUBLISH
X-ORIGINAL-URL:https://pawsafe.org
X-WR-CALDESC:Events for PawSafeAnimal Rescue
REFRESH-INTERVAL;VALUE=DURATION:PT1H
X-Robots-Tag:noindex
X-PUBLISHED-TTL:PT1H
BEGIN:VTIMEZONE
TZID:America/New_York
BEGIN:DAYLIGHT
TZOFFSETFROM:-0500
TZOFFSETTO:-0400
TZNAME:EDT
DTSTART:20230312T070000
END:DAYLIGHT
BEGIN:STANDARD
TZOFFSETFROM:-0400
TZOFFSETTO:-0500
TZNAME:EST
DTSTART:20231105T060000
END:STANDARD
BEGIN:DAYLIGHT
TZOFFSETFROM:-0500
TZOFFSETTO:-0400
TZNAME:EDT
DTSTART:20240310T070000
END:DAYLIGHT
BEGIN:STANDARD
TZOFFSETFROM:-0400
TZOFFSETTO:-0500
TZNAME:EST
DTSTART:20241103T060000
END:STANDARD
BEGIN:DAYLIGHT
TZOFFSETFROM:-0500
TZOFFSETTO:-0400
TZNAME:EDT
DTSTART:20250309T070000
END:DAYLIGHT
BEGIN:STANDARD
TZOFFSETFROM:-0400
TZOFFSETTO:-0500
TZNAME:EST
DTSTART:20251102T060000
END:STANDARD
END:VTIMEZONE
BEGIN:VTIMEZONE
TZID:UTC
BEGIN:STANDARD
TZOFFSETFROM:+0000
TZOFFSETTO:+0000
TZNAME:UTC
DTSTART:20220101T000000
END:STANDARD
END:VTIMEZONE
BEGIN:VEVENT
DTSTART;TZID=America/New_York:20241117T110000
DTEND;TZID=America/New_York:20241117T130000
DTSTAMP:20260423T201135
CREATED:20241110T194902Z
LAST-MODIFIED:20241110T194902Z
UID:10000638-1731841200-1731848400@pawsafe.org
SUMMARY:NY Adoptions @ JV Mall - Reba's Pups Pre-Adopt Event -  The Valley Collective Store
DESCRIPTION:
URL:https://pawsafe.org/event/ny-adoptions-jv-mall-rebas-pups-pre-adopt-event-the-valley-collective-store/
LOCATION:Jefferson Valley Mall\, 10598 650 Lee Blvd\, Yorktown Heights\, 10598\, United States
CATEGORIES:NY Off-Site event
ATTACH;FMTTYPE=image/jpeg:https://pawsafe.org/wp-content/uploads/2024/11/JV-Mall.jpg
END:VEVENT
BEGIN:VEVENT
DTSTART;TZID=UTC:20231008T110000
DTEND;TZID=UTC:20231008T150000
DTSTAMP:20260423T201135
CREATED:20230515T000325Z
LAST-MODIFIED:20230515T000325Z
UID:10000055-1696762800-1696777200@pawsafe.org
SUMMARY:Yorktown Fall Fest & Car Show Adoption Event (NY)
DESCRIPTION:Applications preferred but no appointment needed.  First come/first serve
URL:https://pawsafe.org/event/yorktown-fall-fest-car-show-adoption-event-ny/
LOCATION:10598 650 Lee Blvd\, Yorktown Heights\, 10598\, United States
CATEGORIES:NY Off-Site event
END:VEVENT
END:VCALENDAR