BEGIN:VCALENDAR
VERSION:2.0
PRODID:-//PawSafeAnimal Rescue - ECPv6.15.20//NONSGML v1.0//EN
CALSCALE:GREGORIAN
METHOD:PUBLISH
X-ORIGINAL-URL:https://pawsafe.org
X-WR-CALDESC:Events for PawSafeAnimal Rescue
REFRESH-INTERVAL;VALUE=DURATION:PT1H
X-Robots-Tag:noindex
X-PUBLISHED-TTL:PT1H
BEGIN:VTIMEZONE
TZID:UTC
BEGIN:STANDARD
TZOFFSETFROM:+0000
TZOFFSETTO:+0000
TZNAME:UTC
DTSTART:20220101T000000
END:STANDARD
END:VTIMEZONE
BEGIN:VEVENT
DTSTART;TZID=UTC:20230923T100000
DTEND;TZID=UTC:20230923T130000
DTSTAMP:20260424T012141
CREATED:20230901T192408Z
LAST-MODIFIED:20230901T192527Z
UID:10000099-1695463200-1695474000@pawsafe.org
SUMMARY:Kent Countryside Nursery (NY) Adoption Event and Autumn Festival
DESCRIPTION:No appointment needed.  First come/first serve
URL:https://pawsafe.org/event/kent-countryside-nursery-ny-adoption-event-and-autumn-festival/
LOCATION:Kent Countryside Nursery\, 61 Ludington Court\, Carmel\, NY\, 10512\, United States
CATEGORIES:NY Off-Site event
END:VEVENT
BEGIN:VEVENT
DTSTART;TZID=UTC:20230520T100000
DTEND;TZID=UTC:20230520T120000
DTSTAMP:20260424T012141
CREATED:20230518T054151Z
LAST-MODIFIED:20230518T054346Z
UID:10000060-1684576800-1684584000@pawsafe.org
SUMMARY:Kent Countryside Nursery (NY) Adoption Event
DESCRIPTION:No appointment needed.  First come/first serve \nLive Music and food trucks!
URL:https://pawsafe.org/event/ny-adoptions-kent-countryside-nursery/
LOCATION:Kent Countryside Nursery\, 61 Ludington Court\, Carmel\, NY\, 10512\, United States
CATEGORIES:NY Off-Site event
END:VEVENT
END:VCALENDAR