BEGIN:VCALENDAR
VERSION:2.0
PRODID:-//PawSafeAnimal Rescue - ECPv6.15.20//NONSGML v1.0//EN
CALSCALE:GREGORIAN
METHOD:PUBLISH
X-WR-CALNAME:PawSafeAnimal Rescue
X-ORIGINAL-URL:https://pawsafe.org
X-WR-CALDESC:Events for PawSafeAnimal Rescue
REFRESH-INTERVAL;VALUE=DURATION:PT1H
X-Robots-Tag:noindex
X-PUBLISHED-TTL:PT1H
BEGIN:VTIMEZONE
TZID:America/New_York
BEGIN:DAYLIGHT
TZOFFSETFROM:-0500
TZOFFSETTO:-0400
TZNAME:EDT
DTSTART:20230312T070000
END:DAYLIGHT
BEGIN:STANDARD
TZOFFSETFROM:-0400
TZOFFSETTO:-0500
TZNAME:EST
DTSTART:20231105T060000
END:STANDARD
BEGIN:DAYLIGHT
TZOFFSETFROM:-0500
TZOFFSETTO:-0400
TZNAME:EDT
DTSTART:20240310T070000
END:DAYLIGHT
BEGIN:STANDARD
TZOFFSETFROM:-0400
TZOFFSETTO:-0500
TZNAME:EST
DTSTART:20241103T060000
END:STANDARD
BEGIN:DAYLIGHT
TZOFFSETFROM:-0500
TZOFFSETTO:-0400
TZNAME:EDT
DTSTART:20250309T070000
END:DAYLIGHT
BEGIN:STANDARD
TZOFFSETFROM:-0400
TZOFFSETTO:-0500
TZNAME:EST
DTSTART:20251102T060000
END:STANDARD
END:VTIMEZONE
BEGIN:VTIMEZONE
TZID:UTC
BEGIN:STANDARD
TZOFFSETFROM:+0000
TZOFFSETTO:+0000
TZNAME:UTC
DTSTART:20220101T000000
END:STANDARD
END:VTIMEZONE
BEGIN:VEVENT
DTSTART;TZID=America/New_York:20240821T180000
DTEND;TZID=America/New_York:20240821T210000
DTSTAMP:20260423T211802
CREATED:20240818T205435Z
LAST-MODIFIED:20240818T205435Z
UID:10000305-1724263200-1724274000@pawsafe.org
SUMMARY:NY Adoptions @ Carmel Police National Night Out
DESCRIPTION:
URL:https://pawsafe.org/event/ny-adoptions-carmel-police-national-night-out-2/
LOCATION:Mahopec Chamber Park\, 983 S Lake Blvd\, Mahopec\, NY\, 10541\, United States
CATEGORIES:NY Off-Site event
ATTACH;FMTTYPE=image/jpeg:https://pawsafe.org/wp-content/uploads/2024/08/Carmel-PD-NNO.jpg
END:VEVENT
BEGIN:VEVENT
DTSTART;TZID=America/New_York:20240806T180000
DTEND;TZID=America/New_York:20240806T210000
DTSTAMP:20260423T211802
CREATED:20240603T152350Z
LAST-MODIFIED:20240806T172610Z
UID:10000223-1722967200-1722978000@pawsafe.org
SUMMARY:CANCELLED - NY Adoptions @ Carmel Police National Night Out
DESCRIPTION:
URL:https://pawsafe.org/event/ny-adoptions-carmel-police-national-night-out/
LOCATION:Mahopec Chamber Park\, 983 S Lake Blvd\, Mahopec\, NY\, 10541\, United States
CATEGORIES:NY Off-Site event
END:VEVENT
BEGIN:VEVENT
DTSTART;TZID=UTC:20231015T090000
DTEND;TZID=UTC:20231015T110000
DTSTAMP:20260423T211802
CREATED:20231014T032507Z
LAST-MODIFIED:20231015T155235Z
UID:10000120-1697360400-1697367600@pawsafe.org
SUMMARY:** CANCELLED ** NY Adoptions at Carmel Farmers Market
DESCRIPTION:This event is cancelled – sorry!  Email us for an appointment if you’d like to meet any of the puppies that were attending.
URL:https://pawsafe.org/event/ny-adoptions-at-carmel-farmers-market-2/
LOCATION:Mahopec Chamber Park\, 983 S Lake Blvd\, Mahopec\, NY\, 10541\, United States
CATEGORIES:NY Off-Site event
END:VEVENT
BEGIN:VEVENT
DTSTART;TZID=UTC:20231001T110000
DTEND;TZID=UTC:20231001T130000
DTSTAMP:20260423T211802
CREATED:20230928T223641Z
LAST-MODIFIED:20230929T184436Z
UID:10000111-1696158000-1696165200@pawsafe.org
SUMMARY:20th Anniversary Mahopec Street Festival (NY)
DESCRIPTION:Applications preferred but no appointment needed.  First come/first serve
URL:https://pawsafe.org/event/20th-anniversary-mahopec-street-festival-ny/
LOCATION:Mahopec Chamber Park\, 983 S Lake Blvd\, Mahopec\, NY\, 10541\, United States
CATEGORIES:NY Off-Site event
ORGANIZER;CN="Sharon":MAILTO:sharon@pawsafe.org
END:VEVENT
BEGIN:VEVENT
DTSTART;TZID=UTC:20230924T090000
DTEND;TZID=UTC:20230924T120000
DTSTAMP:20260423T211802
CREATED:20230916T152638Z
LAST-MODIFIED:20230922T182749Z
UID:10000110-1695546000-1695556800@pawsafe.org
SUMMARY:NY Adoptions at Carmel Farmers Market
DESCRIPTION:Applications preferred but no appointment needed.  First come/first serve
URL:https://pawsafe.org/event/ny-adoptions-at-carmel-farmers-market/
LOCATION:Mahopec Chamber Park\, 983 S Lake Blvd\, Mahopec\, NY\, 10541\, United States
CATEGORIES:NY Off-Site event
END:VEVENT
END:VCALENDAR