BEGIN:VCALENDAR
VERSION:2.0
PRODID:-//PawSafeAnimal Rescue - ECPv6.15.20//NONSGML v1.0//EN
CALSCALE:GREGORIAN
METHOD:PUBLISH
X-WR-CALNAME:PawSafeAnimal Rescue
X-ORIGINAL-URL:https://pawsafe.org
X-WR-CALDESC:Events for PawSafeAnimal Rescue
REFRESH-INTERVAL;VALUE=DURATION:PT1H
X-Robots-Tag:noindex
X-PUBLISHED-TTL:PT1H
BEGIN:VTIMEZONE
TZID:UTC
BEGIN:STANDARD
TZOFFSETFROM:+0000
TZOFFSETTO:+0000
TZNAME:UTC
DTSTART:20220101T000000
END:STANDARD
END:VTIMEZONE
BEGIN:VEVENT
DTSTART;TZID=UTC:20230723T120000
DTEND;TZID=UTC:20230723T160000
DTSTAMP:20260423T233537
CREATED:20230515T043246Z
LAST-MODIFIED:20230515T043246Z
UID:10000058-1690113600-1690128000@pawsafe.org
SUMMARY:Hudson Valley Renegades Game Adoption Event (NY)
DESCRIPTION:Applications preferred but no appointment needed.  First come/first serve
URL:https://pawsafe.org/event/hudson-valley-renegades-game-adoption-event-ny/
LOCATION:Renegades Game\, 1500 Route 9D\, Wappingers Falls\, NY\, 12590\, United States
CATEGORIES:NY Off-Site event
END:VEVENT
END:VCALENDAR