BEGIN:VCALENDAR
VERSION:2.0
PRODID:-//PawSafeAnimal Rescue - ECPv6.15.20//NONSGML v1.0//EN
CALSCALE:GREGORIAN
METHOD:PUBLISH
X-WR-CALNAME:PawSafeAnimal Rescue
X-ORIGINAL-URL:https://pawsafe.org
X-WR-CALDESC:Events for PawSafeAnimal Rescue
REFRESH-INTERVAL;VALUE=DURATION:PT1H
X-Robots-Tag:noindex
X-PUBLISHED-TTL:PT1H
BEGIN:VTIMEZONE
TZID:America/New_York
BEGIN:DAYLIGHT
TZOFFSETFROM:-0500
TZOFFSETTO:-0400
TZNAME:EDT
DTSTART:20240310T070000
END:DAYLIGHT
BEGIN:STANDARD
TZOFFSETFROM:-0400
TZOFFSETTO:-0500
TZNAME:EST
DTSTART:20241103T060000
END:STANDARD
BEGIN:DAYLIGHT
TZOFFSETFROM:-0500
TZOFFSETTO:-0400
TZNAME:EDT
DTSTART:20250309T070000
END:DAYLIGHT
BEGIN:STANDARD
TZOFFSETFROM:-0400
TZOFFSETTO:-0500
TZNAME:EST
DTSTART:20251102T060000
END:STANDARD
BEGIN:DAYLIGHT
TZOFFSETFROM:-0500
TZOFFSETTO:-0400
TZNAME:EDT
DTSTART:20260308T070000
END:DAYLIGHT
BEGIN:STANDARD
TZOFFSETFROM:-0400
TZOFFSETTO:-0500
TZNAME:EST
DTSTART:20261101T060000
END:STANDARD
BEGIN:DAYLIGHT
TZOFFSETFROM:-0500
TZOFFSETTO:-0400
TZNAME:EDT
DTSTART:20270314T070000
END:DAYLIGHT
BEGIN:STANDARD
TZOFFSETFROM:-0400
TZOFFSETTO:-0500
TZNAME:EST
DTSTART:20271107T060000
END:STANDARD
END:VTIMEZONE
BEGIN:VEVENT
DTSTART;TZID=America/New_York:20260418T100000
DTEND;TZID=America/New_York:20260418T120000
DTSTAMP:20260423T145002
CREATED:20260417T141748Z
LAST-MODIFIED:20260417T141748Z
UID:10001449-1776506400-1776513600@pawsafe.org
SUMMARY:NY Adoptions @ Tractor Supply Patterson
DESCRIPTION:Pups that are listed for the adoption event on this day cannot be met or adopted until this event. \n  \nPups that are listed in foster homes\, for example: NY Max (Foster in Pawling) – these dogs can be met outsdie of event days by emailing info@pawsafe.org to set up an appoinment at the foster home on weekdays/evenings and non event days.
URL:https://pawsafe.org/event/ny-adoptions-tractor-supply-patterson-19/
LOCATION:Tractor Supply Patterson NY\, 1253 Route 311\, Patterson\, NY\, 12563\, United States
CATEGORIES:NY Off-Site event
ATTACH;FMTTYPE=image/jpeg:https://pawsafe.org/wp-content/uploads/2025/02/Tractor-Supply-Patterson.jpg
END:VEVENT
BEGIN:VEVENT
DTSTART;TZID=America/New_York:20260328T100000
DTEND;TZID=America/New_York:20260328T120000
DTSTAMP:20260423T145002
CREATED:20260321T224211Z
LAST-MODIFIED:20260321T224211Z
UID:10001432-1774692000-1774699200@pawsafe.org
SUMMARY:NY Adoptions @ Tractor Supply Patterson
DESCRIPTION:Pups that are listed for the adoption event on this day cannot be met or adopted until this event. \n  \nPups that are listed in foster homes\, for example: NY Max (Foster in Pawling) – these dogs can be met outsdie of event days by emailing info@pawsafe.org to set up an appoinment at the foster home on weekdays/evenings and non event days.
URL:https://pawsafe.org/event/ny-adoptions-tractor-supply-patterson-18/
LOCATION:Tractor Supply Patterson NY\, 1253 Route 311\, Patterson\, NY\, 12563\, United States
CATEGORIES:NY Off-Site event
ATTACH;FMTTYPE=image/jpeg:https://pawsafe.org/wp-content/uploads/2025/02/Tractor-Supply-Patterson.jpg
END:VEVENT
BEGIN:VEVENT
DTSTART;TZID=America/New_York:20260321T100000
DTEND;TZID=America/New_York:20260321T120000
DTSTAMP:20260423T145002
CREATED:20260227T211102Z
LAST-MODIFIED:20260227T211102Z
UID:10001339-1774087200-1774094400@pawsafe.org
SUMMARY:NY Adoptions @ Tractor Supply Patterson
DESCRIPTION:Pups that are listed for the adoption event on this day cannot be met or adopted until this event. \n  \nPups that are listed in foster homes\, for example: NY Max (Foster in Pawling) – these dogs can be met outsdie of event days by emailing info@pawsafe.org to set up an appoinment at the foster home on weekdays/evenings and non event days.
URL:https://pawsafe.org/event/ny-adoptions-tractor-supply-patterson-17/
LOCATION:Tractor Supply Patterson NY\, 1253 Route 311\, Patterson\, NY\, 12563\, United States
CATEGORIES:NY Off-Site event
ATTACH;FMTTYPE=image/jpeg:https://pawsafe.org/wp-content/uploads/2025/02/Tractor-Supply-Patterson.jpg
END:VEVENT
BEGIN:VEVENT
DTSTART;TZID=America/New_York:20260307T100000
DTEND;TZID=America/New_York:20260307T120000
DTSTAMP:20260423T145002
CREATED:20260227T211026Z
LAST-MODIFIED:20260227T211026Z
UID:10001338-1772877600-1772884800@pawsafe.org
SUMMARY:NY Adoptions @ Tractor Supply Patterson
DESCRIPTION:Pups that are listed for the adoption event on this day cannot be met or adopted until this event. \n  \nPups that are listed in foster homes\, for example: NY Max (Foster in Pawling) – these dogs can be met outsdie of event days by emailing info@pawsafe.org to set up an appoinment at the foster home on weekdays/evenings and non event days.
URL:https://pawsafe.org/event/ny-adoptions-tractor-supply-patterson-16/
LOCATION:Tractor Supply Patterson NY\, 1253 Route 311\, Patterson\, NY\, 12563\, United States
CATEGORIES:NY Off-Site event
ATTACH;FMTTYPE=image/jpeg:https://pawsafe.org/wp-content/uploads/2025/02/Tractor-Supply-Patterson.jpg
END:VEVENT
BEGIN:VEVENT
DTSTART;TZID=America/New_York:20260228T110000
DTEND;TZID=America/New_York:20260228T130000
DTSTAMP:20260423T145002
CREATED:20260130T163209Z
LAST-MODIFIED:20260227T112102Z
UID:10001334-1772276400-1772283600@pawsafe.org
SUMMARY:NY Adoptions @ Tractor Supply Patterson *** Time Change
DESCRIPTION:Pups that are listed for the adoption event on this day cannot be met or adopted until this event. \n  \nPups that are listed in foster homes\, for example: NY Max (Foster in Pawling) – these dogs can be met outsdie of event days by emailing info@pawsafe.org to set up an appoinment at the foster home on weekdays/evenings and non event days.
URL:https://pawsafe.org/event/ny-adoptions-tractor-supply-patterson-14/
LOCATION:Tractor Supply Patterson NY\, 1253 Route 311\, Patterson\, NY\, 12563\, United States
CATEGORIES:NY Off-Site event
ATTACH;FMTTYPE=image/jpeg:https://pawsafe.org/wp-content/uploads/2025/02/Tractor-Supply-Patterson.jpg
END:VEVENT
BEGIN:VEVENT
DTSTART;TZID=America/New_York:20260221T100000
DTEND;TZID=America/New_York:20260221T120000
DTSTAMP:20260423T145002
CREATED:20260215T170306Z
LAST-MODIFIED:20260215T170306Z
UID:10001337-1771668000-1771675200@pawsafe.org
SUMMARY:NY Adoptions @ Tractor Supply Patterson
DESCRIPTION:Pups that are listed for the adoption event on this day cannot be met or adopted until this event. \n  \nPups that are listed in foster homes\, for example: NY Max (Foster in Pawling) – these dogs can be met outsdie of event days by emailing info@pawsafe.org to set up an appoinment at the foster home on weekdays/evenings and non event days.
URL:https://pawsafe.org/event/ny-adoptions-tractor-supply-patterson-15/
LOCATION:Tractor Supply Patterson NY\, 1253 Route 311\, Patterson\, NY\, 12563\, United States
CATEGORIES:NY Off-Site event
ATTACH;FMTTYPE=image/jpeg:https://pawsafe.org/wp-content/uploads/2025/02/Tractor-Supply-Patterson.jpg
END:VEVENT
BEGIN:VEVENT
DTSTART;TZID=America/New_York:20260214T110000
DTEND;TZID=America/New_York:20260214T130000
DTSTAMP:20260423T145002
CREATED:20260130T163143Z
LAST-MODIFIED:20260130T163143Z
UID:10001333-1771066800-1771074000@pawsafe.org
SUMMARY:NY Adoptions @ Tractor Supply Patterson
DESCRIPTION:Pups that are listed for the adoption event on this day cannot be met or adopted until this event. \n  \nPups that are listed in foster homes\, for example: NY Max (Foster in Pawling) – these dogs can be met outsdie of event days by emailing info@pawsafe.org to set up an appoinment at the foster home on weekdays/evenings and non event days.
URL:https://pawsafe.org/event/ny-adoptions-tractor-supply-patterson-13/
LOCATION:Tractor Supply Patterson NY\, 1253 Route 311\, Patterson\, NY\, 12563\, United States
CATEGORIES:NY Off-Site event
ATTACH;FMTTYPE=image/jpeg:https://pawsafe.org/wp-content/uploads/2025/02/Tractor-Supply-Patterson.jpg
END:VEVENT
BEGIN:VEVENT
DTSTART;TZID=America/New_York:20260124T110000
DTEND;TZID=America/New_York:20260124T130000
DTSTAMP:20260423T145002
CREATED:20260115T155234Z
LAST-MODIFIED:20260115T155234Z
UID:10001331-1769252400-1769259600@pawsafe.org
SUMMARY:NY Adoptions @ Tractor Supply Patterson
DESCRIPTION:
URL:https://pawsafe.org/event/ny-adoptions-tractor-supply-patterson-12/
LOCATION:Tractor Supply Patterson NY\, 1253 Route 311\, Patterson\, NY\, 12563\, United States
CATEGORIES:NY Off-Site event
ATTACH;FMTTYPE=image/jpeg:https://pawsafe.org/wp-content/uploads/2025/02/Tractor-Supply-Patterson.jpg
END:VEVENT
BEGIN:VEVENT
DTSTART;TZID=America/New_York:20260118T110000
DTEND;TZID=America/New_York:20260118T130000
DTSTAMP:20260423T145002
CREATED:20260103T121654Z
LAST-MODIFIED:20260118T131901Z
UID:10001330-1768734000-1768741200@pawsafe.org
SUMMARY:NY Adoptions @ Tractor Supply Patterson *** Event is on as planned!
DESCRIPTION:We are still having the event today from 11am to 1pm. Travel safely!
URL:https://pawsafe.org/event/ny-adoptions-tractor-supply-patterson-11/
LOCATION:Tractor Supply Patterson NY\, 1253 Route 311\, Patterson\, NY\, 12563\, United States
CATEGORIES:NY Off-Site event
ATTACH;FMTTYPE=image/jpeg:https://pawsafe.org/wp-content/uploads/2025/02/Tractor-Supply-Patterson.jpg
END:VEVENT
BEGIN:VEVENT
DTSTART;TZID=America/New_York:20260110T110000
DTEND;TZID=America/New_York:20260110T130000
DTSTAMP:20260423T145002
CREATED:20260103T121619Z
LAST-MODIFIED:20260103T121619Z
UID:10001329-1768042800-1768050000@pawsafe.org
SUMMARY:NY Adoptions @ Tractor Supply Patterson
DESCRIPTION:This event was originally at Camp Herrlich but the event at the camp was cancelled!
URL:https://pawsafe.org/event/ny-adoptions-tractor-supply-patterson-10/
LOCATION:Tractor Supply Patterson NY\, 1253 Route 311\, Patterson\, NY\, 12563\, United States
CATEGORIES:NY Off-Site event
ATTACH;FMTTYPE=image/jpeg:https://pawsafe.org/wp-content/uploads/2025/02/Tractor-Supply-Patterson.jpg
END:VEVENT
BEGIN:VEVENT
DTSTART;TZID=America/New_York:20251227T110000
DTEND;TZID=America/New_York:20251227T140000
DTSTAMP:20260423T145002
CREATED:20251217T162745Z
LAST-MODIFIED:20251227T133814Z
UID:10001287-1766833200-1766844000@pawsafe.org
SUMMARY:NY Adoptions @ Tractor Supply Patterson **** Start time change to 11am!
DESCRIPTION:The event is still on for today 12/27/25 with a start time of 11am. Take your time\, travel safely! 
URL:https://pawsafe.org/event/ny-adoptions-tractor-supply-patterson-9/
LOCATION:Tractor Supply Patterson NY\, 1253 Route 311\, Patterson\, NY\, 12563\, United States
CATEGORIES:NY Off-Site event
ATTACH;FMTTYPE=image/jpeg:https://pawsafe.org/wp-content/uploads/2025/02/Tractor-Supply-Patterson.jpg
END:VEVENT
BEGIN:VEVENT
DTSTART;TZID=America/New_York:20251220T100000
DTEND;TZID=America/New_York:20251220T130000
DTSTAMP:20260423T145002
CREATED:20251209T222043Z
LAST-MODIFIED:20251217T162717Z
UID:10001286-1766224800-1766235600@pawsafe.org
SUMMARY:NY Adoptions @ Tractor Supply Patterson w/ Santa
DESCRIPTION:
URL:https://pawsafe.org/event/ny-adoptions-tractor-supply-patterson-w-santa/
LOCATION:Tractor Supply Patterson NY\, 1253 Route 311\, Patterson\, NY\, 12563\, United States
CATEGORIES:NY Off-Site event
ATTACH;FMTTYPE=image/jpeg:https://pawsafe.org/wp-content/uploads/2025/02/Tractor-Supply-Patterson.jpg
END:VEVENT
BEGIN:VEVENT
DTSTART;TZID=America/New_York:20251213T100000
DTEND;TZID=America/New_York:20251213T130000
DTSTAMP:20260423T145002
CREATED:20251130T222128Z
LAST-MODIFIED:20251209T222005Z
UID:10001285-1765620000-1765630800@pawsafe.org
SUMMARY:NY Adoptions @ Tractor Supply Patterson
DESCRIPTION:This event was originally at Camp Herrlich but the event at the camp was cancelled!
URL:https://pawsafe.org/event/ny-adoptions-camp-herrlich-outdoor-holiday-market/
LOCATION:Tractor Supply Patterson NY\, 1253 Route 311\, Patterson\, NY\, 12563\, United States
CATEGORIES:NY Off-Site event
END:VEVENT
BEGIN:VEVENT
DTSTART;TZID=America/New_York:20250614T123000
DTEND;TZID=America/New_York:20250614T143000
DTSTAMP:20260423T145002
CREATED:20250604T170723Z
LAST-MODIFIED:20250605T154538Z
UID:10001163-1749904200-1749911400@pawsafe.org
SUMMARY:NY Adoptions @ Tractor Supply Patterson
DESCRIPTION:
URL:https://pawsafe.org/event/ny-adoptions-tractor-supply-patterson-8/
LOCATION:Tractor Supply Patterson NY\, 1253 Route 311\, Patterson\, NY\, 12563\, United States
CATEGORIES:NY Off-Site event
ATTACH;FMTTYPE=image/jpeg:https://pawsafe.org/wp-content/uploads/2025/06/Tractor-Supply-June-14.jpg
ORGANIZER;CN="Sharon":MAILTO:sharon@pawsafe.org
END:VEVENT
BEGIN:VEVENT
DTSTART;TZID=America/New_York:20250510T103000
DTEND;TZID=America/New_York:20250510T120000
DTSTAMP:20260423T145002
CREATED:20250503T220134Z
LAST-MODIFIED:20250503T220134Z
UID:10001157-1746873000-1746878400@pawsafe.org
SUMMARY:NY Adoptions @ Tractor Supply Patterson
DESCRIPTION:
URL:https://pawsafe.org/event/ny-adoptions-tractor-supply-patterson-7/
LOCATION:Tractor Supply Patterson NY\, 1253 Route 311\, Patterson\, NY\, 12563\, United States
CATEGORIES:NY Off-Site event
ATTACH;FMTTYPE=image/jpeg:https://pawsafe.org/wp-content/uploads/2025/02/Tractor-Supply-Patterson.jpg
END:VEVENT
BEGIN:VEVENT
DTSTART;TZID=America/New_York:20250412T110000
DTEND;TZID=America/New_York:20250412T123000
DTSTAMP:20260423T145002
CREATED:20250408T144252Z
LAST-MODIFIED:20250408T144252Z
UID:10001151-1744455600-1744461000@pawsafe.org
SUMMARY:NY Adoptions @ Tractor Supply Patterson
DESCRIPTION:
URL:https://pawsafe.org/event/ny-adoptions-tractor-supply-patterson-6/
LOCATION:Tractor Supply Patterson NY\, 1253 Route 311\, Patterson\, NY\, 12563\, United States
CATEGORIES:NY Off-Site event
ATTACH;FMTTYPE=image/jpeg:https://pawsafe.org/wp-content/uploads/2025/02/Tractor-Supply-Patterson.jpg
ORGANIZER;CN="Sharon":MAILTO:sharon@pawsafe.org
END:VEVENT
BEGIN:VEVENT
DTSTART;TZID=America/New_York:20250329T100000
DTEND;TZID=America/New_York:20250329T100000
DTSTAMP:20260423T145002
CREATED:20250316T151319Z
LAST-MODIFIED:20250316T151338Z
UID:10001019-1743242400-1743242400@pawsafe.org
SUMMARY:NY Adoptions @ Tractor Supply Patterson
DESCRIPTION:
URL:https://pawsafe.org/event/ny-adoptions-tractor-supply-patterson-5/
LOCATION:Tractor Supply Patterson NY\, 1253 Route 311\, Patterson\, NY\, 12563\, United States
CATEGORIES:NY Off-Site event
ATTACH;FMTTYPE=image/jpeg:https://pawsafe.org/wp-content/uploads/2025/02/Tractor-Supply-Patterson.jpg
ORGANIZER;CN="Sharon":MAILTO:sharon@pawsafe.org
END:VEVENT
BEGIN:VEVENT
DTSTART;TZID=America/New_York:20250322T100000
DTEND;TZID=America/New_York:20250322T100000
DTSTAMP:20260423T145002
CREATED:20250316T151157Z
LAST-MODIFIED:20250316T151253Z
UID:10001018-1742637600-1742637600@pawsafe.org
SUMMARY:NY Adoptions @ Tractor Supply Patterson
DESCRIPTION:
URL:https://pawsafe.org/event/ny-adoptions-tractor-supply-patterson-4/
LOCATION:Tractor Supply Patterson NY\, 1253 Route 311\, Patterson\, NY\, 12563\, United States
CATEGORIES:NY Off-Site event
ATTACH;FMTTYPE=image/jpeg:https://pawsafe.org/wp-content/uploads/2025/02/Tractor-Supply-Patterson.jpg
ORGANIZER;CN="Sharon":MAILTO:sharon@pawsafe.org
END:VEVENT
BEGIN:VEVENT
DTSTART;TZID=America/New_York:20250308T100000
DTEND;TZID=America/New_York:20250308T113000
DTSTAMP:20260423T145002
CREATED:20250226T161715Z
LAST-MODIFIED:20250226T161715Z
UID:10001011-1741428000-1741433400@pawsafe.org
SUMMARY:NY Adoptions @ Tractor Supply Patterson
DESCRIPTION:
URL:https://pawsafe.org/event/ny-adoptions-tractor-supply-patterson-3/
LOCATION:Tractor Supply Patterson NY\, 1253 Route 311\, Patterson\, NY\, 12563\, United States
CATEGORIES:NY Off-Site event
ATTACH;FMTTYPE=image/jpeg:https://pawsafe.org/wp-content/uploads/2025/02/Tractor-Supply-Patterson.jpg
ORGANIZER;CN="Sharon":MAILTO:sharon@pawsafe.org
END:VEVENT
BEGIN:VEVENT
DTSTART;TZID=America/New_York:20250215T100000
DTEND;TZID=America/New_York:20250215T120000
DTSTAMP:20260423T145002
CREATED:20250209T025857Z
LAST-MODIFIED:20250214T215800Z
UID:10001009-1739613600-1739620800@pawsafe.org
SUMMARY:NY Adoptions @ Tractor Supply - Patterson
DESCRIPTION:Always check here before heading out to be sure there are no changes to the event place or time due to inclement weather or unforseen circumstance.
URL:https://pawsafe.org/event/ny-adoptions-tractor-supply-patterson-2/
LOCATION:Tractor Supply Patterson NY\, 1253 Route 311\, Patterson\, NY\, 12563\, United States
CATEGORIES:NY Off-Site event
END:VEVENT
BEGIN:VEVENT
DTSTART;TZID=America/New_York:20250118T100000
DTEND;TZID=America/New_York:20250118T130000
DTSTAMP:20260423T145002
CREATED:20250104T145910Z
LAST-MODIFIED:20250104T150133Z
UID:10001007-1737194400-1737205200@pawsafe.org
SUMMARY:NY Adoptions @ Tractor Supply - Patterson
DESCRIPTION:Always check here before heading out to be sure there are no changes to the event place or time due to inclement weather or unforseen circumstance.
URL:https://pawsafe.org/event/ny-adoptions-tractor-supply-patterson/
LOCATION:Tractor Supply Patterson NY\, 1253 Route 311\, Patterson\, NY\, 12563\, United States
CATEGORIES:NY Off-Site event
ATTACH;FMTTYPE=image/jpeg:https://pawsafe.org/wp-content/uploads/2025/01/PS-Tractor-Supply-1-18.jpg
END:VEVENT
END:VCALENDAR