BEGIN:VCALENDAR
VERSION:2.0
PRODID:-//PawSafeAnimal Rescue - ECPv6.15.20//NONSGML v1.0//EN
CALSCALE:GREGORIAN
METHOD:PUBLISH
X-ORIGINAL-URL:https://pawsafe.org
X-WR-CALDESC:Events for PawSafeAnimal Rescue
REFRESH-INTERVAL;VALUE=DURATION:PT1H
X-Robots-Tag:noindex
X-PUBLISHED-TTL:PT1H
BEGIN:VTIMEZONE
TZID:UTC
BEGIN:STANDARD
TZOFFSETFROM:+0000
TZOFFSETTO:+0000
TZNAME:UTC
DTSTART:20220101T000000
END:STANDARD
END:VTIMEZONE
BEGIN:VEVENT
DTSTART;TZID=UTC:20230806T100000
DTEND;TZID=UTC:20230806T123000
DTSTAMP:20260423T222911
CREATED:20230730T185712Z
LAST-MODIFIED:20230730T185741Z
UID:10000083-1691316000-1691325000@pawsafe.org
SUMMARY:Verplanck Farmers Market Adoption Event (NY)
DESCRIPTION:Applications preferred but no appointment needed.  First come/first serve
URL:https://pawsafe.org/event/verplanck-farmers-market-adoption-event-ny/
LOCATION:Verplanck Farmers Market\, 45 Riverview Ave\, Verplanck\, NY\, 10596\, United States
CATEGORIES:NY Off-Site event
ORGANIZER;CN="Sharon":MAILTO:sharon@pawsafe.org
END:VEVENT
END:VCALENDAR