BEGIN:VCALENDAR
VERSION:2.0
PRODID:-//PawSafeAnimal Rescue - ECPv6.15.20//NONSGML v1.0//EN
CALSCALE:GREGORIAN
METHOD:PUBLISH
X-WR-CALNAME:PawSafeAnimal Rescue
X-ORIGINAL-URL:https://pawsafe.org
X-WR-CALDESC:Events for PawSafeAnimal Rescue
REFRESH-INTERVAL;VALUE=DURATION:PT1H
X-Robots-Tag:noindex
X-PUBLISHED-TTL:PT1H
BEGIN:VTIMEZONE
TZID:UTC
BEGIN:STANDARD
TZOFFSETFROM:+0000
TZOFFSETTO:+0000
TZNAME:UTC
DTSTART:20220101T000000
END:STANDARD
END:VTIMEZONE
BEGIN:VEVENT
DTSTART;TZID=UTC:20230730T130000
DTEND;TZID=UTC:20230730T160000
DTSTAMP:20260424T002749
CREATED:20230730T185829Z
LAST-MODIFIED:20230730T185938Z
UID:10000084-1690722000-1690732800@pawsafe.org
SUMMARY:Adoptions - Putnam CT Verizon
DESCRIPTION:Applications requested but not required!
URL:https://pawsafe.org/event/adoptions-putnam-ct-verizon-2/
LOCATION:Wireless Zone\, 207 Kennedy Drive\, Putnam\, CT\, 06260\, United States
CATEGORIES:CT Off-site event
END:VEVENT
BEGIN:VEVENT
DTSTART;TZID=UTC:20230715T130000
DTEND;TZID=UTC:20230715T160000
DTSTAMP:20260424T002749
CREATED:20230715T183651Z
LAST-MODIFIED:20230715T183651Z
UID:10000082-1689426000-1689436800@pawsafe.org
SUMMARY:Adoptions - Putnam CT Verizon
DESCRIPTION:Applications requested but not required!
URL:https://pawsafe.org/event/adoptions-putnam-ct-verizon/
LOCATION:Wireless Zone\, 207 Kennedy Drive\, Putnam\, CT\, 06260\, United States
CATEGORIES:CT Off-site event
END:VEVENT
BEGIN:VEVENT
DTSTART;TZID=UTC:20230513T130000
DTEND;TZID=UTC:20230513T160000
DTSTAMP:20260424T002749
CREATED:20230410T200111Z
LAST-MODIFIED:20230410T200150Z
UID:10000042-1683982800-1683993600@pawsafe.org
SUMMARY:Wireless Zone Putnam (CT) Adoptions!
DESCRIPTION:Come and meet some of our puppies for adoption!  Applications preferred but no appointment needed.  First come/first serve
URL:https://pawsafe.org/event/wireless-zone-putnam-ct-meet-and-greet/
LOCATION:Wireless Zone\, 207 Kennedy Drive\, Putnam\, CT\, 06260\, United States
CATEGORIES:CT Off-site event
END:VEVENT
END:VCALENDAR